BEGIN:VCALENDAR
VERSION:2.0
PRODID:SportzSoftTeamWeb
TZ:+00
BEGIN:VEVENT
UID:E49593@sportzsoft.com
DTSTART:20220408T020000Z
DTEND:20220408T040000Z
SUMMARY:Event #49593 Crude vs. Rebels
LOCATION:DCC
END:VEVENT
BEGIN:VEVENT
UID:G113228@sportzsoft.com
DTSTART:20220408T020000Z
DTEND:20220408T040000Z
SUMMARY:Game #EX-011 vs Rebels
LOCATION:Dow Centennial Centre
END:VEVENT
BEGIN:VEVENT
UID:P100899@sportzsoft.com
DTSTART:20220412T010000Z
DTEND:20220412T023000Z
SUMMARY:Practice #100899 (Crude )
LOCATION:Servus Credit Union Place - Tudor Glen Field House
END:VEVENT
BEGIN:VEVENT
UID:P100900@sportzsoft.com
DTSTART:20220414T010000Z
DTEND:20220414T023000Z
SUMMARY:Practice #100900 (Crude )
LOCATION:Servus Credit Union Place - Bright Dental 
END:VEVENT
BEGIN:VEVENT
UID:P100901@sportzsoft.com
DTSTART:20220419T010000Z
DTEND:20220419T023000Z
SUMMARY:Practice #100901 (Crude )
LOCATION:Servus Credit Union Place - Go Auto
END:VEVENT
BEGIN:VEVENT
UID:P100897@sportzsoft.com
DTSTART:20220421T010000Z
DTEND:20220421T023000Z
SUMMARY:Practice #100897 (Crude )
LOCATION:Servus Credit Union Place - Go Auto
END:VEVENT
BEGIN:VEVENT
UID:E49594@sportzsoft.com
DTSTART:20220422T020000Z
DTEND:20220422T040000Z
SUMMARY:Event #49594 Crude vs. Warriors
LOCATION:Bill Hunter Arena
END:VEVENT
BEGIN:VEVENT
UID:G113231@sportzsoft.com
DTSTART:20220422T020000Z
DTEND:20220422T040000Z
SUMMARY:Game #EX-015 vs Warriors
LOCATION:Bill Hunter Arena formerly Jasper Place
END:VEVENT
BEGIN:VEVENT
UID:P100902@sportzsoft.com
DTSTART:20220426T010000Z
DTEND:20220426T023000Z
SUMMARY:Practice #100902 (Crude )
LOCATION:Jerome Iginla (Akinsdale) Arena
END:VEVENT
BEGIN:VEVENT
UID:P100915@sportzsoft.com
DTSTART:20220428T010000Z
DTEND:20220428T023000Z
SUMMARY:Practice #100915 (Crude )
LOCATION:Jerome Iginla (Akinsdale) Arena
END:VEVENT
BEGIN:VEVENT
UID:G111905@sportzsoft.com
DTSTART:20220501T020000Z
DTEND:20220501T040000Z
SUMMARY:Game #J1-007 vs J Mounties
LOCATION:Jarome Iginla Arena
END:VEVENT
BEGIN:VEVENT
UID:G112013@sportzsoft.com
DTSTART:20220501T200000Z
DTEND:20220501T220000Z
SUMMARY:Game #J1-010 vs Rebels
LOCATION:Jubilee Recreation Centre
END:VEVENT
BEGIN:VEVENT
UID:P100904@sportzsoft.com
DTSTART:20220503T010000Z
DTEND:20220503T023000Z
SUMMARY:Practice #100904 (Crude )
LOCATION:Jerome Iginla (Akinsdale) Arena
END:VEVENT
BEGIN:VEVENT
UID:P100916@sportzsoft.com
DTSTART:20220505T010000Z
DTEND:20220505T023000Z
SUMMARY:Practice #100916 (Crude )
LOCATION:Jerome Iginla (Akinsdale) Arena
END:VEVENT
BEGIN:VEVENT
UID:G111983@sportzsoft.com
DTSTART:20220507T020000Z
DTEND:20220507T040000Z
SUMMARY:Game #J1-015 vs Kings
LOCATION:Jarome Iginla Arena
END:VEVENT
BEGIN:VEVENT
UID:G111945@sportzsoft.com
DTSTART:20220508T020000Z
DTEND:20220508T040000Z
SUMMARY:Game #J1-021 vs Chill
LOCATION:Jarome Iginla Arena
END:VEVENT
BEGIN:VEVENT
UID:P100905@sportzsoft.com
DTSTART:20220510T010000Z
DTEND:20220510T023000Z
SUMMARY:Practice #100905 (Crude )
LOCATION:Jerome Iginla (Akinsdale) Arena
END:VEVENT
BEGIN:VEVENT
UID:P100917@sportzsoft.com
DTSTART:20220512T010000Z
DTEND:20220512T023000Z
SUMMARY:Practice #100917 (Crude )
LOCATION:Jerome Iginla (Akinsdale) Arena
END:VEVENT
BEGIN:VEVENT
UID:G112009@sportzsoft.com
DTSTART:20220514T000000Z
DTEND:20220514T020000Z
SUMMARY:Game #J1-028 vs Blizz
LOCATION:Maples Arena
END:VEVENT
BEGIN:VEVENT
UID:G112010@sportzsoft.com
DTSTART:20220514T170000Z
DTEND:20220514T190000Z
SUMMARY:Game #J1-033 vs Blizz
LOCATION:Maples Arena
END:VEVENT
BEGIN:VEVENT
UID:G112008@sportzsoft.com
DTSTART:20220515T000000Z
DTEND:20220515T020000Z
SUMMARY:Game #J1-037 vs Blizz
LOCATION:Maples Arena
END:VEVENT
BEGIN:VEVENT
UID:P100906@sportzsoft.com
DTSTART:20220517T010000Z
DTEND:20220517T023000Z
SUMMARY:Practice #100906 (Crude )
LOCATION:Jerome Iginla (Akinsdale) Arena
END:VEVENT
BEGIN:VEVENT
UID:P100918@sportzsoft.com
DTSTART:20220519T010000Z
DTEND:20220519T023000Z
SUMMARY:Practice #100918 (Crude )
LOCATION:Jerome Iginla (Akinsdale) Arena
END:VEVENT
BEGIN:VEVENT
UID:G112015@sportzsoft.com
DTSTART:20220520T010000Z
DTEND:20220520T030000Z
SUMMARY:Game #J1-046 vs Outlaws
LOCATION:Ken Nichol Regional Recreation Centre Arena 1
END:VEVENT
BEGIN:VEVENT
UID:P100907@sportzsoft.com
DTSTART:20220524T010000Z
DTEND:20220524T023000Z
SUMMARY:Practice #100907 (Crude )
LOCATION:Jerome Iginla (Akinsdale) Arena
END:VEVENT
BEGIN:VEVENT
UID:G112011@sportzsoft.com
DTSTART:20220525T023000Z
DTEND:20220525T043000Z
SUMMARY:Game #J1-051 vs Warriors
LOCATION:Bill Hunter Arena formerly Jasper Place
END:VEVENT
BEGIN:VEVENT
UID:P100919@sportzsoft.com
DTSTART:20220526T010000Z
DTEND:20220526T023000Z
SUMMARY:Practice #100919 (Crude )
LOCATION:Jerome Iginla (Akinsdale) Arena
END:VEVENT
BEGIN:VEVENT
UID:G112014@sportzsoft.com
DTSTART:20220528T023000Z
DTEND:20220528T043000Z
SUMMARY:Game #J1-054 vs Rebels
LOCATION:Jubilee Recreation Centre
END:VEVENT
BEGIN:VEVENT
UID:P100908@sportzsoft.com
DTSTART:20220531T010000Z
DTEND:20220531T023000Z
SUMMARY:Practice #100908 (Crude )
LOCATION:Jerome Iginla (Akinsdale) Arena
END:VEVENT
BEGIN:VEVENT
UID:G112021@sportzsoft.com
DTSTART:20220601T030000Z
DTEND:20220601T050000Z
SUMMARY:Game #J1-063 vs Warriors
LOCATION:Jarome Iginla Arena
END:VEVENT
BEGIN:VEVENT
UID:P100920@sportzsoft.com
DTSTART:20220602T010000Z
DTEND:20220602T023000Z
SUMMARY:Practice #100920 (Crude )
LOCATION:Jerome Iginla (Akinsdale) Arena
END:VEVENT
BEGIN:VEVENT
UID:P100909@sportzsoft.com
DTSTART:20220607T010000Z
DTEND:20220607T023000Z
SUMMARY:Practice #100909 (Crude )
LOCATION:Jerome Iginla (Akinsdale) Arena
END:VEVENT
BEGIN:VEVENT
UID:P100921@sportzsoft.com
DTSTART:20220609T010000Z
DTEND:20220609T023000Z
SUMMARY:Practice #100921 (Crude )
LOCATION:Jerome Iginla (Akinsdale) Arena
END:VEVENT
BEGIN:VEVENT
UID:G112012@sportzsoft.com
DTSTART:20220611T023000Z
DTEND:20220611T043000Z
SUMMARY:Game #J1-081 vs Warriors
LOCATION:Bill Hunter Arena formerly Jasper Place
END:VEVENT
BEGIN:VEVENT
UID:P100910@sportzsoft.com
DTSTART:20220614T010000Z
DTEND:20220614T023000Z
SUMMARY:Practice #100910 (Crude )
LOCATION:Jerome Iginla (Akinsdale) Arena
END:VEVENT
BEGIN:VEVENT
UID:P100922@sportzsoft.com
DTSTART:20220616T010000Z
DTEND:20220616T023000Z
SUMMARY:Practice #100922 (Crude )
LOCATION:Jerome Iginla (Akinsdale) Arena
END:VEVENT
BEGIN:VEVENT
UID:G111915@sportzsoft.com
DTSTART:20220619T200000Z
DTEND:20220619T220000Z
SUMMARY:Game #J1-101 vs Shamrocks
LOCATION:Jarome Iginla Arena
END:VEVENT
BEGIN:VEVENT
UID:P100911@sportzsoft.com
DTSTART:20220621T010000Z
DTEND:20220621T023000Z
SUMMARY:Practice #100911 (Crude )
LOCATION:Jerome Iginla (Akinsdale) Arena
END:VEVENT
BEGIN:VEVENT
UID:G112016@sportzsoft.com
DTSTART:20220622T010000Z
DTEND:20220622T030000Z
SUMMARY:Game #J1-104 vs Outlaws
LOCATION:Ken Nichol Regional Recreation Centre Arena 1
END:VEVENT
BEGIN:VEVENT
UID:P100923@sportzsoft.com
DTSTART:20220623T010000Z
DTEND:20220623T023000Z
SUMMARY:Practice #100923 (Crude )
LOCATION:Jerome Iginla (Akinsdale) Arena
END:VEVENT
BEGIN:VEVENT
UID:G112036@sportzsoft.com
DTSTART:20220625T230000Z
DTEND:20220626T010000Z
SUMMARY:Game #J1-111 vs Rebels
LOCATION:Jarome Iginla Arena
END:VEVENT
BEGIN:VEVENT
UID:G111976@sportzsoft.com
DTSTART:20220626T200000Z
DTEND:20220626T220000Z
SUMMARY:Game #J1-117 vs Silvertips
LOCATION:Jarome Iginla Arena
END:VEVENT
BEGIN:VEVENT
UID:P100912@sportzsoft.com
DTSTART:20220628T010000Z
DTEND:20220628T023000Z
SUMMARY:Practice #100912 (Crude )
LOCATION:Jerome Iginla (Akinsdale) Arena
END:VEVENT
BEGIN:VEVENT
UID:P100924@sportzsoft.com
DTSTART:20220630T010000Z
DTEND:20220630T023000Z
SUMMARY:Practice #100924 (Crude )
LOCATION:Jerome Iginla (Akinsdale) Arena
END:VEVENT
BEGIN:VEVENT
UID:G112043@sportzsoft.com
DTSTART:20220702T200000Z
DTEND:20220702T220000Z
SUMMARY:Game #J1-124 vs Outlaws
LOCATION:Jarome Iginla Arena
END:VEVENT
BEGIN:VEVENT
UID:P100913@sportzsoft.com
DTSTART:20220705T010000Z
DTEND:20220705T023000Z
SUMMARY:Practice #100913 (Crude )
LOCATION:Jerome Iginla (Akinsdale) Arena
END:VEVENT
BEGIN:VEVENT
UID:G112022@sportzsoft.com
DTSTART:20220706T020000Z
DTEND:20220706T040000Z
SUMMARY:Game #J1-135 vs Warriors
LOCATION:Jarome Iginla Arena
END:VEVENT
BEGIN:VEVENT
UID:P100925@sportzsoft.com
DTSTART:20220707T010000Z
DTEND:20220707T023000Z
SUMMARY:Practice #100925 (Crude )
LOCATION:Jerome Iginla (Akinsdale) Arena
END:VEVENT
BEGIN:VEVENT
UID:G112007@sportzsoft.com
DTSTART:20220710T010000Z
DTEND:20220710T030000Z
SUMMARY:Game #J1-144 vs Mavericks
LOCATION:Olds Sports Complex Main
END:VEVENT
BEGIN:VEVENT
UID:G111964@sportzsoft.com
DTSTART:20220710T200000Z
DTEND:20220710T220000Z
SUMMARY:Game #J1-150 vs Rampage
LOCATION:Jarome Iginla Arena
END:VEVENT
BEGIN:VEVENT
UID:P100914@sportzsoft.com
DTSTART:20220712T010000Z
DTEND:20220712T023000Z
SUMMARY:Practice #100914 (Crude )
LOCATION:Jerome Iginla (Akinsdale) Arena
END:VEVENT
BEGIN:VEVENT
UID:P100926@sportzsoft.com
DTSTART:20220714T010000Z
DTEND:20220714T023000Z
SUMMARY:Practice #100926 (Crude )
LOCATION:Jerome Iginla (Akinsdale) Arena
END:VEVENT
BEGIN:VEVENT
UID:G114369@sportzsoft.com
DTSTART:20220715T013000Z
DTEND:20220715T033000Z
SUMMARY:Game #T1NR1-01 vs Rebels
LOCATION:Jarome Iginla Arena
END:VEVENT
BEGIN:VEVENT
UID:G114370@sportzsoft.com
DTSTART:20220717T010000Z
DTEND:20220717T030000Z
SUMMARY:Game #T1NR1-02 vs Rebels
LOCATION:Jubilee Recreation Centre
END:VEVENT
BEGIN:VEVENT
UID:G114371@sportzsoft.com
DTSTART:20220717T230000Z
DTEND:20220718T010000Z
SUMMARY:Game #T1NR1-03 vs Rebels (cancelled)
LOCATION:Jarome Iginla Arena
END:VEVENT
BEGIN:VEVENT
UID:P104310@sportzsoft.com
DTSTART:20220719T010000Z
DTEND:20220719T023000Z
SUMMARY:Practice #104310 (Crude )
LOCATION:Jarome Iginla Arena
END:VEVENT
BEGIN:VEVENT
UID:P104311@sportzsoft.com
DTSTART:20220721T010000Z
DTEND:20220721T023000Z
SUMMARY:Practice #104311 (Crude )
LOCATION:Jarome Iginla Arena
END:VEVENT
BEGIN:VEVENT
UID:E50426@sportzsoft.com
DTSTART:20220928T060000Z
DTEND:20220928T060000Z
SUMMARY:Event #50426 2022/2023 Winter LAX
LOCATION:
END:VEVENT
END:VCALENDAR
