BEGIN:VCALENDAR
VERSION:2.0
PRODID:SportzSoftTeamWeb
TZ:+00
BEGIN:VEVENT
UID:G113243@sportzsoft.com
DTSTART:20220423T200000Z
DTEND:20220423T220000Z
SUMMARY:Game #JL-001 vs Jr Titans
LOCATION:Ardrossan Recreation Complex East
END:VEVENT
BEGIN:VEVENT
UID:G113246@sportzsoft.com
DTSTART:20220430T203000Z
DTEND:20220430T223000Z
SUMMARY:Game #JL-005 vs Cougars
LOCATION:Kinex- Red Deer
END:VEVENT
BEGIN:VEVENT
UID:G113245@sportzsoft.com
DTSTART:20220501T203000Z
DTEND:20220501T223000Z
SUMMARY:Game #JL-009 vs Sr Titans
LOCATION:Ardrossan Recreation Complex East
END:VEVENT
BEGIN:VEVENT
UID:G113233@sportzsoft.com
DTSTART:20220508T203000Z
DTEND:20220508T223000Z
SUMMARY:Game #JL-014 vs Cardinals
LOCATION:Kinex- Red Deer
END:VEVENT
BEGIN:VEVENT
UID:G113247@sportzsoft.com
DTSTART:20220515T000000Z
DTEND:20220515T020000Z
SUMMARY:Game #JL-021 vs Cougars
LOCATION:Stu Peppard
END:VEVENT
BEGIN:VEVENT
UID:G113242@sportzsoft.com
DTSTART:20220515T203000Z
DTEND:20220515T223000Z
SUMMARY:Game #JL-023 vs Jr Titans
LOCATION:Kinex- Red Deer
END:VEVENT
BEGIN:VEVENT
UID:G113235@sportzsoft.com
DTSTART:20220528T203000Z
DTEND:20220528T223000Z
SUMMARY:Game #JL-028 vs Saints
LOCATION:Bill Hunter Arena formerly Jasper Place
END:VEVENT
BEGIN:VEVENT
UID:G113240@sportzsoft.com
DTSTART:20220529T203000Z
DTEND:20220529T223000Z
SUMMARY:Game #JL-034 vs L Tips
LOCATION:Kinex- Red Deer
END:VEVENT
BEGIN:VEVENT
UID:G113239@sportzsoft.com
DTSTART:20220604T020000Z
DTEND:20220604T040000Z
SUMMARY:Game #JL-039 vs Ladies Raiders
LOCATION:Okotoks Recreation Centre - Murray Arena
END:VEVENT
BEGIN:VEVENT
UID:G113236@sportzsoft.com
DTSTART:20220605T203000Z
DTEND:20220605T223000Z
SUMMARY:Game #JL-040 vs Drillers
LOCATION:Kinex- Red Deer
END:VEVENT
BEGIN:VEVENT
UID:G113232@sportzsoft.com
DTSTART:20220611T020000Z
DTEND:20220611T040000Z
SUMMARY:Game #JL-045 vs Cardinals
LOCATION:Brentwood Sportsplex
END:VEVENT
BEGIN:VEVENT
UID:G113244@sportzsoft.com
DTSTART:20220612T203000Z
DTEND:20220612T223000Z
SUMMARY:Game #JL-049 vs Sr Titans
LOCATION:Kinex- Red Deer
END:VEVENT
BEGIN:VEVENT
UID:G113234@sportzsoft.com
DTSTART:20220618T023000Z
DTEND:20220618T043000Z
SUMMARY:Game #JL-053 vs Saints
LOCATION:Kinex- Red Deer
END:VEVENT
BEGIN:VEVENT
UID:G113241@sportzsoft.com
DTSTART:20220618T203000Z
DTEND:20220618T223000Z
SUMMARY:Game #JL-054 vs L Tips
LOCATION:Plainsmen Arena
END:VEVENT
BEGIN:VEVENT
UID:G113237@sportzsoft.com
DTSTART:20220625T200000Z
DTEND:20220625T220000Z
SUMMARY:Game #JL-064 vs Drillers
LOCATION:Jarome Iginla Arena
END:VEVENT
BEGIN:VEVENT
UID:G113238@sportzsoft.com
DTSTART:20220626T203000Z
DTEND:20220626T223000Z
SUMMARY:Game #JL-065 vs Ladies Raiders
LOCATION:Kinex- Red Deer
END:VEVENT
END:VCALENDAR
