BEGIN:VCALENDAR
VERSION:2.0
PRODID:SportzSoftTeamWeb
TZ:+00
BEGIN:VEVENT
UID:P87857@sportzsoft.com
DTSTART:20200913T150000Z
DTEND:20200913T160000Z
SUMMARY:Practice #P16A008 (SC3 Invasion )
LOCATION:FCA Gold
END:VEVENT
BEGIN:VEVENT
UID:P87748@sportzsoft.com
DTSTART:20200920T011500Z
DTEND:20200920T021500Z
SUMMARY:Practice #P16A004 (SC3 Invasion )
LOCATION:Optimist
END:VEVENT
BEGIN:VEVENT
UID:P87772@sportzsoft.com
DTSTART:20200920T150000Z
DTEND:20200920T160000Z
SUMMARY:Practice #P16A006 (SC3 Invasion )
LOCATION:FCA Gold
END:VEVENT
BEGIN:VEVENT
UID:P88402@sportzsoft.com
DTSTART:20200924T233000Z
DTEND:20200925T003000Z
SUMMARY:Practice #P16B014 (SC3 Invasion )
LOCATION:FCA Red
END:VEVENT
BEGIN:VEVENT
UID:P88437@sportzsoft.com
DTSTART:20200926T180000Z
DTEND:20200926T190000Z
SUMMARY:Practice #P16B017 (SC3 Invasion )
LOCATION:Norma Bush
END:VEVENT
BEGIN:VEVENT
UID:P88457@sportzsoft.com
DTSTART:20200927T231500Z
DTEND:20200928T001500Z
SUMMARY:Practice #P16B020 (SC3 Invasion )
LOCATION:FCA Gold
END:VEVENT
BEGIN:VEVENT
UID:P88476@sportzsoft.com
DTSTART:20201001T020000Z
DTEND:20201001T030000Z
SUMMARY:Practice #P16B024 (SC3 Invasion )
LOCATION:Optimist
END:VEVENT
BEGIN:VEVENT
UID:P88513@sportzsoft.com
DTSTART:20201003T171500Z
DTEND:20201003T183000Z
SUMMARY:Practice #P16B028 (SC3 Invasion )
LOCATION:Seton - Rink A
END:VEVENT
BEGIN:VEVENT
UID:P88538@sportzsoft.com
DTSTART:20201004T154500Z
DTEND:20201004T164500Z
SUMMARY:Practice #P16B029 (SC3 Invasion )
LOCATION:Rose Kohn
END:VEVENT
BEGIN:VEVENT
UID:P88835@sportzsoft.com
DTSTART:20201007T021500Z
DTEND:20201007T031500Z
SUMMARY:Practice #P16B031 (SC3 Invasion )
LOCATION:FCA Gold
END:VEVENT
BEGIN:VEVENT
UID:P88861@sportzsoft.com
DTSTART:20201010T011500Z
DTEND:20201010T021500Z
SUMMARY:Practice #P16B035 (SC3 Invasion )
LOCATION:Rocky Ridge
END:VEVENT
BEGIN:VEVENT
UID:P88867@sportzsoft.com
DTSTART:20201010T154500Z
DTEND:20201010T164500Z
SUMMARY:Practice #P16B037 (SC3 Invasion )
LOCATION:FCA Blue
END:VEVENT
BEGIN:VEVENT
UID:P88891@sportzsoft.com
DTSTART:20201011T181500Z
DTEND:20201011T191500Z
SUMMARY:Practice #P16B040 (SC3 Invasion )
LOCATION:Norma Bush
END:VEVENT
BEGIN:VEVENT
UID:G108893@sportzsoft.com
DTSTART:20201015T013000Z
DTEND:20201015T024500Z
SUMMARY:Game #U16B011 vs SC2 Bullets
LOCATION:FCA Blue
END:VEVENT
BEGIN:VEVENT
UID:P89708@sportzsoft.com
DTSTART:20201017T193000Z
DTEND:20201017T204500Z
SUMMARY:Practice #P16B042 (SC3 Invasion )
LOCATION:Rocky Ridge
END:VEVENT
BEGIN:VEVENT
UID:G108896@sportzsoft.com
DTSTART:20201018T170000Z
DTEND:20201018T181500Z
SUMMARY:Game #U16B014 vs SC1 Surge
LOCATION:Rose Kohn
END:VEVENT
BEGIN:VEVENT
UID:P90005@sportzsoft.com
DTSTART:20201020T011500Z
DTEND:20201020T023000Z
SUMMARY:Practice #P16B044 (SC3 Invasion )
LOCATION:Joe Kryczka
END:VEVENT
BEGIN:VEVENT
UID:G108912@sportzsoft.com
DTSTART:20201022T013000Z
DTEND:20201022T024500Z
SUMMARY:Game #U16B030 vs SC2 Bullets
LOCATION:FCA Blue
END:VEVENT
BEGIN:VEVENT
UID:G108906@sportzsoft.com
DTSTART:20201023T011500Z
DTEND:20201023T023000Z
SUMMARY:Game #U16B024 vs SC1 Surge
LOCATION:Seton - Rink A
END:VEVENT
BEGIN:VEVENT
UID:P90010@sportzsoft.com
DTSTART:20201024T154500Z
DTEND:20201024T164500Z
SUMMARY:Practice #P16B047 (SC3 Invasion )
LOCATION:FCA Blue
END:VEVENT
BEGIN:VEVENT
UID:P90179@sportzsoft.com
DTSTART:20201027T011500Z
DTEND:20201027T023000Z
SUMMARY:Practice #P16B065 (SC3 Invasion )
LOCATION:Joe Kryczka
END:VEVENT
BEGIN:VEVENT
UID:P90175@sportzsoft.com
DTSTART:20201029T030000Z
DTEND:20201029T040000Z
SUMMARY:Practice #P16B064 (SC3 Invasion )
LOCATION:Winsport D (COP)
END:VEVENT
BEGIN:VEVENT
UID:P90132@sportzsoft.com
DTSTART:20201102T030000Z
DTEND:20201102T040000Z
SUMMARY:Practice #P16B060 (SC3 Invasion )
LOCATION:West Hillhurst
END:VEVENT
BEGIN:VEVENT
UID:P90102@sportzsoft.com
DTSTART:20201104T020000Z
DTEND:20201104T030000Z
SUMMARY:Practice #P16B055 (SC3 Invasion )
LOCATION:Joe Kryczka
END:VEVENT
BEGIN:VEVENT
UID:P90117@sportzsoft.com
DTSTART:20201107T201500Z
DTEND:20201107T211500Z
SUMMARY:Practice #P16B056 (SC3 Invasion )
LOCATION:Norma Bush
END:VEVENT
BEGIN:VEVENT
UID:P90092@sportzsoft.com
DTSTART:20201108T191500Z
DTEND:20201108T201500Z
SUMMARY:Practice #P16B052 (SC3 Invasion )
LOCATION:Norma Bush
END:VEVENT
BEGIN:VEVENT
UID:G109189@sportzsoft.com
DTSTART:20201111T030000Z
DTEND:20201111T041500Z
SUMMARY:Game #U16B041 vs NW3 Venom
LOCATION:Triwood
END:VEVENT
BEGIN:VEVENT
UID:G109191@sportzsoft.com
DTSTART:20201115T031500Z
DTEND:20201115T043000Z
SUMMARY:Game #U16B043 vs STR1 Ice (cancelled)
LOCATION:Village Square 2
END:VEVENT
BEGIN:VEVENT
UID:P90430@sportzsoft.com
DTSTART:20201115T191500Z
DTEND:20201115T201500Z
SUMMARY:Practice #P16B068 (SC3 Invasion )
LOCATION:Norma Bush
END:VEVENT
BEGIN:VEVENT
UID:P90815@sportzsoft.com
DTSTART:20201119T040000Z
DTEND:20201119T050000Z
SUMMARY:Practice #P16B074 (SC3 Invasion )
LOCATION:Winsport D (COP)
END:VEVENT
BEGIN:VEVENT
UID:G109206@sportzsoft.com
DTSTART:20201120T021500Z
DTEND:20201120T033000Z
SUMMARY:Game #U16B058 vs NW3 Venom (cancelled)
LOCATION:Seton - Rink A
END:VEVENT
BEGIN:VEVENT
UID:G109208@sportzsoft.com
DTSTART:20201122T001500Z
DTEND:20201122T013000Z
SUMMARY:Game #U16B060 vs STR1 Ice (cancelled)
LOCATION:Strathmore
END:VEVENT
END:VCALENDAR
