BEGIN:VCALENDAR
VERSION:2.0
PRODID:SportzSoftTeamWeb
TZ:+00
BEGIN:VEVENT
UID:P72831@sportzsoft.com
DTSTART:20190410T010000Z
DTEND:20190410T023000Z
SUMMARY:Practice #PSL-008 (Cougars )
LOCATION:Stu Peppard
END:VEVENT
BEGIN:VEVENT
UID:P72914@sportzsoft.com
DTSTART:20190412T010000Z
DTEND:20190412T023000Z
SUMMARY:Practice #PSL-012 (Cougars )
LOCATION:Stu Peppard
END:VEVENT
BEGIN:VEVENT
UID:P72832@sportzsoft.com
DTSTART:20190417T010000Z
DTEND:20190417T023000Z
SUMMARY:Practice #PSL-008 (Cougars )
LOCATION:Stu Peppard
END:VEVENT
BEGIN:VEVENT
UID:P72912@sportzsoft.com
DTSTART:20190419T000000Z
DTEND:20190419T010000Z
SUMMARY:Practice #PSL-010 (Cougars )
LOCATION:Stu Peppard
END:VEVENT
BEGIN:VEVENT
UID:P72833@sportzsoft.com
DTSTART:20190424T010000Z
DTEND:20190424T023000Z
SUMMARY:Practice #PSL-008 (Cougars )
LOCATION:Stu Peppard
END:VEVENT
BEGIN:VEVENT
UID:P72913@sportzsoft.com
DTSTART:20190426T000000Z
DTEND:20190426T010000Z
SUMMARY:Practice #PSL-011 (Cougars )
LOCATION:Stu Peppard
END:VEVENT
BEGIN:VEVENT
UID:G100966@sportzsoft.com
DTSTART:20190428T000000Z
DTEND:20190428T020000Z
SUMMARY:Game #JL-002 vs Sr Titans
LOCATION:Stu Peppard
END:VEVENT
BEGIN:VEVENT
UID:P72834@sportzsoft.com
DTSTART:20190503T020000Z
DTEND:20190503T033000Z
SUMMARY:Practice #PSL-009 (Cougars )
LOCATION:Stu Peppard
END:VEVENT
BEGIN:VEVENT
UID:G100974@sportzsoft.com
DTSTART:20190504T013000Z
DTEND:20190504T033000Z
SUMMARY:Game #JL-011 vs Attack
LOCATION:Stu Peppard
END:VEVENT
BEGIN:VEVENT
UID:P72835@sportzsoft.com
DTSTART:20190510T020000Z
DTEND:20190510T033000Z
SUMMARY:Practice #PSL-009 (Cougars )
LOCATION:Stu Peppard
END:VEVENT
BEGIN:VEVENT
UID:G100977@sportzsoft.com
DTSTART:20190511T183000Z
DTEND:20190511T203000Z
SUMMARY:Game #JL-023 vs Rage
LOCATION:Stu Peppard
END:VEVENT
BEGIN:VEVENT
UID:G100975@sportzsoft.com
DTSTART:20190512T183000Z
DTEND:20190512T203000Z
SUMMARY:Game #JL-027 vs Attack
LOCATION:Stu Peppard
END:VEVENT
BEGIN:VEVENT
UID:P72836@sportzsoft.com
DTSTART:20190517T020000Z
DTEND:20190517T033000Z
SUMMARY:Practice #PSL-009 (Cougars )
LOCATION:Stu Peppard
END:VEVENT
BEGIN:VEVENT
UID:G100978@sportzsoft.com
DTSTART:20190522T013000Z
DTEND:20190522T033000Z
SUMMARY:Game #JL-067 vs Rage
LOCATION:Olds Sports Complex Main
END:VEVENT
BEGIN:VEVENT
UID:P72837@sportzsoft.com
DTSTART:20190524T020000Z
DTEND:20190524T033000Z
SUMMARY:Practice #PSL-009 (Cougars )
LOCATION:Stu Peppard
END:VEVENT
BEGIN:VEVENT
UID:G100958@sportzsoft.com
DTSTART:20190525T210000Z
DTEND:20190525T230000Z
SUMMARY:Game #JL-038 vs Bandits
LOCATION:Stu Peppard
END:VEVENT
BEGIN:VEVENT
UID:P72838@sportzsoft.com
DTSTART:20190531T020000Z
DTEND:20190531T033000Z
SUMMARY:Practice #PSL-009 (Cougars )
LOCATION:Stu Peppard
END:VEVENT
BEGIN:VEVENT
UID:G100976@sportzsoft.com
DTSTART:20190601T020000Z
DTEND:20190601T040000Z
SUMMARY:Game #JL-045 vs Attack
LOCATION:Plainsmen Arena
END:VEVENT
BEGIN:VEVENT
UID:G100967@sportzsoft.com
DTSTART:20190602T210000Z
DTEND:20190602T230000Z
SUMMARY:Game #JL-053 vs Sr Titans
LOCATION:Stu Peppard
END:VEVENT
BEGIN:VEVENT
UID:P72839@sportzsoft.com
DTSTART:20190607T020000Z
DTEND:20190607T033000Z
SUMMARY:Practice #PSL-009 (Cougars )
LOCATION:Stu Peppard
END:VEVENT
BEGIN:VEVENT
UID:G100956@sportzsoft.com
DTSTART:20190608T203000Z
DTEND:20190608T223000Z
SUMMARY:Game #JL-060 vs Bandits
LOCATION:Ken Nichol Regional Recreation Centre Arena 1
END:VEVENT
BEGIN:VEVENT
UID:G100957@sportzsoft.com
DTSTART:20190609T210000Z
DTEND:20190609T230000Z
SUMMARY:Game #JL-062 vs Bandits
LOCATION:Ken Nichol Regional Recreation Centre Arena 1
END:VEVENT
BEGIN:VEVENT
UID:P72840@sportzsoft.com
DTSTART:20190614T020000Z
DTEND:20190614T033000Z
SUMMARY:Practice #PSL-009 (Cougars )
LOCATION:Stu Peppard
END:VEVENT
BEGIN:VEVENT
UID:G100965@sportzsoft.com
DTSTART:20190616T203000Z
DTEND:20190616T223000Z
SUMMARY:Game #JL-074 vs Sr Titans
LOCATION:Ardrossan Recreation Complex East
END:VEVENT
BEGIN:VEVENT
UID:G100937@sportzsoft.com
DTSTART:20190620T010000Z
DTEND:20190620T030000Z
SUMMARY:Game #JL-078 vs Ladies Raiders
LOCATION:Stu Peppard
END:VEVENT
BEGIN:VEVENT
UID:P72841@sportzsoft.com
DTSTART:20190621T020000Z
DTEND:20190621T033000Z
SUMMARY:Practice #PSL-009 (Cougars )
LOCATION:Stu Peppard
END:VEVENT
BEGIN:VEVENT
UID:G100979@sportzsoft.com
DTSTART:20190623T233000Z
DTEND:20190624T013000Z
SUMMARY:Game #JL-088 vs Rage
LOCATION:Kinex- Red Deer
END:VEVENT
BEGIN:VEVENT
UID:G100904@sportzsoft.com
DTSTART:20190627T010000Z
DTEND:20190627T030000Z
SUMMARY:Game #JL-090 vs Cardinals
LOCATION:Stu Peppard
END:VEVENT
BEGIN:VEVENT
UID:P72842@sportzsoft.com
DTSTART:20190628T020000Z
DTEND:20190628T033000Z
SUMMARY:Practice #PSL-009 (Cougars )
LOCATION:Stu Peppard
END:VEVENT
BEGIN:VEVENT
UID:P72843@sportzsoft.com
DTSTART:20190705T020000Z
DTEND:20190705T033000Z
SUMMARY:Practice #PSL-009 (Cougars )
LOCATION:Stu Peppard
END:VEVENT
BEGIN:VEVENT
UID:G104442@sportzsoft.com
DTSTART:20190707T000000Z
DTEND:20190707T020000Z
SUMMARY:Game #SLC-01 vs Sr Titans
LOCATION:Kinex- Red Deer
END:VEVENT
BEGIN:VEVENT
UID:P72844@sportzsoft.com
DTSTART:20190712T020000Z
DTEND:20190712T033000Z
SUMMARY:Practice #PSL-009 (Cougars )
LOCATION:Stu Peppard
END:VEVENT
END:VCALENDAR
