BEGIN:VCALENDAR
VERSION:2.0
PRODID:SportzSoftTeamWeb
TZ:+00
BEGIN:VEVENT
UID:P72810@sportzsoft.com
DTSTART:20190411T020000Z
DTEND:20190411T033000Z
SUMMARY:Practice #PSrB-015 (S Mounties )
LOCATION:Stu Peppard
END:VEVENT
BEGIN:VEVENT
UID:P72813@sportzsoft.com
DTSTART:20190413T180000Z
DTEND:20190413T193000Z
SUMMARY:Practice #PSrB-016 (S Mounties )
LOCATION:Stu Peppard
END:VEVENT
BEGIN:VEVENT
UID:P72814@sportzsoft.com
DTSTART:20190414T213000Z
DTEND:20190414T230000Z
SUMMARY:Practice #PSrB-017 (S Mounties )
LOCATION:Stu Peppard
END:VEVENT
BEGIN:VEVENT
UID:P72811@sportzsoft.com
DTSTART:20190418T020000Z
DTEND:20190418T033000Z
SUMMARY:Practice #PSrB-015 (S Mounties )
LOCATION:Stu Peppard
END:VEVENT
BEGIN:VEVENT
UID:P72815@sportzsoft.com
DTSTART:20190419T010000Z
DTEND:20190419T023000Z
SUMMARY:Practice #PSrB-018 (S Mounties )
LOCATION:Stu Peppard
END:VEVENT
BEGIN:VEVENT
UID:P72812@sportzsoft.com
DTSTART:20190425T020000Z
DTEND:20190425T033000Z
SUMMARY:Practice #PSrB-015 (S Mounties )
LOCATION:Stu Peppard
END:VEVENT
BEGIN:VEVENT
UID:P72816@sportzsoft.com
DTSTART:20190426T010000Z
DTEND:20190426T023000Z
SUMMARY:Practice #PSrB-018 (S Mounties )
LOCATION:Stu Peppard
END:VEVENT
BEGIN:VEVENT
UID:G101006@sportzsoft.com
DTSTART:20190427T020000Z
DTEND:20190427T040000Z
SUMMARY:Game #SB-001 vs Knights
LOCATION:Plainsmen Arena
END:VEVENT
BEGIN:VEVENT
UID:P72817@sportzsoft.com
DTSTART:20190501T030000Z
DTEND:20190501T043000Z
SUMMARY:Practice #PSrB-019 (S Mounties )
LOCATION:Stu Peppard
END:VEVENT
BEGIN:VEVENT
UID:P72818@sportzsoft.com
DTSTART:20190508T033000Z
DTEND:20190508T050000Z
SUMMARY:Practice #PSrB-020 (S Mounties )
LOCATION:Stu Peppard
END:VEVENT
BEGIN:VEVENT
UID:G101007@sportzsoft.com
DTSTART:20190511T020000Z
DTEND:20190511T040000Z
SUMMARY:Game #SB-006 vs Knights
LOCATION:Plainsmen Arena
END:VEVENT
BEGIN:VEVENT
UID:G100998@sportzsoft.com
DTSTART:20190511T213000Z
DTEND:20190511T233000Z
SUMMARY:Game #SB-008 vs Sr. Raiders
LOCATION:Stu Peppard
END:VEVENT
BEGIN:VEVENT
UID:P72819@sportzsoft.com
DTSTART:20190515T033000Z
DTEND:20190515T050000Z
SUMMARY:Practice #PSrB-020 (S Mounties )
LOCATION:Stu Peppard
END:VEVENT
BEGIN:VEVENT
UID:G100988@sportzsoft.com
DTSTART:20190516T030000Z
DTEND:20190516T050000Z
SUMMARY:Game #SB-011 vs Sr. Raiders
LOCATION:Brentwood Sportsplex
END:VEVENT
BEGIN:VEVENT
UID:P72820@sportzsoft.com
DTSTART:20190522T033000Z
DTEND:20190522T050000Z
SUMMARY:Practice #PSrB-020 (S Mounties )
LOCATION:Stu Peppard
END:VEVENT
BEGIN:VEVENT
UID:G101017@sportzsoft.com
DTSTART:20190525T210000Z
DTEND:20190525T230000Z
SUMMARY:Game #SB-014 vs Sr. Miners
LOCATION:Go Auto Arena (formerly Northstar Hyundai Arena)
END:VEVENT
BEGIN:VEVENT
UID:G100996@sportzsoft.com
DTSTART:20190527T003000Z
DTEND:20190527T023000Z
SUMMARY:Game #SB-016 vs Knights
LOCATION:Stu Peppard
END:VEVENT
BEGIN:VEVENT
UID:P72821@sportzsoft.com
DTSTART:20190529T033000Z
DTEND:20190529T050000Z
SUMMARY:Practice #PSrB-020 (S Mounties )
LOCATION:Stu Peppard
END:VEVENT
BEGIN:VEVENT
UID:G101002@sportzsoft.com
DTSTART:20190601T190000Z
DTEND:20190601T210000Z
SUMMARY:Game #SB-018 vs Sr. B Warriors
LOCATION:Stu Peppard
END:VEVENT
BEGIN:VEVENT
UID:P72822@sportzsoft.com
DTSTART:20190605T033000Z
DTEND:20190605T050000Z
SUMMARY:Practice #PSrB-020 (S Mounties )
LOCATION:Stu Peppard
END:VEVENT
BEGIN:VEVENT
UID:G101025@sportzsoft.com
DTSTART:20190608T230000Z
DTEND:20190609T010000Z
SUMMARY:Game #SB-023 vs Outlaws
LOCATION:Ken Nichol Regional Recreation Centre Arena 1
END:VEVENT
BEGIN:VEVENT
UID:G101035@sportzsoft.com
DTSTART:20190609T190000Z
DTEND:20190609T210000Z
SUMMARY:Game #SB-025 vs Sr. B Warriors
LOCATION:Jubilee Recreation Centre
END:VEVENT
BEGIN:VEVENT
UID:P72823@sportzsoft.com
DTSTART:20190612T033000Z
DTEND:20190612T050000Z
SUMMARY:Practice #PSrB-020 (S Mounties )
LOCATION:Stu Peppard
END:VEVENT
BEGIN:VEVENT
UID:G101001@sportzsoft.com
DTSTART:20190616T000000Z
DTEND:20190616T020000Z
SUMMARY:Game #SB-030 vs Outlaws
LOCATION:Stu Peppard
END:VEVENT
BEGIN:VEVENT
UID:P72824@sportzsoft.com
DTSTART:20190619T033000Z
DTEND:20190619T050000Z
SUMMARY:Practice #PSrB-020 (S Mounties )
LOCATION:Stu Peppard
END:VEVENT
BEGIN:VEVENT
UID:G100999@sportzsoft.com
DTSTART:20190622T190000Z
DTEND:20190622T210000Z
SUMMARY:Game #SB-033 vs Sr. Raiders
LOCATION:Stu Peppard
END:VEVENT
BEGIN:VEVENT
UID:G101003@sportzsoft.com
DTSTART:20190623T210000Z
DTEND:20190623T230000Z
SUMMARY:Game #SB-036 vs Sr. Miners
LOCATION:Stu Peppard
END:VEVENT
BEGIN:VEVENT
UID:P72825@sportzsoft.com
DTSTART:20190626T033000Z
DTEND:20190626T050000Z
SUMMARY:Practice #PSrB-020 (S Mounties )
LOCATION:Stu Peppard
END:VEVENT
BEGIN:VEVENT
UID:G100989@sportzsoft.com
DTSTART:20190627T030000Z
DTEND:20190627T050000Z
SUMMARY:Game #SB-038 vs Sr. Raiders
LOCATION:Brentwood Sportsplex
END:VEVENT
BEGIN:VEVENT
UID:P72826@sportzsoft.com
DTSTART:20190703T033000Z
DTEND:20190703T050000Z
SUMMARY:Practice #PSrB-020 (S Mounties )
LOCATION:Stu Peppard
END:VEVENT
BEGIN:VEVENT
UID:G101000@sportzsoft.com
DTSTART:20190706T190000Z
DTEND:20190706T210000Z
SUMMARY:Game #SB-041 vs Sr. Raiders
LOCATION:Stu Peppard
END:VEVENT
BEGIN:VEVENT
UID:G101008@sportzsoft.com
DTSTART:20190709T023000Z
DTEND:20190709T043000Z
SUMMARY:Game #SB-044 vs Knights
LOCATION:Plainsmen Arena
END:VEVENT
BEGIN:VEVENT
UID:P72827@sportzsoft.com
DTSTART:20190710T033000Z
DTEND:20190710T050000Z
SUMMARY:Practice #PSrB-020 (S Mounties )
LOCATION:Stu Peppard
END:VEVENT
BEGIN:VEVENT
UID:G100997@sportzsoft.com
DTSTART:20190713T190000Z
DTEND:20190713T210000Z
SUMMARY:Game #SB-047 vs Knights
LOCATION:Stu Peppard
END:VEVENT
BEGIN:VEVENT
UID:P72828@sportzsoft.com
DTSTART:20190717T033000Z
DTEND:20190717T050000Z
SUMMARY:Practice #PSrB-020 (S Mounties )
LOCATION:Stu Peppard
END:VEVENT
BEGIN:VEVENT
UID:G104502@sportzsoft.com
DTSTART:20190720T030000Z
DTEND:20190720T050000Z
SUMMARY:Game #SBPL-06 vs Knights
LOCATION:Stu Peppard
END:VEVENT
BEGIN:VEVENT
UID:G104503@sportzsoft.com
DTSTART:20190721T220000Z
DTEND:20190722T000000Z
SUMMARY:Game #SBPL-07 vs Knights
LOCATION:Stu Peppard
END:VEVENT
BEGIN:VEVENT
UID:P72829@sportzsoft.com
DTSTART:20190724T033000Z
DTEND:20190724T050000Z
SUMMARY:Practice #PSrB-020 (S Mounties )
LOCATION:Stu Peppard
END:VEVENT
BEGIN:VEVENT
UID:G104504@sportzsoft.com
DTSTART:20190724T030000Z
DTEND:20190724T050000Z
SUMMARY:Game #SBPL-08 vs Knights
LOCATION:Plainsmen Arena
END:VEVENT
BEGIN:VEVENT
UID:G104505@sportzsoft.com
DTSTART:20190726T030000Z
DTEND:20190726T050000Z
SUMMARY:Game #SBPL-09 vs Knights
LOCATION:Plainsmen Arena
END:VEVENT
BEGIN:VEVENT
UID:G104506@sportzsoft.com
DTSTART:20190727T190000Z
DTEND:20190727T210000Z
SUMMARY:Game #SBPL-10 vs Knights (cancelled)
LOCATION:Stu Peppard
END:VEVENT
BEGIN:VEVENT
UID:P72830@sportzsoft.com
DTSTART:20190731T033000Z
DTEND:20190731T050000Z
SUMMARY:Practice #PSrB-020 (S Mounties )
LOCATION:Stu Peppard
END:VEVENT
BEGIN:VEVENT
UID:P79306@sportzsoft.com
DTSTART:20190808T010000Z
DTEND:20190808T023000Z
SUMMARY:Practice #PSrB-050 (S Mounties )
LOCATION:Max Bell Centre - Ken Bracko Arena
END:VEVENT
BEGIN:VEVENT
UID:G104529@sportzsoft.com
DTSTART:20190811T020000Z
DTEND:20190811T040000Z
SUMMARY:Game #SBPr-01 vs Sr. Miners
LOCATION:Strathcona Olympiette Centre & Fultonvale Arena
END:VEVENT
BEGIN:VEVENT
UID:G104530@sportzsoft.com
DTSTART:20190811T200000Z
DTEND:20190811T220000Z
SUMMARY:Game #SBPr-02 vs Sr. Miners
LOCATION:Strathcona Olympiette Centre & Fultonvale Arena
END:VEVENT
BEGIN:VEVENT
UID:G104531@sportzsoft.com
DTSTART:20190817T033000Z
DTEND:20190817T053000Z
SUMMARY:Game #SBPr-03 vs Sr. Miners
LOCATION:Optimist Arena
END:VEVENT
BEGIN:VEVENT
UID:G104532@sportzsoft.com
DTSTART:20190817T223000Z
DTEND:20190818T003000Z
SUMMARY:Game #SBPr-04 vs Sr. Miners (cancelled)
LOCATION:Optimist Arena
END:VEVENT
BEGIN:VEVENT
UID:G104533@sportzsoft.com
DTSTART:20190818T210000Z
DTEND:20190818T230000Z
SUMMARY:Game #SBPr-05 vs Sr. Miners (cancelled)
LOCATION:Moyer Recreation Centre
END:VEVENT
END:VCALENDAR
