BEGIN:VCALENDAR
VERSION:2.0
PRODID:SportzSoftTeamWeb
TZ:+00
BEGIN:VEVENT
UID:P71757@sportzsoft.com
DTSTART:20190319T013000Z
DTEND:20190319T033000Z
SUMMARY:Practice #PSrB-001 (Knights )
LOCATION:Genesis Place - 2 - Pepsi Field
END:VEVENT
BEGIN:VEVENT
UID:P71760@sportzsoft.com
DTSTART:20190321T013000Z
DTEND:20190321T030000Z
SUMMARY:Practice #PSrB-002 (Knights )
LOCATION:Genesis Place - 2 - Pepsi Field
END:VEVENT
BEGIN:VEVENT
UID:P71765@sportzsoft.com
DTSTART:20190328T020000Z
DTEND:20190328T033000Z
SUMMARY:Practice #PSrB-003 (Knights )
LOCATION:Genesis Place - 2 - Pepsi Field
END:VEVENT
BEGIN:VEVENT
UID:P71761@sportzsoft.com
DTSTART:20190403T030000Z
DTEND:20190403T040000Z
SUMMARY:Practice #PSrB-004 (Knights )
LOCATION:Genesis Place - 2 - Pepsi Field
END:VEVENT
BEGIN:VEVENT
UID:P71768@sportzsoft.com
DTSTART:20190405T020000Z
DTEND:20190405T040000Z
SUMMARY:Practice #PSrB-005 (Knights )
LOCATION:Genesis Place - 1 - Shane Homes Field
END:VEVENT
BEGIN:VEVENT
UID:P71770@sportzsoft.com
DTSTART:20190408T000000Z
DTEND:20190408T020000Z
SUMMARY:Practice #PSrB-006 (Knights )
LOCATION:Plainsmen Arena
END:VEVENT
BEGIN:VEVENT
UID:P71772@sportzsoft.com
DTSTART:20190410T033000Z
DTEND:20190410T050000Z
SUMMARY:Practice #PSrB-007 (Knights )
LOCATION:Plainsmen Arena
END:VEVENT
BEGIN:VEVENT
UID:P71775@sportzsoft.com
DTSTART:20190412T020000Z
DTEND:20190412T040000Z
SUMMARY:Practice #PSrB-008 (Knights )
LOCATION:Genesis Place - 2 - Pepsi Field
END:VEVENT
BEGIN:VEVENT
UID:P71777@sportzsoft.com
DTSTART:20190415T000000Z
DTEND:20190415T020000Z
SUMMARY:Practice #PSrB-009 (Knights )
LOCATION:Plainsmen Arena
END:VEVENT
BEGIN:VEVENT
UID:P71780@sportzsoft.com
DTSTART:20190417T033000Z
DTEND:20190417T050000Z
SUMMARY:Practice #PSrB-010 (Knights )
LOCATION:Plainsmen Arena
END:VEVENT
BEGIN:VEVENT
UID:P71782@sportzsoft.com
DTSTART:20190420T230000Z
DTEND:20190421T013000Z
SUMMARY:Practice #71782 (Knights )
LOCATION:Plainsmen Arena
END:VEVENT
BEGIN:VEVENT
UID:E43153@sportzsoft.com
DTSTART:20190420T230000Z
DTEND:20190421T013000Z
SUMMARY:Event #43153 NEW Team Event
LOCATION:Plainsman 
END:VEVENT
BEGIN:VEVENT
UID:G103785@sportzsoft.com
DTSTART:20190420T233000Z
DTEND:20190421T013000Z
SUMMARY:Game #EX-19 vs Silvertips (cancelled)
LOCATION:Plainsmen Arena
END:VEVENT
BEGIN:VEVENT
UID:P71783@sportzsoft.com
DTSTART:20190424T033000Z
DTEND:20190424T050000Z
SUMMARY:Practice #PSrB-012 (Knights )
LOCATION:Plainsmen Arena
END:VEVENT
BEGIN:VEVENT
UID:G101006@sportzsoft.com
DTSTART:20190427T020000Z
DTEND:20190427T040000Z
SUMMARY:Game #SB-001 vs S Mounties
LOCATION:Plainsmen Arena
END:VEVENT
BEGIN:VEVENT
UID:P71786@sportzsoft.com
DTSTART:20190501T033000Z
DTEND:20190501T050000Z
SUMMARY:Practice #71786 (Knights )
LOCATION:Plainsmen Arena
END:VEVENT
BEGIN:VEVENT
UID:G100990@sportzsoft.com
DTSTART:20190505T000000Z
DTEND:20190505T020000Z
SUMMARY:Game #SB-003 vs Sr. Raiders
LOCATION:Brentwood Sportsplex
END:VEVENT
BEGIN:VEVENT
UID:P71787@sportzsoft.com
DTSTART:20190508T033000Z
DTEND:20190508T050000Z
SUMMARY:Practice #PSrB-012 (Knights )
LOCATION:Plainsmen Arena
END:VEVENT
BEGIN:VEVENT
UID:G101007@sportzsoft.com
DTSTART:20190511T020000Z
DTEND:20190511T040000Z
SUMMARY:Game #SB-006 vs S Mounties
LOCATION:Plainsmen Arena
END:VEVENT
BEGIN:VEVENT
UID:G101011@sportzsoft.com
DTSTART:20190511T203000Z
DTEND:20190511T223000Z
SUMMARY:Game #SB-007 vs Outlaws
LOCATION:Plainsmen Arena
END:VEVENT
BEGIN:VEVENT
UID:P71788@sportzsoft.com
DTSTART:20190514T033000Z
DTEND:20190514T050000Z
SUMMARY:Practice #71788 (Knights )
LOCATION:Plainsmen Arena
END:VEVENT
BEGIN:VEVENT
UID:P71789@sportzsoft.com
DTSTART:20190522T023000Z
DTEND:20190522T050000Z
SUMMARY:Practice #PSrB-012 (Knights )
LOCATION:Plainsmen Arena
END:VEVENT
BEGIN:VEVENT
UID:G100991@sportzsoft.com
DTSTART:20190525T013000Z
DTEND:20190525T033000Z
SUMMARY:Game #SB-012 vs Sr. Raiders
LOCATION:Brentwood Sportsplex
END:VEVENT
BEGIN:VEVENT
UID:G100996@sportzsoft.com
DTSTART:20190527T003000Z
DTEND:20190527T023000Z
SUMMARY:Game #SB-016 vs S Mounties
LOCATION:Stu Peppard
END:VEVENT
BEGIN:VEVENT
UID:P71790@sportzsoft.com
DTSTART:20190529T030000Z
DTEND:20190529T050000Z
SUMMARY:Practice #71790 (Knights )
LOCATION:Plainsmen Arena
END:VEVENT
BEGIN:VEVENT
UID:G101016@sportzsoft.com
DTSTART:20190602T030000Z
DTEND:20190602T050000Z
SUMMARY:Game #SB-019 vs Sr. Miners
LOCATION:Go Auto Arena (formerly Northstar Hyundai Arena)
END:VEVENT
BEGIN:VEVENT
UID:G101026@sportzsoft.com
DTSTART:20190602T210000Z
DTEND:20190602T230000Z
SUMMARY:Game #SB-020 vs Outlaws
LOCATION:Ken Nichol Regional Recreation Centre Arena 1
END:VEVENT
BEGIN:VEVENT
UID:P71791@sportzsoft.com
DTSTART:20190605T030000Z
DTEND:20190605T050000Z
SUMMARY:Practice #PSrB-012 (Knights )
LOCATION:Plainsmen Arena
END:VEVENT
BEGIN:VEVENT
UID:P71792@sportzsoft.com
DTSTART:20190612T030000Z
DTEND:20190612T050000Z
SUMMARY:Practice #PSrB-012 (Knights )
LOCATION:Plainsmen Arena
END:VEVENT
BEGIN:VEVENT
UID:G101004@sportzsoft.com
DTSTART:20190615T020000Z
DTEND:20190615T040000Z
SUMMARY:Game #SB-028 vs Sr. Raiders
LOCATION:Plainsmen Arena
END:VEVENT
BEGIN:VEVENT
UID:G101010@sportzsoft.com
DTSTART:20190615T210000Z
DTEND:20190615T230000Z
SUMMARY:Game #SB-029 vs Sr. B Warriors
LOCATION:Plainsmen Arena
END:VEVENT
BEGIN:VEVENT
UID:P71793@sportzsoft.com
DTSTART:20190619T030000Z
DTEND:20190619T050000Z
SUMMARY:Practice #PSrB-012 (Knights )
LOCATION:Plainsmen Arena
END:VEVENT
BEGIN:VEVENT
UID:G101009@sportzsoft.com
DTSTART:20190622T230000Z
DTEND:20190623T010000Z
SUMMARY:Game #SB-034 vs Sr. Miners
LOCATION:Plainsmen Arena
END:VEVENT
BEGIN:VEVENT
UID:G101034@sportzsoft.com
DTSTART:20190623T200000Z
DTEND:20190623T220000Z
SUMMARY:Game #SB-035 vs Sr. B Warriors
LOCATION:Jubilee Recreation Centre
END:VEVENT
BEGIN:VEVENT
UID:P71794@sportzsoft.com
DTSTART:20190626T030000Z
DTEND:20190626T050000Z
SUMMARY:Practice #PSrB-012 (Knights )
LOCATION:Plainsmen Arena
END:VEVENT
BEGIN:VEVENT
UID:P73390@sportzsoft.com
DTSTART:20190703T030000Z
DTEND:20190703T050000Z
SUMMARY:Practice #73390 (Knights )
LOCATION:Plainsmen Arena
END:VEVENT
BEGIN:VEVENT
UID:G100992@sportzsoft.com
DTSTART:20190704T013000Z
DTEND:20190704T033000Z
SUMMARY:Game #SB-039 vs Sr. Raiders
LOCATION:Brentwood Sportsplex
END:VEVENT
BEGIN:VEVENT
UID:G101008@sportzsoft.com
DTSTART:20190709T023000Z
DTEND:20190709T043000Z
SUMMARY:Game #SB-044 vs S Mounties
LOCATION:Plainsmen Arena
END:VEVENT
BEGIN:VEVENT
UID:P73391@sportzsoft.com
DTSTART:20190710T030000Z
DTEND:20190710T050000Z
SUMMARY:Practice #73391 (Knights )
LOCATION:Plainsmen Arena
END:VEVENT
BEGIN:VEVENT
UID:G100997@sportzsoft.com
DTSTART:20190713T190000Z
DTEND:20190713T210000Z
SUMMARY:Game #SB-047 vs S Mounties
LOCATION:Stu Peppard
END:VEVENT
BEGIN:VEVENT
UID:P73392@sportzsoft.com
DTSTART:20190717T030000Z
DTEND:20190717T050000Z
SUMMARY:Practice #73392 (Knights )
LOCATION:Plainsmen Arena
END:VEVENT
BEGIN:VEVENT
UID:G101005@sportzsoft.com
DTSTART:20190717T030000Z
DTEND:20190717T050000Z
SUMMARY:Game #SB-046 vs Sr. Raiders
LOCATION:Plainsmen Arena
END:VEVENT
BEGIN:VEVENT
UID:G104502@sportzsoft.com
DTSTART:20190720T030000Z
DTEND:20190720T050000Z
SUMMARY:Game #SBPL-06 vs S Mounties
LOCATION:Stu Peppard
END:VEVENT
BEGIN:VEVENT
UID:G104503@sportzsoft.com
DTSTART:20190721T220000Z
DTEND:20190722T000000Z
SUMMARY:Game #SBPL-07 vs S Mounties
LOCATION:Stu Peppard
END:VEVENT
BEGIN:VEVENT
UID:P79300@sportzsoft.com
DTSTART:20190723T030000Z
DTEND:20190723T050000Z
SUMMARY:Practice #PSrB-049 (Knights )
LOCATION:plainsmen arena
END:VEVENT
BEGIN:VEVENT
UID:P73393@sportzsoft.com
DTSTART:20190724T030000Z
DTEND:20190724T050000Z
SUMMARY:Practice #73393 (Knights )
LOCATION:Plainsmen Arena
END:VEVENT
BEGIN:VEVENT
UID:G104504@sportzsoft.com
DTSTART:20190724T030000Z
DTEND:20190724T050000Z
SUMMARY:Game #SBPL-08 vs S Mounties
LOCATION:Plainsmen Arena
END:VEVENT
BEGIN:VEVENT
UID:G104505@sportzsoft.com
DTSTART:20190726T030000Z
DTEND:20190726T050000Z
SUMMARY:Game #SBPL-09 vs S Mounties
LOCATION:Plainsmen Arena
END:VEVENT
BEGIN:VEVENT
UID:G104506@sportzsoft.com
DTSTART:20190727T190000Z
DTEND:20190727T210000Z
SUMMARY:Game #SBPL-10 vs S Mounties (cancelled)
LOCATION:Stu Peppard
END:VEVENT
BEGIN:VEVENT
UID:P73394@sportzsoft.com
DTSTART:20190731T030000Z
DTEND:20190731T050000Z
SUMMARY:Practice #73394 (Knights )
LOCATION:Plainsmen Arena
END:VEVENT
END:VCALENDAR
