BEGIN:VCALENDAR
VERSION:2.0
PRODID:SportzSoftTeamWeb
TZ:+00
BEGIN:VEVENT
UID:G103753@sportzsoft.com
DTSTART:20190413T013000Z
DTEND:20190413T033000Z
SUMMARY:Game #EX-07 vs Irish
LOCATION:Stu Peppard
END:VEVENT
BEGIN:VEVENT
UID:G100990@sportzsoft.com
DTSTART:20190505T000000Z
DTEND:20190505T020000Z
SUMMARY:Game #SB-003 vs Knights
LOCATION:Brentwood Sportsplex
END:VEVENT
BEGIN:VEVENT
UID:G100998@sportzsoft.com
DTSTART:20190511T213000Z
DTEND:20190511T233000Z
SUMMARY:Game #SB-008 vs S Mounties
LOCATION:Stu Peppard
END:VEVENT
BEGIN:VEVENT
UID:G100988@sportzsoft.com
DTSTART:20190516T030000Z
DTEND:20190516T050000Z
SUMMARY:Game #SB-011 vs S Mounties
LOCATION:Brentwood Sportsplex
END:VEVENT
BEGIN:VEVENT
UID:G100991@sportzsoft.com
DTSTART:20190525T013000Z
DTEND:20190525T033000Z
SUMMARY:Game #SB-012 vs Knights
LOCATION:Brentwood Sportsplex
END:VEVENT
BEGIN:VEVENT
UID:G101015@sportzsoft.com
DTSTART:20190526T230000Z
DTEND:20190527T010000Z
SUMMARY:Game #SB-015 vs Sr. Miners
LOCATION:Go Auto Arena (formerly Northstar Hyundai Arena)
END:VEVENT
BEGIN:VEVENT
UID:G100994@sportzsoft.com
DTSTART:20190602T220000Z
DTEND:20190603T000000Z
SUMMARY:Game #SB-021 vs Sr. B Warriors
LOCATION:Brentwood Sportsplex
END:VEVENT
BEGIN:VEVENT
UID:G101033@sportzsoft.com
DTSTART:20190609T020000Z
DTEND:20190609T040000Z
SUMMARY:Game #SB-024 vs Sr. B Warriors
LOCATION:Jubilee Recreation Centre
END:VEVENT
BEGIN:VEVENT
UID:G101027@sportzsoft.com
DTSTART:20190609T183000Z
DTEND:20190609T203000Z
SUMMARY:Game #SB-026 vs Outlaws
LOCATION:Ken Nichol Regional Recreation Centre Arena 1
END:VEVENT
BEGIN:VEVENT
UID:G101004@sportzsoft.com
DTSTART:20190615T020000Z
DTEND:20190615T040000Z
SUMMARY:Game #SB-028 vs Knights
LOCATION:Plainsmen Arena
END:VEVENT
BEGIN:VEVENT
UID:G100993@sportzsoft.com
DTSTART:20190616T183000Z
DTEND:20190616T203000Z
SUMMARY:Game #SB-031 vs Outlaws
LOCATION:Brentwood Sportsplex
END:VEVENT
BEGIN:VEVENT
UID:G100999@sportzsoft.com
DTSTART:20190622T190000Z
DTEND:20190622T210000Z
SUMMARY:Game #SB-033 vs S Mounties
LOCATION:Stu Peppard
END:VEVENT
BEGIN:VEVENT
UID:G100989@sportzsoft.com
DTSTART:20190627T030000Z
DTEND:20190627T050000Z
SUMMARY:Game #SB-038 vs S Mounties
LOCATION:Brentwood Sportsplex
END:VEVENT
BEGIN:VEVENT
UID:G100992@sportzsoft.com
DTSTART:20190704T013000Z
DTEND:20190704T033000Z
SUMMARY:Game #SB-039 vs Knights
LOCATION:Brentwood Sportsplex
END:VEVENT
BEGIN:VEVENT
UID:G101000@sportzsoft.com
DTSTART:20190706T190000Z
DTEND:20190706T210000Z
SUMMARY:Game #SB-041 vs S Mounties
LOCATION:Stu Peppard
END:VEVENT
BEGIN:VEVENT
UID:G100995@sportzsoft.com
DTSTART:20190707T193000Z
DTEND:20190707T213000Z
SUMMARY:Game #SB-042 vs Sr. Miners
LOCATION:Brentwood Sportsplex
END:VEVENT
BEGIN:VEVENT
UID:G101005@sportzsoft.com
DTSTART:20190717T030000Z
DTEND:20190717T050000Z
SUMMARY:Game #SB-046 vs Knights
LOCATION:Plainsmen Arena
END:VEVENT
END:VCALENDAR
