BEGIN:VCALENDAR
VERSION:2.0
PRODID:SportzSoftTeamWeb
TZ:+00
BEGIN:VEVENT
UID:E42754@sportzsoft.com
DTSTART:20190223T034500Z
DTEND:20190223T044500Z
SUMMARY:Event #42754 NEW Team Event
LOCATION:millenium place
END:VEVENT
BEGIN:VEVENT
UID:E42776@sportzsoft.com
DTSTART:20190224T200000Z
DTEND:20190224T213000Z
SUMMARY:Event #42776 NEW Team Event
LOCATION:Leduc rec centre
END:VEVENT
BEGIN:VEVENT
UID:E43091@sportzsoft.com
DTSTART:20190309T043000Z
DTEND:20190309T053000Z
SUMMARY:Event #43091 NEW Team Event
LOCATION:millenium place
END:VEVENT
BEGIN:VEVENT
UID:G101022@sportzsoft.com
DTSTART:20190504T023000Z
DTEND:20190504T043000Z
SUMMARY:Game #SB-002 vs Sr. Miners
LOCATION:Ken Nichol Regional Recreation Centre Arena 1
END:VEVENT
BEGIN:VEVENT
UID:G101030@sportzsoft.com
DTSTART:20190507T020000Z
DTEND:20190507T040000Z
SUMMARY:Game #SB-005 vs Sr. B Warriors
LOCATION:Jubilee Recreation Centre
END:VEVENT
BEGIN:VEVENT
UID:G101011@sportzsoft.com
DTSTART:20190511T203000Z
DTEND:20190511T223000Z
SUMMARY:Game #SB-007 vs Knights
LOCATION:Plainsmen Arena
END:VEVENT
BEGIN:VEVENT
UID:G101018@sportzsoft.com
DTSTART:20190514T020000Z
DTEND:20190514T040000Z
SUMMARY:Game #SB-010 vs Sr. Miners
LOCATION:Go Auto Arena (formerly Northstar Hyundai Arena)
END:VEVENT
BEGIN:VEVENT
UID:G101031@sportzsoft.com
DTSTART:20190525T020000Z
DTEND:20190525T040000Z
SUMMARY:Game #SB-013 vs Sr. B Warriors
LOCATION:Jubilee Recreation Centre
END:VEVENT
BEGIN:VEVENT
UID:G101020@sportzsoft.com
DTSTART:20190530T023000Z
DTEND:20190530T043000Z
SUMMARY:Game #SB-017 vs Sr. B Warriors
LOCATION:Ken Nichol Regional Recreation Centre Arena 1
END:VEVENT
BEGIN:VEVENT
UID:G101026@sportzsoft.com
DTSTART:20190602T210000Z
DTEND:20190602T230000Z
SUMMARY:Game #SB-020 vs Knights
LOCATION:Ken Nichol Regional Recreation Centre Arena 1
END:VEVENT
BEGIN:VEVENT
UID:G101025@sportzsoft.com
DTSTART:20190608T230000Z
DTEND:20190609T010000Z
SUMMARY:Game #SB-023 vs S Mounties
LOCATION:Ken Nichol Regional Recreation Centre Arena 1
END:VEVENT
BEGIN:VEVENT
UID:G101027@sportzsoft.com
DTSTART:20190609T183000Z
DTEND:20190609T203000Z
SUMMARY:Game #SB-026 vs Sr. Raiders
LOCATION:Ken Nichol Regional Recreation Centre Arena 1
END:VEVENT
BEGIN:VEVENT
UID:G101001@sportzsoft.com
DTSTART:20190616T000000Z
DTEND:20190616T020000Z
SUMMARY:Game #SB-030 vs S Mounties
LOCATION:Stu Peppard
END:VEVENT
BEGIN:VEVENT
UID:G100993@sportzsoft.com
DTSTART:20190616T183000Z
DTEND:20190616T203000Z
SUMMARY:Game #SB-031 vs Sr. Raiders
LOCATION:Brentwood Sportsplex
END:VEVENT
BEGIN:VEVENT
UID:G101023@sportzsoft.com
DTSTART:20190620T023000Z
DTEND:20190620T043000Z
SUMMARY:Game #SB-032 vs Sr. Miners
LOCATION:Ken Nichol Regional Recreation Centre Arena 1
END:VEVENT
BEGIN:VEVENT
UID:G101021@sportzsoft.com
DTSTART:20190625T023000Z
DTEND:20190625T043000Z
SUMMARY:Game #SB-037 vs Sr. B Warriors
LOCATION:Ken Nichol Regional Recreation Centre Arena 1
END:VEVENT
BEGIN:VEVENT
UID:G101024@sportzsoft.com
DTSTART:20190709T023000Z
DTEND:20190709T043000Z
SUMMARY:Game #SB-043 vs Sr. Miners
LOCATION:Ken Nichol Regional Recreation Centre Arena 1
END:VEVENT
BEGIN:VEVENT
UID:G101032@sportzsoft.com
DTSTART:20190713T020000Z
DTEND:20190713T040000Z
SUMMARY:Game #SB-045 vs Sr. B Warriors
LOCATION:Jubilee Recreation Centre
END:VEVENT
BEGIN:VEVENT
UID:G101019@sportzsoft.com
DTSTART:20190716T020000Z
DTEND:20190716T040000Z
SUMMARY:Game #SB-022 vs Sr. Miners
LOCATION:Go Auto Arena (formerly Northstar Hyundai Arena)
END:VEVENT
BEGIN:VEVENT
UID:G104497@sportzsoft.com
DTSTART:20190718T020000Z
DTEND:20190718T040000Z
SUMMARY:Game #SBPL-01 vs Sr. Miners
LOCATION:Go Auto Arena (formerly Northstar Hyundai Arena)
END:VEVENT
BEGIN:VEVENT
UID:G104498@sportzsoft.com
DTSTART:20190720T033000Z
DTEND:20190720T053000Z
SUMMARY:Game #SBPL-02 vs Sr. Miners
LOCATION:Go Auto Arena (formerly Northstar Hyundai Arena)
END:VEVENT
BEGIN:VEVENT
UID:G104499@sportzsoft.com
DTSTART:20190721T200000Z
DTEND:20190721T220000Z
SUMMARY:Game #SBPL-03 vs Sr. Miners
LOCATION:Ken Nichol Regional Recreation Centre Arena 1
END:VEVENT
BEGIN:VEVENT
UID:G104500@sportzsoft.com
DTSTART:20190725T020000Z
DTEND:20190725T040000Z
SUMMARY:Game #SBPL-04 vs Sr. Miners (cancelled)
LOCATION:Ken Nichol Regional Recreation Centre Arena 1
END:VEVENT
BEGIN:VEVENT
UID:G104501@sportzsoft.com
DTSTART:20190728T000000Z
DTEND:20190728T020000Z
SUMMARY:Game #SBPL-05 vs Sr. Miners (cancelled)
LOCATION:Go Auto Arena (formerly Northstar Hyundai Arena)
END:VEVENT
END:VCALENDAR
