BEGIN:VCALENDAR
VERSION:2.0
PRODID:SportzSoftTeamWeb
TZ:+00
BEGIN:VEVENT
UID:P71189@sportzsoft.com
DTSTART:20190403T020000Z
DTEND:20190403T030000Z
SUMMARY:Practice #Pr2002 (Yetti )
LOCATION:Nexsource Centre- Rink 2
END:VEVENT
BEGIN:VEVENT
UID:P71158@sportzsoft.com
DTSTART:20190405T020000Z
DTEND:20190405T030000Z
SUMMARY:Practice #Pr2001 (Yetti )
LOCATION:Nexsource Centre- Rink 2
END:VEVENT
BEGIN:VEVENT
UID:P71190@sportzsoft.com
DTSTART:20190406T190000Z
DTEND:20190406T200000Z
SUMMARY:Practice #Pr2003 (Yetti )
LOCATION:Nexsource Centre- Rink 2
END:VEVENT
BEGIN:VEVENT
UID:P71191@sportzsoft.com
DTSTART:20190407T190000Z
DTEND:20190407T200000Z
SUMMARY:Practice #Pr2004 (Yetti )
LOCATION:Nexsource Centre- Rink 2
END:VEVENT
BEGIN:VEVENT
UID:P71159@sportzsoft.com
DTSTART:20190410T020000Z
DTEND:20190410T030000Z
SUMMARY:Practice #Pr2001 (Yetti )
LOCATION:Nexsource Centre- Rink 2
END:VEVENT
BEGIN:VEVENT
UID:P71174@sportzsoft.com
DTSTART:20190412T020000Z
DTEND:20190412T030000Z
SUMMARY:Practice #Pr2001 (Yetti )
LOCATION:Nexsource Centre- Rink 2
END:VEVENT
BEGIN:VEVENT
UID:P71193@sportzsoft.com
DTSTART:20190413T190000Z
DTEND:20190413T200000Z
SUMMARY:Practice #Pr2006 (Yetti )
LOCATION:Nexsource Centre- Rink 2
END:VEVENT
BEGIN:VEVENT
UID:P71192@sportzsoft.com
DTSTART:20190414T190000Z
DTEND:20190414T200000Z
SUMMARY:Practice #Pr2005 (Yetti )
LOCATION:Nexsource Centre- Rink 2
END:VEVENT
BEGIN:VEVENT
UID:P71160@sportzsoft.com
DTSTART:20190417T020000Z
DTEND:20190417T030000Z
SUMMARY:Practice #Pr2001 (Yetti )
LOCATION:Nexsource Centre- Rink 2
END:VEVENT
BEGIN:VEVENT
UID:P71175@sportzsoft.com
DTSTART:20190419T020000Z
DTEND:20190419T030000Z
SUMMARY:Practice #Pr2001 (Yetti )
LOCATION:Nexsource Centre- Rink 2
END:VEVENT
BEGIN:VEVENT
UID:P71161@sportzsoft.com
DTSTART:20190424T020000Z
DTEND:20190424T030000Z
SUMMARY:Practice #Pr2001 (Yetti )
LOCATION:Nexsource Centre- Rink 2
END:VEVENT
BEGIN:VEVENT
UID:G99609@sportzsoft.com
DTSTART:20190425T023000Z
DTEND:20190425T043000Z
SUMMARY:Game #JS-001 vs Stingers
LOCATION:Nexsource Centre- Rink 2
END:VEVENT
BEGIN:VEVENT
UID:P71176@sportzsoft.com
DTSTART:20190426T020000Z
DTEND:20190426T030000Z
SUMMARY:Practice #Pr2001 (Yetti )
LOCATION:Nexsource Centre- Rink 2
END:VEVENT
BEGIN:VEVENT
UID:G99607@sportzsoft.com
DTSTART:20190427T210000Z
DTEND:20190427T230000Z
SUMMARY:Game #JS-006 vs Wranglers
LOCATION:Brentwood Sportsplex
END:VEVENT
BEGIN:VEVENT
UID:G99638@sportzsoft.com
DTSTART:20190428T210000Z
DTEND:20190428T230000Z
SUMMARY:Game #JS-011 vs Sabrecats
LOCATION:Stu Peppard
END:VEVENT
BEGIN:VEVENT
UID:P71162@sportzsoft.com
DTSTART:20190501T020000Z
DTEND:20190501T030000Z
SUMMARY:Practice #Pr2001 (Yetti )
LOCATION:Nexsource Centre- Rink 2
END:VEVENT
BEGIN:VEVENT
UID:P71177@sportzsoft.com
DTSTART:20190503T020000Z
DTEND:20190503T030000Z
SUMMARY:Practice #Pr2001 (Yetti )
LOCATION:Nexsource Centre- Rink 2
END:VEVENT
BEGIN:VEVENT
UID:G99612@sportzsoft.com
DTSTART:20190504T023000Z
DTEND:20190504T043000Z
SUMMARY:Game #JS-014 vs Renegades
LOCATION:Kinex- Red Deer
END:VEVENT
BEGIN:VEVENT
UID:G99624@sportzsoft.com
DTSTART:20190505T213000Z
DTEND:20190505T233000Z
SUMMARY:Game #JS-020 vs Venom
LOCATION:Nexsource Centre- Rink 2
END:VEVENT
BEGIN:VEVENT
UID:P71163@sportzsoft.com
DTSTART:20190508T020000Z
DTEND:20190508T030000Z
SUMMARY:Practice #Pr2001 (Yetti )
LOCATION:Nexsource Centre- Rink 2
END:VEVENT
BEGIN:VEVENT
UID:P71178@sportzsoft.com
DTSTART:20190510T020000Z
DTEND:20190510T030000Z
SUMMARY:Practice #Pr2001 (Yetti )
LOCATION:Nexsource Centre- Rink 2
END:VEVENT
BEGIN:VEVENT
UID:G99647@sportzsoft.com
DTSTART:20190512T033000Z
DTEND:20190512T053000Z
SUMMARY:Game #JS-029 vs Sun Devils
LOCATION:Castegar & District Recreation Centre
END:VEVENT
BEGIN:VEVENT
UID:G99573@sportzsoft.com
DTSTART:20190512T180000Z
DTEND:20190512T200000Z
SUMMARY:Game #JS-031 vs West Kootenay
LOCATION:Castegar & District Recreation Centre
END:VEVENT
BEGIN:VEVENT
UID:P71164@sportzsoft.com
DTSTART:20190515T020000Z
DTEND:20190515T030000Z
SUMMARY:Practice #Pr2001 (Yetti )
LOCATION:Nexsource Centre- Rink 2
END:VEVENT
BEGIN:VEVENT
UID:P71179@sportzsoft.com
DTSTART:20190517T020000Z
DTEND:20190517T030000Z
SUMMARY:Practice #Pr2001 (Yetti )
LOCATION:Nexsource Centre- Rink 2
END:VEVENT
BEGIN:VEVENT
UID:P71165@sportzsoft.com
DTSTART:20190522T020000Z
DTEND:20190522T030000Z
SUMMARY:Practice #Pr2001 (Yetti )
LOCATION:Nexsource Centre- Rink 2
END:VEVENT
BEGIN:VEVENT
UID:G99610@sportzsoft.com
DTSTART:20190523T023000Z
DTEND:20190523T043000Z
SUMMARY:Game #JS-040 vs Renegades
LOCATION:Nexsource Centre- Rink 2
END:VEVENT
BEGIN:VEVENT
UID:P71180@sportzsoft.com
DTSTART:20190524T020000Z
DTEND:20190524T030000Z
SUMMARY:Practice #Pr2001 (Yetti )
LOCATION:Nexsource Centre- Rink 2
END:VEVENT
BEGIN:VEVENT
UID:P71166@sportzsoft.com
DTSTART:20190529T020000Z
DTEND:20190529T030000Z
SUMMARY:Practice #Pr2001 (Yetti )
LOCATION:Nexsource Centre- Rink 2
END:VEVENT
BEGIN:VEVENT
UID:G99608@sportzsoft.com
DTSTART:20190530T020000Z
DTEND:20190530T040000Z
SUMMARY:Game #JS-047 vs Stingers
LOCATION:Olds Sports Complex Main
END:VEVENT
BEGIN:VEVENT
UID:P71181@sportzsoft.com
DTSTART:20190531T020000Z
DTEND:20190531T030000Z
SUMMARY:Practice #Pr2001 (Yetti )
LOCATION:Nexsource Centre- Rink 2
END:VEVENT
BEGIN:VEVENT
UID:G99606@sportzsoft.com
DTSTART:20190601T190000Z
DTEND:20190601T210000Z
SUMMARY:Game #JS-050 vs Wranglers
LOCATION:Nexsource Centre- Rink 2
END:VEVENT
BEGIN:VEVENT
UID:P71167@sportzsoft.com
DTSTART:20190605T020000Z
DTEND:20190605T030000Z
SUMMARY:Practice #Pr2001 (Yetti )
LOCATION:Nexsource Centre- Rink 2
END:VEVENT
BEGIN:VEVENT
UID:P71182@sportzsoft.com
DTSTART:20190607T020000Z
DTEND:20190607T030000Z
SUMMARY:Practice #Pr2001 (Yetti )
LOCATION:Nexsource Centre- Rink 2
END:VEVENT
BEGIN:VEVENT
UID:G99625@sportzsoft.com
DTSTART:20190608T230000Z
DTEND:20190609T010000Z
SUMMARY:Game #JS-062 vs Heat
LOCATION:Nexsource Centre- Rink 2
END:VEVENT
BEGIN:VEVENT
UID:G99611@sportzsoft.com
DTSTART:20190609T210000Z
DTEND:20190609T230000Z
SUMMARY:Game #JS-068 vs Rage T2
LOCATION:Nexsource Centre- Rink 2
END:VEVENT
BEGIN:VEVENT
UID:P71168@sportzsoft.com
DTSTART:20190612T020000Z
DTEND:20190612T030000Z
SUMMARY:Practice #Pr2001 (Yetti )
LOCATION:Nexsource Centre- Rink 2
END:VEVENT
BEGIN:VEVENT
UID:P71183@sportzsoft.com
DTSTART:20190614T020000Z
DTEND:20190614T030000Z
SUMMARY:Practice #Pr2001 (Yetti )
LOCATION:Nexsource Centre- Rink 2
END:VEVENT
BEGIN:VEVENT
UID:G99623@sportzsoft.com
DTSTART:20190615T200000Z
DTEND:20190615T220000Z
SUMMARY:Game #JS-074 vs Axemen T2
LOCATION:Nexsource Centre- Rink 2
END:VEVENT
BEGIN:VEVENT
UID:G99613@sportzsoft.com
DTSTART:20190616T210000Z
DTEND:20190616T230000Z
SUMMARY:Game #JS-080 vs Rage T2
LOCATION:Spray Lake Sawmills Family Sports Centre - Totem 1
END:VEVENT
BEGIN:VEVENT
UID:P71169@sportzsoft.com
DTSTART:20190619T020000Z
DTEND:20190619T030000Z
SUMMARY:Practice #Pr2001 (Yetti )
LOCATION:Nexsource Centre- Rink 2
END:VEVENT
BEGIN:VEVENT
UID:P71184@sportzsoft.com
DTSTART:20190621T020000Z
DTEND:20190621T030000Z
SUMMARY:Practice #Pr2001 (Yetti )
LOCATION:Nexsource Centre- Rink 2
END:VEVENT
BEGIN:VEVENT
UID:P71170@sportzsoft.com
DTSTART:20190626T020000Z
DTEND:20190626T030000Z
SUMMARY:Practice #Pr2001 (Yetti )
LOCATION:Nexsource Centre- Rink 2
END:VEVENT
BEGIN:VEVENT
UID:P71185@sportzsoft.com
DTSTART:20190628T020000Z
DTEND:20190628T030000Z
SUMMARY:Practice #Pr2001 (Yetti )
LOCATION:Nexsource Centre- Rink 2
END:VEVENT
BEGIN:VEVENT
UID:P71171@sportzsoft.com
DTSTART:20190703T020000Z
DTEND:20190703T030000Z
SUMMARY:Practice #Pr2001 (Yetti )
LOCATION:Nexsource Centre- Rink 2
END:VEVENT
BEGIN:VEVENT
UID:P71186@sportzsoft.com
DTSTART:20190705T020000Z
DTEND:20190705T030000Z
SUMMARY:Practice #Pr2001 (Yetti )
LOCATION:Nexsource Centre- Rink 2
END:VEVENT
BEGIN:VEVENT
UID:G104426@sportzsoft.com
DTSTART:20190706T230000Z
DTEND:20190707T010000Z
SUMMARY:Game #J2SR2-01 vs Sun Devils
LOCATION:Nexsource Centre- Rink 1
END:VEVENT
BEGIN:VEVENT
UID:G104427@sportzsoft.com
DTSTART:20190707T170000Z
DTEND:20190707T190000Z
SUMMARY:Game #J2SR2-02 vs Sun Devils
LOCATION:Nexsource Centre- Rink 1
END:VEVENT
BEGIN:VEVENT
UID:G104428@sportzsoft.com
DTSTART:20190707T220000Z
DTEND:20190708T000000Z
SUMMARY:Game #J2SR2-03 vs Sun Devils (cancelled)
LOCATION:Nexsource Centre- Rink 1
END:VEVENT
BEGIN:VEVENT
UID:P71172@sportzsoft.com
DTSTART:20190710T020000Z
DTEND:20190710T030000Z
SUMMARY:Practice #Pr2001 (Yetti )
LOCATION:Nexsource Centre- Rink 2
END:VEVENT
BEGIN:VEVENT
UID:P71187@sportzsoft.com
DTSTART:20190712T020000Z
DTEND:20190712T030000Z
SUMMARY:Practice #Pr2001 (Yetti )
LOCATION:Nexsource Centre- Rink 2
END:VEVENT
BEGIN:VEVENT
UID:P71173@sportzsoft.com
DTSTART:20190717T020000Z
DTEND:20190717T030000Z
SUMMARY:Practice #Pr2001 (Yetti )
LOCATION:Nexsource Centre- Rink 2
END:VEVENT
BEGIN:VEVENT
UID:P71188@sportzsoft.com
DTSTART:20190719T020000Z
DTEND:20190719T030000Z
SUMMARY:Practice #Pr2001 (Yetti )
LOCATION:Nexsource Centre- Rink 2
END:VEVENT
BEGIN:VEVENT
UID:G104457@sportzsoft.com
DTSTART:20190720T030000Z
DTEND:20190720T050000Z
SUMMARY:Game #J2Pr-02 vs Heat
LOCATION:Jubilee Recreation Centre
END:VEVENT
BEGIN:VEVENT
UID:G104459@sportzsoft.com
DTSTART:20190720T200000Z
DTEND:20190720T220000Z
SUMMARY:Game #J2Pr-04 vs L-Heat
LOCATION:Jubilee Recreation Centre
END:VEVENT
BEGIN:VEVENT
UID:G104461@sportzsoft.com
DTSTART:20190721T030000Z
DTEND:20190721T050000Z
SUMMARY:Game #J2Pr-06 vs Titans Tier II
LOCATION:Jubilee Recreation Centre
END:VEVENT
BEGIN:VEVENT
UID:G104463@sportzsoft.com
DTSTART:20190721T200000Z
DTEND:20190721T220000Z
SUMMARY:Game #J2Pr-08 vs Titans Tier II
LOCATION:Jubilee Recreation Centre
END:VEVENT
END:VCALENDAR
