BEGIN:VCALENDAR
VERSION:2.0
PRODID:SportzSoftTeamWeb
TZ:+00
BEGIN:VEVENT
UID:E42364@sportzsoft.com
DTSTART:20190107T070000Z
DTEND:20190107T070000Z
SUMMARY:Event #42364 2019 Winter Lacrosse Conditioning 
LOCATION:Collicutt Centre 
END:VEVENT
BEGIN:VEVENT
UID:G99645@sportzsoft.com
DTSTART:20190427T203000Z
DTEND:20190427T223000Z
SUMMARY:Game #JS-004 vs Sun Devils
LOCATION:Kinex- Red Deer
END:VEVENT
BEGIN:VEVENT
UID:G99612@sportzsoft.com
DTSTART:20190504T023000Z
DTEND:20190504T043000Z
SUMMARY:Game #JS-014 vs Yetti
LOCATION:Kinex- Red Deer
END:VEVENT
BEGIN:VEVENT
UID:G99617@sportzsoft.com
DTSTART:20190506T020000Z
DTEND:20190506T040000Z
SUMMARY:Game #JS-021 vs Stingers
LOCATION:Kinex- Red Deer
END:VEVENT
BEGIN:VEVENT
UID:G99615@sportzsoft.com
DTSTART:20190511T200000Z
DTEND:20190511T220000Z
SUMMARY:Game #JS-028 vs Rage T2
LOCATION:Spray Lake Sawmills Family Sports Centre - Totem 1
END:VEVENT
BEGIN:VEVENT
UID:G99640@sportzsoft.com
DTSTART:20190512T210000Z
DTEND:20190512T230000Z
SUMMARY:Game #JS-032 vs Venom
LOCATION:Strathmore Family Centre - Gold
END:VEVENT
BEGIN:VEVENT
UID:G99616@sportzsoft.com
DTSTART:20190516T020000Z
DTEND:20190516T040000Z
SUMMARY:Game #JS-035 vs Stingers
LOCATION:Olds Sports Complex Main
END:VEVENT
BEGIN:VEVENT
UID:G99610@sportzsoft.com
DTSTART:20190523T023000Z
DTEND:20190523T043000Z
SUMMARY:Game #JS-040 vs Yetti
LOCATION:Nexsource Centre- Rink 2
END:VEVENT
BEGIN:VEVENT
UID:G99628@sportzsoft.com
DTSTART:20190601T030000Z
DTEND:20190601T050000Z
SUMMARY:Game #JS-049 vs Heat
LOCATION:Kinex- Red Deer
END:VEVENT
BEGIN:VEVENT
UID:G99614@sportzsoft.com
DTSTART:20190602T000000Z
DTEND:20190602T020000Z
SUMMARY:Game #JS-010 vs Rage T2
LOCATION:Kinex- Red Deer
END:VEVENT
BEGIN:VEVENT
UID:G99603@sportzsoft.com
DTSTART:20190602T193000Z
DTEND:20190602T213000Z
SUMMARY:Game #JS-053 vs Wranglers
LOCATION:Brentwood Sportsplex
END:VEVENT
BEGIN:VEVENT
UID:G99626@sportzsoft.com
DTSTART:20190609T033000Z
DTEND:20190609T053000Z
SUMMARY:Game #JS-065 vs Sabrecats
LOCATION:Memorial - Cranbrook
END:VEVENT
BEGIN:VEVENT
UID:G99577@sportzsoft.com
DTSTART:20190609T173000Z
DTEND:20190609T193000Z
SUMMARY:Game #JS-066 vs Cranbrook
LOCATION:Memorial - Cranbrook
END:VEVENT
BEGIN:VEVENT
UID:G99602@sportzsoft.com
DTSTART:20190615T230000Z
DTEND:20190616T010000Z
SUMMARY:Game #JS-075 vs Wranglers
LOCATION:Kinex- Red Deer
END:VEVENT
BEGIN:VEVENT
UID:G99627@sportzsoft.com
DTSTART:20190616T203000Z
DTEND:20190616T223000Z
SUMMARY:Game #JS-077 vs Axemen T2
LOCATION:Kinex- Red Deer
END:VEVENT
BEGIN:VEVENT
UID:G104435@sportzsoft.com
DTSTART:20190706T190000Z
DTEND:20190706T210000Z
SUMMARY:Game #J2SR2-04 vs Heat
LOCATION:Kinex- Red Deer
END:VEVENT
BEGIN:VEVENT
UID:G104436@sportzsoft.com
DTSTART:20190707T190000Z
DTEND:20190707T210000Z
SUMMARY:Game #J2SR2-05 vs Heat
LOCATION:Kinex- Red Deer
END:VEVENT
BEGIN:VEVENT
UID:G104437@sportzsoft.com
DTSTART:20190708T000000Z
DTEND:20190708T020000Z
SUMMARY:Game #J2SR2-06 vs Heat (cancelled)
LOCATION:Kinex- Red Deer
END:VEVENT
END:VCALENDAR
