BEGIN:VCALENDAR
VERSION:2.0
PRODID:SportzSoftTeamWeb
TZ:+00
BEGIN:VEVENT
UID:P74978@sportzsoft.com
DTSTART:20190403T030000Z
DTEND:20190403T040000Z
SUMMARY:Practice #Pr2020 (Stingers )
LOCATION:
END:VEVENT
BEGIN:VEVENT
UID:P74979@sportzsoft.com
DTSTART:20190404T040000Z
DTEND:20190404T050000Z
SUMMARY:Practice #Pr2021 (Stingers )
LOCATION:Olds Sports Complex Main
END:VEVENT
BEGIN:VEVENT
UID:P74980@sportzsoft.com
DTSTART:20190405T030000Z
DTEND:20190405T040000Z
SUMMARY:Practice #Pr2022 (Stingers )
LOCATION:Olds Sports Complex Main
END:VEVENT
BEGIN:VEVENT
UID:P74981@sportzsoft.com
DTSTART:20190409T040000Z
DTEND:20190409T050000Z
SUMMARY:Practice #Pr2023 (Stingers )
LOCATION:Olds Sports Complex Main
END:VEVENT
BEGIN:VEVENT
UID:P74982@sportzsoft.com
DTSTART:20190410T030000Z
DTEND:20190410T040000Z
SUMMARY:Practice #Pr2024 (Stingers )
LOCATION:Olds Sports Complex Main
END:VEVENT
BEGIN:VEVENT
UID:P74983@sportzsoft.com
DTSTART:20190411T040000Z
DTEND:20190411T050000Z
SUMMARY:Practice #Pr2025 (Stingers )
LOCATION:Olds Sports Complex Main
END:VEVENT
BEGIN:VEVENT
UID:P74984@sportzsoft.com
DTSTART:20190412T030000Z
DTEND:20190412T040000Z
SUMMARY:Practice #Pr2026 (Stingers )
LOCATION:Olds Sports Complex Main
END:VEVENT
BEGIN:VEVENT
UID:G99609@sportzsoft.com
DTSTART:20190425T023000Z
DTEND:20190425T043000Z
SUMMARY:Game #JS-001 vs Yetti
LOCATION:Nexsource Centre- Rink 2
END:VEVENT
BEGIN:VEVENT
UID:G99600@sportzsoft.com
DTSTART:20190428T210000Z
DTEND:20190428T230000Z
SUMMARY:Game #JS-012 vs Wranglers
LOCATION:Brentwood Sportsplex
END:VEVENT
BEGIN:VEVENT
UID:G99629@sportzsoft.com
DTSTART:20190505T010000Z
DTEND:20190505T030000Z
SUMMARY:Game #JS-015 vs Sabrecats
LOCATION:Didsbury
END:VEVENT
BEGIN:VEVENT
UID:G99617@sportzsoft.com
DTSTART:20190506T020000Z
DTEND:20190506T040000Z
SUMMARY:Game #JS-021 vs Renegades
LOCATION:Kinex- Red Deer
END:VEVENT
BEGIN:VEVENT
UID:G99618@sportzsoft.com
DTSTART:20190511T020000Z
DTEND:20190511T040000Z
SUMMARY:Game #JS-025 vs Rage T2
LOCATION:Spray Lake Sawmills Family Sports Centre - Totem 1
END:VEVENT
BEGIN:VEVENT
UID:G99601@sportzsoft.com
DTSTART:20190512T020000Z
DTEND:20190512T040000Z
SUMMARY:Game #JS-030 vs Wranglers
LOCATION:Olds Sports Complex Main
END:VEVENT
BEGIN:VEVENT
UID:G99616@sportzsoft.com
DTSTART:20190516T020000Z
DTEND:20190516T040000Z
SUMMARY:Game #JS-035 vs Renegades
LOCATION:Olds Sports Complex Main
END:VEVENT
BEGIN:VEVENT
UID:G99608@sportzsoft.com
DTSTART:20190530T020000Z
DTEND:20190530T040000Z
SUMMARY:Game #JS-047 vs Yetti
LOCATION:Olds Sports Complex Main
END:VEVENT
BEGIN:VEVENT
UID:G99644@sportzsoft.com
DTSTART:20190602T213000Z
DTEND:20190602T233000Z
SUMMARY:Game #JS-055 vs Sun Devils
LOCATION:Moose Recreation Centre
END:VEVENT
BEGIN:VEVENT
UID:G99630@sportzsoft.com
DTSTART:20190609T033000Z
DTEND:20190609T053000Z
SUMMARY:Game #JS-063 vs Axemen T2
LOCATION:Castegar & District Recreation Centre
END:VEVENT
BEGIN:VEVENT
UID:G99574@sportzsoft.com
DTSTART:20190609T180000Z
DTEND:20190609T200000Z
SUMMARY:Game #JS-067 vs West Kootenay
LOCATION:Castegar & District Recreation Centre
END:VEVENT
BEGIN:VEVENT
UID:G99619@sportzsoft.com
DTSTART:20190613T013000Z
DTEND:20190613T033000Z
SUMMARY:Game #JS-005 vs Rage T2
LOCATION:Olds Sports Complex Main
END:VEVENT
BEGIN:VEVENT
UID:G99631@sportzsoft.com
DTSTART:20190615T020000Z
DTEND:20190615T040000Z
SUMMARY:Game #JS-073 vs Heat
LOCATION:Olds Sports Complex Main
END:VEVENT
BEGIN:VEVENT
UID:G99632@sportzsoft.com
DTSTART:20190616T203000Z
DTEND:20190616T223000Z
SUMMARY:Game #JS-078 vs Venom
LOCATION:Olds Sports Complex Main
END:VEVENT
END:VCALENDAR
