BEGIN:VCALENDAR
VERSION:2.0
PRODID:SportzSoftTeamWeb
TZ:+00
BEGIN:VEVENT
UID:P72264@sportzsoft.com
DTSTART:20190307T013000Z
DTEND:20190307T030000Z
SUMMARY:Practice #W2PR001 (Wranglers )
LOCATION:Calgary Genesis Center (NE)
END:VEVENT
BEGIN:VEVENT
UID:E43083@sportzsoft.com
DTSTART:20190307T013000Z
DTEND:20190307T030000Z
SUMMARY:Event #43083 Pre-season Floor Session
LOCATION:NE Genesis Centre, FieldHouse #1
END:VEVENT
BEGIN:VEVENT
UID:P72265@sportzsoft.com
DTSTART:20190314T020000Z
DTEND:20190314T033000Z
SUMMARY:Practice #W2PR002 (Wranglers )
LOCATION:Calgary Genesis Center (NE)
END:VEVENT
BEGIN:VEVENT
UID:E43084@sportzsoft.com
DTSTART:20190314T020000Z
DTEND:20190314T033000Z
SUMMARY:Event #43084 Pre-season Floor Session
LOCATION:NE Genesis Centre, FieldHouse #1
END:VEVENT
BEGIN:VEVENT
UID:P72266@sportzsoft.com
DTSTART:20190319T020000Z
DTEND:20190319T033000Z
SUMMARY:Practice #W2PR003 (Wranglers )
LOCATION:Calgary Genesis Center (NE)
END:VEVENT
BEGIN:VEVENT
UID:E43085@sportzsoft.com
DTSTART:20190319T020000Z
DTEND:20190319T033000Z
SUMMARY:Event #43085 Pre-season Floor Session
LOCATION:NE Genesis Centre, FieldHouse #1
END:VEVENT
BEGIN:VEVENT
UID:P72267@sportzsoft.com
DTSTART:20190328T020000Z
DTEND:20190328T033000Z
SUMMARY:Practice #W2PR004 (Wranglers )
LOCATION:Calgary Genesis Center (NE)
END:VEVENT
BEGIN:VEVENT
UID:E43086@sportzsoft.com
DTSTART:20190328T020000Z
DTEND:20190328T033000Z
SUMMARY:Event #43086 Pre-season Floor Session
LOCATION:NE Genesis Centre, FieldHouse #1
END:VEVENT
BEGIN:VEVENT
UID:P74898@sportzsoft.com
DTSTART:20190410T033000Z
DTEND:20190410T050000Z
SUMMARY:Practice #Pr2014 (Wranglers )
LOCATION:Brentwood Sportsplex
END:VEVENT
BEGIN:VEVENT
UID:E43163@sportzsoft.com
DTSTART:20190410T033000Z
DTEND:20190410T050000Z
SUMMARY:Event #43163 Pre-Season Practice
LOCATION:Brentwood Sportsplex
END:VEVENT
BEGIN:VEVENT
UID:P74899@sportzsoft.com
DTSTART:20190412T020000Z
DTEND:20190412T033000Z
SUMMARY:Practice #Pr2015 (Wranglers )
LOCATION:Brentwood Sportsplex
END:VEVENT
BEGIN:VEVENT
UID:E43164@sportzsoft.com
DTSTART:20190412T020000Z
DTEND:20190412T033000Z
SUMMARY:Event #43164 Pre-Season Practice
LOCATION:Brentwood Sportsplex
END:VEVENT
BEGIN:VEVENT
UID:P74900@sportzsoft.com
DTSTART:20190417T033000Z
DTEND:20190417T050000Z
SUMMARY:Practice #Pr2016 (Wranglers )
LOCATION:Brentwood Sportsplex
END:VEVENT
BEGIN:VEVENT
UID:E43172@sportzsoft.com
DTSTART:20190417T033000Z
DTEND:20190417T050000Z
SUMMARY:Event #43172 Pre-Season Practice
LOCATION:Brentwood Sportsplex
END:VEVENT
BEGIN:VEVENT
UID:P74901@sportzsoft.com
DTSTART:20190419T020000Z
DTEND:20190419T033000Z
SUMMARY:Practice #Pr2017 (Wranglers )
LOCATION:Brentwood Sportsplex
END:VEVENT
BEGIN:VEVENT
UID:E43173@sportzsoft.com
DTSTART:20190419T020000Z
DTEND:20190419T033000Z
SUMMARY:Event #43173 Pre-Season Practice
LOCATION:Brentwood Sportsplex
END:VEVENT
BEGIN:VEVENT
UID:P74902@sportzsoft.com
DTSTART:20190424T033000Z
DTEND:20190424T050000Z
SUMMARY:Practice #Pr2018 (Wranglers )
LOCATION:Brentwood Sportsplex
END:VEVENT
BEGIN:VEVENT
UID:E43174@sportzsoft.com
DTSTART:20190424T033000Z
DTEND:20190424T050000Z
SUMMARY:Event #43174 Pre-Season Practice
LOCATION:Brentwood Sportsplex
END:VEVENT
BEGIN:VEVENT
UID:P74903@sportzsoft.com
DTSTART:20190426T020000Z
DTEND:20190426T033000Z
SUMMARY:Practice #Pr2019 (Wranglers )
LOCATION:Brentwood Sportsplex
END:VEVENT
BEGIN:VEVENT
UID:E43175@sportzsoft.com
DTSTART:20190426T020000Z
DTEND:20190426T033000Z
SUMMARY:Event #43175 Pre-Season Practice
LOCATION:Brentwood Sportsplex
END:VEVENT
BEGIN:VEVENT
UID:G99607@sportzsoft.com
DTSTART:20190427T210000Z
DTEND:20190427T230000Z
SUMMARY:Game #JS-006 vs Yetti
LOCATION:Brentwood Sportsplex
END:VEVENT
BEGIN:VEVENT
UID:G99600@sportzsoft.com
DTSTART:20190428T210000Z
DTEND:20190428T230000Z
SUMMARY:Game #JS-012 vs Stingers
LOCATION:Brentwood Sportsplex
END:VEVENT
BEGIN:VEVENT
UID:P78301@sportzsoft.com
DTSTART:20190501T033000Z
DTEND:20190501T050000Z
SUMMARY:Practice #Pr2037 (Wranglers )
LOCATION:Brentwood Sportsplex
END:VEVENT
BEGIN:VEVENT
UID:P78302@sportzsoft.com
DTSTART:20190503T020000Z
DTEND:20190503T033000Z
SUMMARY:Practice #Pr2038 (Wranglers )
LOCATION:Brentwood Sportsplex
END:VEVENT
BEGIN:VEVENT
UID:G99621@sportzsoft.com
DTSTART:20190505T183000Z
DTEND:20190505T203000Z
SUMMARY:Game #JS-018 vs Cranbrook
LOCATION:Brentwood Sportsplex
END:VEVENT
BEGIN:VEVENT
UID:G99635@sportzsoft.com
DTSTART:20190507T020000Z
DTEND:20190507T040000Z
SUMMARY:Game #JS-022 vs Axemen T2
LOCATION:Stu Peppard
END:VEVENT
BEGIN:VEVENT
UID:P78303@sportzsoft.com
DTSTART:20190508T033000Z
DTEND:20190508T050000Z
SUMMARY:Practice #Pr2039 (Wranglers )
LOCATION:Brentwood Sportsplex
END:VEVENT
BEGIN:VEVENT
UID:P78304@sportzsoft.com
DTSTART:20190510T040000Z
DTEND:20190510T050000Z
SUMMARY:Practice #Pr2040 (Wranglers )
LOCATION:Brentwood Sportsplex
END:VEVENT
BEGIN:VEVENT
UID:G99601@sportzsoft.com
DTSTART:20190512T020000Z
DTEND:20190512T040000Z
SUMMARY:Game #JS-030 vs Stingers
LOCATION:Olds Sports Complex Main
END:VEVENT
BEGIN:VEVENT
UID:G99637@sportzsoft.com
DTSTART:20190514T020000Z
DTEND:20190514T040000Z
SUMMARY:Game #JS-033 vs Sabrecats
LOCATION:Stu Peppard
END:VEVENT
BEGIN:VEVENT
UID:P78305@sportzsoft.com
DTSTART:20190515T033000Z
DTEND:20190515T050000Z
SUMMARY:Practice #Pr2041 (Wranglers )
LOCATION:Brentwood Sportsplex
END:VEVENT
BEGIN:VEVENT
UID:P78306@sportzsoft.com
DTSTART:20190517T013000Z
DTEND:20190517T023000Z
SUMMARY:Practice #Pr2042 (Wranglers )
LOCATION:Brentwood Sportsplex
END:VEVENT
BEGIN:VEVENT
UID:P78307@sportzsoft.com
DTSTART:20190522T033000Z
DTEND:20190522T050000Z
SUMMARY:Practice #Pr2043 (Wranglers )
LOCATION:Brentwood Sportsplex
END:VEVENT
BEGIN:VEVENT
UID:P78308@sportzsoft.com
DTSTART:20190524T020000Z
DTEND:20190524T033000Z
SUMMARY:Practice #Pr2044 (Wranglers )
LOCATION:Brentwood Sportsplex
END:VEVENT
BEGIN:VEVENT
UID:P78309@sportzsoft.com
DTSTART:20190529T033000Z
DTEND:20190529T050000Z
SUMMARY:Practice #Pr2045 (Wranglers )
LOCATION:Brentwood Sportsplex
END:VEVENT
BEGIN:VEVENT
UID:G99634@sportzsoft.com
DTSTART:20190530T030000Z
DTEND:20190530T050000Z
SUMMARY:Game #JS-048 vs Venom
LOCATION:Brentwood Sportsplex
END:VEVENT
BEGIN:VEVENT
UID:P78311@sportzsoft.com
DTSTART:20190531T013000Z
DTEND:20190531T023000Z
SUMMARY:Practice #Pr2046 (Wranglers )
LOCATION:Brentwood Sportsplex
END:VEVENT
BEGIN:VEVENT
UID:G99606@sportzsoft.com
DTSTART:20190601T190000Z
DTEND:20190601T210000Z
SUMMARY:Game #JS-050 vs Yetti
LOCATION:Nexsource Centre- Rink 2
END:VEVENT
BEGIN:VEVENT
UID:G99603@sportzsoft.com
DTSTART:20190602T193000Z
DTEND:20190602T213000Z
SUMMARY:Game #JS-053 vs Renegades
LOCATION:Brentwood Sportsplex
END:VEVENT
BEGIN:VEVENT
UID:P78312@sportzsoft.com
DTSTART:20190605T033000Z
DTEND:20190605T050000Z
SUMMARY:Practice #Pr2047 (Wranglers )
LOCATION:Brentwood Sportsplex
END:VEVENT
BEGIN:VEVENT
UID:G99642@sportzsoft.com
DTSTART:20190606T020000Z
DTEND:20190606T040000Z
SUMMARY:Game #JS-058 vs Heat
LOCATION:Bob Snodgrass Recreation Centre - Main
END:VEVENT
BEGIN:VEVENT
UID:P78313@sportzsoft.com
DTSTART:20190607T020000Z
DTEND:20190607T033000Z
SUMMARY:Practice #Pr2048 (Wranglers )
LOCATION:Brentwood Sportsplex
END:VEVENT
BEGIN:VEVENT
UID:G99605@sportzsoft.com
DTSTART:20190608T013000Z
DTEND:20190608T033000Z
SUMMARY:Game #JS-059 vs Rage T2
LOCATION:Brentwood Sportsplex
END:VEVENT
BEGIN:VEVENT
UID:G99643@sportzsoft.com
DTSTART:20190609T213000Z
DTEND:20190609T233000Z
SUMMARY:Game #JS-069 vs Sun Devils
LOCATION:Moose Recreation Centre
END:VEVENT
BEGIN:VEVENT
UID:P78314@sportzsoft.com
DTSTART:20190611T153000Z
DTEND:20190612T050000Z
SUMMARY:Practice #Pr2049 (Wranglers )
LOCATION:Brentwood Sportsplex
END:VEVENT
BEGIN:VEVENT
UID:P78315@sportzsoft.com
DTSTART:20190614T023000Z
DTEND:20190614T033000Z
SUMMARY:Practice #Pr2050 (Wranglers )
LOCATION:Brentwood Sportsplex
END:VEVENT
BEGIN:VEVENT
UID:G99604@sportzsoft.com
DTSTART:20190615T020000Z
DTEND:20190615T040000Z
SUMMARY:Game #JS-072 vs Rage T2
LOCATION:Spray Lake Sawmills Family Sports Centre - Totem 1
END:VEVENT
BEGIN:VEVENT
UID:G99602@sportzsoft.com
DTSTART:20190615T230000Z
DTEND:20190616T010000Z
SUMMARY:Game #JS-075 vs Renegades
LOCATION:Kinex- Red Deer
END:VEVENT
BEGIN:VEVENT
UID:P78316@sportzsoft.com
DTSTART:20190619T033000Z
DTEND:20190619T050000Z
SUMMARY:Practice #Pr2051 (Wranglers )
LOCATION:Brentwood Sportsplex
END:VEVENT
BEGIN:VEVENT
UID:P78317@sportzsoft.com
DTSTART:20190621T020000Z
DTEND:20190621T033000Z
SUMMARY:Practice #Pr2052 (Wranglers )
LOCATION:Brentwood Sportsplex
END:VEVENT
BEGIN:VEVENT
UID:G104423@sportzsoft.com
DTSTART:20190622T020000Z
DTEND:20190622T040000Z
SUMMARY:Game #J2SR1-04 vs Heat
LOCATION:Bob Snodgrass Recreation Centre - Main
END:VEVENT
BEGIN:VEVENT
UID:G104424@sportzsoft.com
DTSTART:20190622T200000Z
DTEND:20190622T220000Z
SUMMARY:Game #J2SR1-05 vs Heat
LOCATION:Bob Snodgrass Recreation Centre - Main
END:VEVENT
BEGIN:VEVENT
UID:G104425@sportzsoft.com
DTSTART:20190623T200000Z
DTEND:20190623T220000Z
SUMMARY:Game #J2SR1-06 vs Heat (cancelled)
LOCATION:Bob Snodgrass Recreation Centre - Main
END:VEVENT
BEGIN:VEVENT
UID:P78318@sportzsoft.com
DTSTART:20190626T033000Z
DTEND:20190626T050000Z
SUMMARY:Practice #Pr2053 (Wranglers )
LOCATION:Brentwood Sportsplex
END:VEVENT
BEGIN:VEVENT
UID:P78319@sportzsoft.com
DTSTART:20190628T013000Z
DTEND:20190628T023000Z
SUMMARY:Practice #Pr2054 (Wranglers )
LOCATION:Brentwood Sportsplex
END:VEVENT
END:VCALENDAR
