BEGIN:VCALENDAR
VERSION:2.0
PRODID:SportzSoftTeamWeb
TZ:+00
BEGIN:VEVENT
UID:G99709@sportzsoft.com
DTSTART:20190504T200000Z
DTEND:20190504T220000Z
SUMMARY:Game #J2N-009 vs L-Heat
LOCATION:Cold Lake Energy Center - Imperial Oil Place
END:VEVENT
BEGIN:VEVENT
UID:G99659@sportzsoft.com
DTSTART:20190511T233000Z
DTEND:20190512T013000Z
SUMMARY:Game #J2N-017 vs CrudeT2
LOCATION:Jarome Iginla Arena
END:VEVENT
BEGIN:VEVENT
UID:G99684@sportzsoft.com
DTSTART:20190512T213000Z
DTEND:20190512T233000Z
SUMMARY:Game #J2N-020 vs Posse
LOCATION:Centennial Civic Center - Lloydminster
END:VEVENT
BEGIN:VEVENT
UID:G99714@sportzsoft.com
DTSTART:20190516T020000Z
DTEND:20190516T040000Z
SUMMARY:Game #J2N-023 vs ROAR
LOCATION:Vermillion Stadium
END:VEVENT
BEGIN:VEVENT
UID:G99716@sportzsoft.com
DTSTART:20190523T023000Z
DTEND:20190523T043000Z
SUMMARY:Game #J2N-026 vs Wolfpack
LOCATION:Peace Memorial Multiplex Green
END:VEVENT
BEGIN:VEVENT
UID:G99685@sportzsoft.com
DTSTART:20190525T200000Z
DTEND:20190525T220000Z
SUMMARY:Game #J2N-029 vs Posse
LOCATION:Grant Fuhr West Arena
END:VEVENT
BEGIN:VEVENT
UID:G99708@sportzsoft.com
DTSTART:20190530T020000Z
DTEND:20190530T040000Z
SUMMARY:Game #J2N-036 vs L-Heat
LOCATION:Centennial Civic Center - Lloydminster
END:VEVENT
BEGIN:VEVENT
UID:G99702@sportzsoft.com
DTSTART:20190602T183000Z
DTEND:20190602T203000Z
SUMMARY:Game #J2N-040 vs Rock
LOCATION:Centennial Civic Center - Lloydminster
END:VEVENT
BEGIN:VEVENT
UID:G99715@sportzsoft.com
DTSTART:20190606T020000Z
DTEND:20190606T040000Z
SUMMARY:Game #J2N-043 vs ROAR
LOCATION:Centennial Civic Center - Lloydminster
END:VEVENT
BEGIN:VEVENT
UID:G99695@sportzsoft.com
DTSTART:20190608T220000Z
DTEND:20190609T000000Z
SUMMARY:Game #J2N-049 vs Titans Tier II
LOCATION:Ardrossan Recreation Complex East
END:VEVENT
BEGIN:VEVENT
UID:G99703@sportzsoft.com
DTSTART:20190609T190000Z
DTEND:20190609T210000Z
SUMMARY:Game #J2N-050 vs Rock
LOCATION:Rotary Spirit Center
END:VEVENT
BEGIN:VEVENT
UID:G99717@sportzsoft.com
DTSTART:20190613T020000Z
DTEND:20190613T040000Z
SUMMARY:Game #J2N-054 vs Wolfpack
LOCATION:Centennial Civic Center - Lloydminster
END:VEVENT
BEGIN:VEVENT
UID:G99673@sportzsoft.com
DTSTART:20190615T193000Z
DTEND:20190615T213000Z
SUMMARY:Game #J2N-059 vs Warriors Tier 2
LOCATION:Bill Hunter Arena formerly Jasper Place
END:VEVENT
BEGIN:VEVENT
UID:G99694@sportzsoft.com
DTSTART:20190616T183000Z
DTEND:20190616T203000Z
SUMMARY:Game #J2N-062 vs Titans Tier II
LOCATION:Russ Robertson Arena
END:VEVENT
BEGIN:VEVENT
UID:G99672@sportzsoft.com
DTSTART:20190622T220000Z
DTEND:20190623T000000Z
SUMMARY:Game #J2N-068 vs Warriors Tier 2
LOCATION:Centennial Civic Center - Lloydminster
END:VEVENT
BEGIN:VEVENT
UID:G99658@sportzsoft.com
DTSTART:20190623T213000Z
DTEND:20190623T233000Z
SUMMARY:Game #J2N-072 vs CrudeT2
LOCATION:Centennial Civic Center - Lloydminster
END:VEVENT
BEGIN:VEVENT
UID:G104429@sportzsoft.com
DTSTART:20190706T233000Z
DTEND:20190707T013000Z
SUMMARY:Game #J2NR1-01 vs Titans Tier II
LOCATION:Sherwood Park Sports Centre (Shell)
END:VEVENT
BEGIN:VEVENT
UID:G104430@sportzsoft.com
DTSTART:20190707T170000Z
DTEND:20190707T190000Z
SUMMARY:Game #J2NR1-02 vs Titans Tier II
LOCATION:Strathcona Olympiette Centre & Fultonvale Arena
END:VEVENT
BEGIN:VEVENT
UID:G104431@sportzsoft.com
DTSTART:20190707T220000Z
DTEND:20190708T000000Z
SUMMARY:Game #J2NR1-03 vs Titans Tier II
LOCATION:Sherwood Park Sports Centre (Shell)
END:VEVENT
END:VCALENDAR
