BEGIN:VCALENDAR
VERSION:2.0
PRODID:SportzSoftTeamWeb
TZ:+00
BEGIN:VEVENT
UID:P77924@sportzsoft.com
DTSTART:20190424T023000Z
DTEND:20190424T040000Z
SUMMARY:Practice #PJ2N-005 (L-Heat )
LOCATION:Cold Lake Energy Center - Imperial Oil Place
END:VEVENT
BEGIN:VEVENT
UID:P77923@sportzsoft.com
DTSTART:20190426T014500Z
DTEND:20190426T031500Z
SUMMARY:Practice #PJ2N-004 (L-Heat )
LOCATION:Cold Lake Energy Center - Imperial Oil Place
END:VEVENT
BEGIN:VEVENT
UID:G99671@sportzsoft.com
DTSTART:20190427T220000Z
DTEND:20190428T000000Z
SUMMARY:Game #J2N-004 vs Warriors Tier 2
LOCATION:George S. Hughes South Side Arena
END:VEVENT
BEGIN:VEVENT
UID:G99701@sportzsoft.com
DTSTART:20190428T190000Z
DTEND:20190428T210000Z
SUMMARY:Game #J2N-006 vs Rock
LOCATION:Rotary Spirit Center
END:VEVENT
BEGIN:VEVENT
UID:P77926@sportzsoft.com
DTSTART:20190501T023000Z
DTEND:20190501T040000Z
SUMMARY:Practice #PJ2N-007 (L-Heat )
LOCATION:Bonnyville Cenovus
END:VEVENT
BEGIN:VEVENT
UID:P77925@sportzsoft.com
DTSTART:20190502T020000Z
DTEND:20190502T033000Z
SUMMARY:Practice #PJ2N-006 (L-Heat )
LOCATION:Cold Lake Energy Center - Imperial Oil Place
END:VEVENT
BEGIN:VEVENT
UID:G99709@sportzsoft.com
DTSTART:20190504T200000Z
DTEND:20190504T220000Z
SUMMARY:Game #J2N-009 vs Xtreme
LOCATION:Cold Lake Energy Center - Imperial Oil Place
END:VEVENT
BEGIN:VEVENT
UID:G99656@sportzsoft.com
DTSTART:20190505T200000Z
DTEND:20190505T220000Z
SUMMARY:Game #J2N-011 vs CrudeT2
LOCATION:Bonnyville Cenovus
END:VEVENT
BEGIN:VEVENT
UID:P77927@sportzsoft.com
DTSTART:20190508T023000Z
DTEND:20190508T040000Z
SUMMARY:Practice #PJ2N-008 (L-Heat )
LOCATION:Bonnyville Cenovus
END:VEVENT
BEGIN:VEVENT
UID:P77928@sportzsoft.com
DTSTART:20190509T020000Z
DTEND:20190509T033000Z
SUMMARY:Practice #PJ2N-009 (L-Heat )
LOCATION:Cold Lake Energy Center - Imperial Oil Place
END:VEVENT
BEGIN:VEVENT
UID:G99692@sportzsoft.com
DTSTART:20190512T010000Z
DTEND:20190512T030000Z
SUMMARY:Game #J2N-018 vs Titans Tier II
LOCATION:Cold Lake Energy Center - Imperial Oil Place
END:VEVENT
BEGIN:VEVENT
UID:P77929@sportzsoft.com
DTSTART:20190514T030000Z
DTEND:20190514T040000Z
SUMMARY:Practice #PJ2N-010 (L-Heat )
LOCATION:Bonnyville Cenovus
END:VEVENT
BEGIN:VEVENT
UID:G99713@sportzsoft.com
DTSTART:20190516T023000Z
DTEND:20190516T043000Z
SUMMARY:Game #J2N-024 vs Wolfpack
LOCATION:Bonnyville Cenovus
END:VEVENT
BEGIN:VEVENT
UID:P78398@sportzsoft.com
DTSTART:20190522T023000Z
DTEND:20190522T070500Z
SUMMARY:Practice #PJ2N-011 (L-Heat )
LOCATION:Cold Lake Energy Center - Imperial Oil Place
END:VEVENT
BEGIN:VEVENT
UID:G99710@sportzsoft.com
DTSTART:20190523T020000Z
DTEND:20190523T040000Z
SUMMARY:Game #J2N-025 vs ROAR
LOCATION:Vermillion Stadium
END:VEVENT
BEGIN:VEVENT
UID:P78399@sportzsoft.com
DTSTART:20190525T010000Z
DTEND:20190525T070500Z
SUMMARY:Practice #PJ2N-012 (L-Heat )
LOCATION:Bonnyville Cenovus
END:VEVENT
BEGIN:VEVENT
UID:G99657@sportzsoft.com
DTSTART:20190525T233000Z
DTEND:20190526T013000Z
SUMMARY:Game #J2N-032 vs CrudeT2
LOCATION:Go Auto Arena (formerly Northstar Hyundai Arena)
END:VEVENT
BEGIN:VEVENT
UID:G99683@sportzsoft.com
DTSTART:20190526T183000Z
DTEND:20190526T203000Z
SUMMARY:Game #J2N-034 vs Posse
LOCATION:Grant Fuhr West Arena
END:VEVENT
BEGIN:VEVENT
UID:P78400@sportzsoft.com
DTSTART:20190528T030000Z
DTEND:20190528T070500Z
SUMMARY:Practice #PJ2N-013 (L-Heat )
LOCATION:Bonnyville Cenovus
END:VEVENT
BEGIN:VEVENT
UID:G99708@sportzsoft.com
DTSTART:20190530T020000Z
DTEND:20190530T040000Z
SUMMARY:Game #J2N-036 vs Xtreme
LOCATION:Centennial Civic Center - Lloydminster
END:VEVENT
BEGIN:VEVENT
UID:P78401@sportzsoft.com
DTSTART:20190601T010000Z
DTEND:20190601T070500Z
SUMMARY:Practice #PJ2N-014 (L-Heat )
LOCATION:Cold Lake Energy Center - Imperial Oil Place
END:VEVENT
BEGIN:VEVENT
UID:G99700@sportzsoft.com
DTSTART:20190602T010000Z
DTEND:20190602T030000Z
SUMMARY:Game #J2N-039 vs Rock
LOCATION:Cold Lake Energy Center - Imperial Oil Place
END:VEVENT
BEGIN:VEVENT
UID:P79220@sportzsoft.com
DTSTART:20190604T020000Z
DTEND:20190604T033000Z
SUMMARY:Practice #PJ2N-015 (L-Heat )
LOCATION:Bonnyville Cenovus
END:VEVENT
BEGIN:VEVENT
UID:G99712@sportzsoft.com
DTSTART:20190606T023000Z
DTEND:20190606T043000Z
SUMMARY:Game #J2N-044 vs Wolfpack
LOCATION:Peace Memorial Multiplex Green
END:VEVENT
BEGIN:VEVENT
UID:P79221@sportzsoft.com
DTSTART:20190608T010000Z
DTEND:20190608T023000Z
SUMMARY:Practice #PJ2N-016 (L-Heat )
LOCATION:Cold Lake Energy Center - Imperial Oil Place
END:VEVENT
BEGIN:VEVENT
UID:G99670@sportzsoft.com
DTSTART:20190609T183000Z
DTEND:20190609T203000Z
SUMMARY:Game #J2N-051 vs Warriors Tier 2
LOCATION:Bonnyville Cenovus
END:VEVENT
BEGIN:VEVENT
UID:P79222@sportzsoft.com
DTSTART:20190611T020000Z
DTEND:20190611T033000Z
SUMMARY:Practice #PJ2N-017 (L-Heat )
LOCATION:Bonnyville RJ Lalonde Arena
END:VEVENT
BEGIN:VEVENT
UID:P79239@sportzsoft.com
DTSTART:20190614T023000Z
DTEND:20190614T040000Z
SUMMARY:Practice #PJ2N-022 (L-Heat )
LOCATION:Bonnyville RJ Lalonde Arena
END:VEVENT
BEGIN:VEVENT
UID:G99682@sportzsoft.com
DTSTART:20190616T010000Z
DTEND:20190616T030000Z
SUMMARY:Game #J2N-060 vs Posse
LOCATION:Cold Lake Energy Center - Imperial Oil Place
END:VEVENT
BEGIN:VEVENT
UID:P79226@sportzsoft.com
DTSTART:20190618T020000Z
DTEND:20190618T033000Z
SUMMARY:Practice #PJ2N-020 (L-Heat )
LOCATION:Cold Lake Energy Center - Imperial Oil Place
END:VEVENT
BEGIN:VEVENT
UID:P79225@sportzsoft.com
DTSTART:20190620T020000Z
DTEND:20190620T153000Z
SUMMARY:Practice #PJ2N-019 (L-Heat )
LOCATION:Bonnyville RJ Lalonde Arena
END:VEVENT
BEGIN:VEVENT
UID:G99711@sportzsoft.com
DTSTART:20190622T023000Z
DTEND:20190622T043000Z
SUMMARY:Game #J2N-066 vs ROAR
LOCATION:Bonnyville Cenovus
END:VEVENT
BEGIN:VEVENT
UID:G99693@sportzsoft.com
DTSTART:20190623T203000Z
DTEND:20190623T223000Z
SUMMARY:Game #J2N-070 vs Titans Tier II
LOCATION:Sherwood Park Sports Centre (Shell)
END:VEVENT
BEGIN:VEVENT
UID:P79227@sportzsoft.com
DTSTART:20190627T010000Z
DTEND:20190627T023000Z
SUMMARY:Practice #PJ2N-021 (L-Heat )
LOCATION:Cold Lake Energy Center - Imperial Oil Place
END:VEVENT
BEGIN:VEVENT
UID:G104432@sportzsoft.com
DTSTART:20190706T230000Z
DTEND:20190707T010000Z
SUMMARY:Game #J2NR1-04 vs Posse
LOCATION:Cold Lake Energy Center - Imperial Oil Place
END:VEVENT
BEGIN:VEVENT
UID:G104433@sportzsoft.com
DTSTART:20190707T170000Z
DTEND:20190707T190000Z
SUMMARY:Game #J2NR1-05 vs Posse
LOCATION:Cold Lake Energy Center - Imperial Oil Place
END:VEVENT
BEGIN:VEVENT
UID:G104434@sportzsoft.com
DTSTART:20190707T220000Z
DTEND:20190708T000000Z
SUMMARY:Game #J2NR1-06 vs Posse (cancelled)
LOCATION:Cold Lake Energy Center - Imperial Oil Place
END:VEVENT
BEGIN:VEVENT
UID:G104456@sportzsoft.com
DTSTART:20190720T003000Z
DTEND:20190720T023000Z
SUMMARY:Game #J2Pr-01 vs Titans Tier II
LOCATION:Strathcona Olympiette Centre & Fultonvale Arena
END:VEVENT
BEGIN:VEVENT
UID:G104459@sportzsoft.com
DTSTART:20190720T200000Z
DTEND:20190720T220000Z
SUMMARY:Game #J2Pr-04 vs Yetti
LOCATION:Jubilee Recreation Centre
END:VEVENT
BEGIN:VEVENT
UID:G104460@sportzsoft.com
DTSTART:20190721T003000Z
DTEND:20190721T023000Z
SUMMARY:Game #J2Pr-05 vs Heat
LOCATION:Jubilee Recreation Centre
END:VEVENT
BEGIN:VEVENT
UID:G104462@sportzsoft.com
DTSTART:20190721T170000Z
DTEND:20190721T190000Z
SUMMARY:Game #J2Pr-07 vs Heat
LOCATION:Jubilee Recreation Centre
END:VEVENT
END:VCALENDAR
