BEGIN:VCALENDAR
VERSION:2.0
PRODID:SportzSoftTeamWeb
TZ:+00
BEGIN:VEVENT
UID:P73277@sportzsoft.com
DTSTART:20190404T030000Z
DTEND:20190404T040000Z
SUMMARY:Practice #PJ2N-012 (Warriors Tier 2 )
LOCATION:George S. Hughes South Side Arena
END:VEVENT
BEGIN:VEVENT
UID:P73278@sportzsoft.com
DTSTART:20190411T030000Z
DTEND:20190411T040000Z
SUMMARY:Practice #PJ2N-013 (Warriors Tier 2 )
LOCATION:George S. Hughes South Side Arena
END:VEVENT
BEGIN:VEVENT
UID:P73279@sportzsoft.com
DTSTART:20190418T030000Z
DTEND:20190418T040000Z
SUMMARY:Practice #PJ2N-014 (Warriors Tier 2 )
LOCATION:George S. Hughes South Side Arena
END:VEVENT
BEGIN:VEVENT
UID:P73222@sportzsoft.com
DTSTART:20190425T030000Z
DTEND:20190425T040000Z
SUMMARY:Practice #PJ2N-001 (Warriors Tier 2 )
LOCATION:George S. Hughes South Side Arena
END:VEVENT
BEGIN:VEVENT
UID:G99665@sportzsoft.com
DTSTART:20190427T020000Z
DTEND:20190427T040000Z
SUMMARY:Game #J2N-001 vs Posse
LOCATION:George S. Hughes South Side Arena
END:VEVENT
BEGIN:VEVENT
UID:G99671@sportzsoft.com
DTSTART:20190427T220000Z
DTEND:20190428T000000Z
SUMMARY:Game #J2N-004 vs L-Heat
LOCATION:George S. Hughes South Side Arena
END:VEVENT
BEGIN:VEVENT
UID:G99649@sportzsoft.com
DTSTART:20190502T030000Z
DTEND:20190502T050000Z
SUMMARY:Game #J2N-008 vs CrudeT2
LOCATION:Jarome Iginla Arena
END:VEVENT
BEGIN:VEVENT
UID:G99676@sportzsoft.com
DTSTART:20190504T203000Z
DTEND:20190504T223000Z
SUMMARY:Game #J2N-010 vs Wolfpack
LOCATION:Peace Memorial Multiplex Green
END:VEVENT
BEGIN:VEVENT
UID:G99669@sportzsoft.com
DTSTART:20190507T020000Z
DTEND:20190507T040000Z
SUMMARY:Game #J2N-014 vs Rock
LOCATION:George S. Hughes South Side Arena
END:VEVENT
BEGIN:VEVENT
UID:P73227@sportzsoft.com
DTSTART:20190509T030000Z
DTEND:20190509T040000Z
SUMMARY:Practice #PJ2N-003 (Warriors Tier 2 )
LOCATION:George S. Hughes South Side Arena
END:VEVENT
BEGIN:VEVENT
UID:G99667@sportzsoft.com
DTSTART:20190516T020000Z
DTEND:20190516T040000Z
SUMMARY:Game #J2N-022 vs Titans Tier II
LOCATION:George S. Hughes South Side Arena
END:VEVENT
BEGIN:VEVENT
UID:P73233@sportzsoft.com
DTSTART:20190523T030000Z
DTEND:20190523T040000Z
SUMMARY:Practice #PJ2N-005 (Warriors Tier 2 )
LOCATION:George S. Hughes South Side Arena
END:VEVENT
BEGIN:VEVENT
UID:G99668@sportzsoft.com
DTSTART:20190525T013000Z
DTEND:20190525T033000Z
SUMMARY:Game #J2N-028 vs Rock
LOCATION:Rotary Spirit Center
END:VEVENT
BEGIN:VEVENT
UID:G99677@sportzsoft.com
DTSTART:20190525T200000Z
DTEND:20190525T220000Z
SUMMARY:Game #J2N-030 vs Wolfpack
LOCATION:George S. Hughes South Side Arena
END:VEVENT
BEGIN:VEVENT
UID:P73236@sportzsoft.com
DTSTART:20190530T030000Z
DTEND:20190530T040000Z
SUMMARY:Practice #PJ2N-006 (Warriors Tier 2 )
LOCATION:George S. Hughes South Side Arena
END:VEVENT
BEGIN:VEVENT
UID:G99648@sportzsoft.com
DTSTART:20190601T020000Z
DTEND:20190601T040000Z
SUMMARY:Game #J2N-038 vs CrudeT2
LOCATION:George S. Hughes South Side Arena
END:VEVENT
BEGIN:VEVENT
UID:G99664@sportzsoft.com
DTSTART:20190604T023000Z
DTEND:20190604T043000Z
SUMMARY:Game #J2N-042 vs Posse
LOCATION:Grant Fuhr West Arena
END:VEVENT
BEGIN:VEVENT
UID:P73240@sportzsoft.com
DTSTART:20190606T030000Z
DTEND:20190606T040000Z
SUMMARY:Practice #PJ2N-007 (Warriors Tier 2 )
LOCATION:George S. Hughes South Side Arena
END:VEVENT
BEGIN:VEVENT
UID:G99674@sportzsoft.com
DTSTART:20190608T200000Z
DTEND:20190608T220000Z
SUMMARY:Game #J2N-047 vs ROAR
LOCATION:Vermillion Stadium
END:VEVENT
BEGIN:VEVENT
UID:G99670@sportzsoft.com
DTSTART:20190609T183000Z
DTEND:20190609T203000Z
SUMMARY:Game #J2N-051 vs L-Heat
LOCATION:Bonnyville Cenovus
END:VEVENT
BEGIN:VEVENT
UID:G99666@sportzsoft.com
DTSTART:20190613T023000Z
DTEND:20190613T043000Z
SUMMARY:Game #J2N-055 vs Titans Tier II
LOCATION:Sherwood Park Arena
END:VEVENT
BEGIN:VEVENT
UID:G99673@sportzsoft.com
DTSTART:20190615T193000Z
DTEND:20190615T213000Z
SUMMARY:Game #J2N-059 vs Xtreme
LOCATION:Bill Hunter Arena formerly Jasper Place
END:VEVENT
BEGIN:VEVENT
UID:P73248@sportzsoft.com
DTSTART:20190620T030000Z
DTEND:20190620T040000Z
SUMMARY:Practice #PJ2N-009 (Warriors Tier 2 )
LOCATION:George S. Hughes South Side Arena
END:VEVENT
BEGIN:VEVENT
UID:G99672@sportzsoft.com
DTSTART:20190622T220000Z
DTEND:20190623T000000Z
SUMMARY:Game #J2N-068 vs Xtreme
LOCATION:Centennial Civic Center - Lloydminster
END:VEVENT
BEGIN:VEVENT
UID:G99675@sportzsoft.com
DTSTART:20190623T203000Z
DTEND:20190623T223000Z
SUMMARY:Game #J2N-071 vs ROAR
LOCATION:George S. Hughes South Side Arena
END:VEVENT
BEGIN:VEVENT
UID:P73252@sportzsoft.com
DTSTART:20190627T030000Z
DTEND:20190627T040000Z
SUMMARY:Practice #PJ2N-010 (Warriors Tier 2 )
LOCATION:George S. Hughes South Side Arena
END:VEVENT
END:VCALENDAR
