BEGIN:VCALENDAR
VERSION:2.0
PRODID:SportzSoftTeamWeb
TZ:+00
BEGIN:VEVENT
UID:E42225@sportzsoft.com
DTSTART:20190107T013000Z
DTEND:20190107T030000Z
SUMMARY:Event #42225 Training Camp
LOCATION:Calgary Soccer Centre
END:VEVENT
BEGIN:VEVENT
UID:P72861@sportzsoft.com
DTSTART:20190410T023000Z
DTEND:20190410T040000Z
SUMMARY:Practice #PJ1-010 (Shamrocks )
LOCATION:Stu Peppard
END:VEVENT
BEGIN:VEVENT
UID:P72864@sportzsoft.com
DTSTART:20190412T023000Z
DTEND:20190412T040000Z
SUMMARY:Practice #PJ1-011 (Shamrocks )
LOCATION:Stu Peppard
END:VEVENT
BEGIN:VEVENT
UID:P72862@sportzsoft.com
DTSTART:20190417T023000Z
DTEND:20190417T040000Z
SUMMARY:Practice #PJ1-010 (Shamrocks )
LOCATION:Stu Peppard
END:VEVENT
BEGIN:VEVENT
UID:P72865@sportzsoft.com
DTSTART:20190419T023000Z
DTEND:20190419T040000Z
SUMMARY:Practice #PJ1-011 (Shamrocks )
LOCATION:Stu Peppard
END:VEVENT
BEGIN:VEVENT
UID:P72863@sportzsoft.com
DTSTART:20190424T023000Z
DTEND:20190424T040000Z
SUMMARY:Practice #PJ1-010 (Shamrocks )
LOCATION:Stu Peppard
END:VEVENT
BEGIN:VEVENT
UID:P72866@sportzsoft.com
DTSTART:20190426T023000Z
DTEND:20190426T040000Z
SUMMARY:Practice #PJ1-011 (Shamrocks )
LOCATION:Stu Peppard
END:VEVENT
BEGIN:VEVENT
UID:G100099@sportzsoft.com
DTSTART:20190428T000000Z
DTEND:20190428T020000Z
SUMMARY:Game #J1-005 vs Leth Cudas
LOCATION:Lethbridge Henderson Arena
END:VEVENT
BEGIN:VEVENT
UID:G100100@sportzsoft.com
DTSTART:20190428T183000Z
DTEND:20190428T203000Z
SUMMARY:Game #J1-012 vs Leth Cudas
LOCATION:Lethbridge Henderson Arena
END:VEVENT
BEGIN:VEVENT
UID:P72867@sportzsoft.com
DTSTART:20190501T013000Z
DTEND:20190501T030000Z
SUMMARY:Practice #PJ1-012 (Shamrocks )
LOCATION:Stu Peppard
END:VEVENT
BEGIN:VEVENT
UID:P72868@sportzsoft.com
DTSTART:20190503T033000Z
DTEND:20190503T050000Z
SUMMARY:Practice #PJ1-013 (Shamrocks )
LOCATION:Stu Peppard
END:VEVENT
BEGIN:VEVENT
UID:G99987@sportzsoft.com
DTSTART:20190504T230000Z
DTEND:20190505T010000Z
SUMMARY:Game #J1-017 vs Rebels
LOCATION:Jubilee Recreation Centre
END:VEVENT
BEGIN:VEVENT
UID:G99994@sportzsoft.com
DTSTART:20190505T193000Z
DTEND:20190505T213000Z
SUMMARY:Game #J1-021 vs Outlaws
LOCATION:Sherwood Park Arena
END:VEVENT
BEGIN:VEVENT
UID:P72879@sportzsoft.com
DTSTART:20190508T020000Z
DTEND:20190508T033000Z
SUMMARY:Practice #PJ1-014 (Shamrocks )
LOCATION:Stu Peppard
END:VEVENT
BEGIN:VEVENT
UID:G100077@sportzsoft.com
DTSTART:20190510T023000Z
DTEND:20190510T043000Z
SUMMARY:Game #J1-025 vs J Mounties
LOCATION:Acadia Recreation Complex
END:VEVENT
BEGIN:VEVENT
UID:G99953@sportzsoft.com
DTSTART:20190511T030000Z
DTEND:20190511T050000Z
SUMMARY:Game #J1-027 vs Rampage
LOCATION:Kinex- Red Deer
END:VEVENT
BEGIN:VEVENT
UID:P72880@sportzsoft.com
DTSTART:20190515T020000Z
DTEND:20190515T033000Z
SUMMARY:Practice #PJ1-014 (Shamrocks )
LOCATION:Stu Peppard
END:VEVENT
BEGIN:VEVENT
UID:G100078@sportzsoft.com
DTSTART:20190517T023000Z
DTEND:20190517T043000Z
SUMMARY:Game #J1-040 vs J Mounties
LOCATION:Acadia Recreation Complex
END:VEVENT
BEGIN:VEVENT
UID:P72881@sportzsoft.com
DTSTART:20190522T020000Z
DTEND:20190522T033000Z
SUMMARY:Practice #PJ1-014 (Shamrocks )
LOCATION:Stu Peppard
END:VEVENT
BEGIN:VEVENT
UID:P72871@sportzsoft.com
DTSTART:20190524T033000Z
DTEND:20190524T050000Z
SUMMARY:Practice #PJ1-013 (Shamrocks )
LOCATION:Stu Peppard
END:VEVENT
BEGIN:VEVENT
UID:G100088@sportzsoft.com
DTSTART:20190525T013000Z
DTEND:20190525T033000Z
SUMMARY:Game #J1-048 vs Marauders
LOCATION:Stu Peppard
END:VEVENT
BEGIN:VEVENT
UID:G99905@sportzsoft.com
DTSTART:20190526T183000Z
DTEND:20190526T203000Z
SUMMARY:Game #J1-060 vs Blizz
LOCATION:Stu Peppard
END:VEVENT
BEGIN:VEVENT
UID:P72882@sportzsoft.com
DTSTART:20190529T020000Z
DTEND:20190529T033000Z
SUMMARY:Practice #PJ1-014 (Shamrocks )
LOCATION:Stu Peppard
END:VEVENT
BEGIN:VEVENT
UID:P72872@sportzsoft.com
DTSTART:20190531T033000Z
DTEND:20190531T050000Z
SUMMARY:Practice #PJ1-013 (Shamrocks )
LOCATION:Stu Peppard
END:VEVENT
BEGIN:VEVENT
UID:G100012@sportzsoft.com
DTSTART:20190601T013000Z
DTEND:20190601T033000Z
SUMMARY:Game #J1-065 vs Swat
LOCATION:Stu Peppard
END:VEVENT
BEGIN:VEVENT
UID:G99965@sportzsoft.com
DTSTART:20190602T203000Z
DTEND:20190602T223000Z
SUMMARY:Game #J1-076 vs Mavericks
LOCATION:Olds Sports Complex Main
END:VEVENT
BEGIN:VEVENT
UID:P72883@sportzsoft.com
DTSTART:20190605T020000Z
DTEND:20190605T033000Z
SUMMARY:Practice #PJ1-014 (Shamrocks )
LOCATION:Stu Peppard
END:VEVENT
BEGIN:VEVENT
UID:G100093@sportzsoft.com
DTSTART:20190607T020000Z
DTEND:20190607T040000Z
SUMMARY:Game #J1-079 vs Marauders
LOCATION:Okotoks Recreation Centre - Murray Arena
END:VEVENT
BEGIN:VEVENT
UID:P72884@sportzsoft.com
DTSTART:20190612T020000Z
DTEND:20190612T033000Z
SUMMARY:Practice #PJ1-014 (Shamrocks )
LOCATION:Stu Peppard
END:VEVENT
BEGIN:VEVENT
UID:P72874@sportzsoft.com
DTSTART:20190614T033000Z
DTEND:20190614T050000Z
SUMMARY:Practice #PJ1-013 (Shamrocks )
LOCATION:Stu Peppard
END:VEVENT
BEGIN:VEVENT
UID:G100084@sportzsoft.com
DTSTART:20190616T210000Z
DTEND:20190616T230000Z
SUMMARY:Game #J1-096 vs J Mounties
LOCATION:Stu Peppard
END:VEVENT
BEGIN:VEVENT
UID:P72885@sportzsoft.com
DTSTART:20190619T020000Z
DTEND:20190619T033000Z
SUMMARY:Practice #PJ1-014 (Shamrocks )
LOCATION:Stu Peppard
END:VEVENT
BEGIN:VEVENT
UID:P72875@sportzsoft.com
DTSTART:20190621T033000Z
DTEND:20190621T050000Z
SUMMARY:Practice #PJ1-013 (Shamrocks )
LOCATION:Stu Peppard
END:VEVENT
BEGIN:VEVENT
UID:G100086@sportzsoft.com
DTSTART:20190623T000000Z
DTEND:20190623T020000Z
SUMMARY:Game #J1-105 vs Leth Cudas
LOCATION:Stu Peppard
END:VEVENT
BEGIN:VEVENT
UID:P72886@sportzsoft.com
DTSTART:20190626T020000Z
DTEND:20190626T033000Z
SUMMARY:Practice #PJ1-014 (Shamrocks )
LOCATION:Stu Peppard
END:VEVENT
BEGIN:VEVENT
UID:P72876@sportzsoft.com
DTSTART:20190628T033000Z
DTEND:20190628T050000Z
SUMMARY:Practice #PJ1-013 (Shamrocks )
LOCATION:Stu Peppard
END:VEVENT
BEGIN:VEVENT
UID:G100089@sportzsoft.com
DTSTART:20190629T030000Z
DTEND:20190629T050000Z
SUMMARY:Game #J1-115 vs Marauders
LOCATION:Stu Peppard
END:VEVENT
BEGIN:VEVENT
UID:G100087@sportzsoft.com
DTSTART:20190629T210000Z
DTEND:20190629T230000Z
SUMMARY:Game #J1-117 vs Leth Cudas
LOCATION:Stu Peppard
END:VEVENT
BEGIN:VEVENT
UID:P72887@sportzsoft.com
DTSTART:20190703T020000Z
DTEND:20190703T033000Z
SUMMARY:Practice #PJ1-014 (Shamrocks )
LOCATION:Stu Peppard
END:VEVENT
BEGIN:VEVENT
UID:P72877@sportzsoft.com
DTSTART:20190705T033000Z
DTEND:20190705T050000Z
SUMMARY:Practice #PJ1-013 (Shamrocks )
LOCATION:Stu Peppard
END:VEVENT
BEGIN:VEVENT
UID:G99969@sportzsoft.com
DTSTART:20190707T020000Z
DTEND:20190707T040000Z
SUMMARY:Game #J1-128 vs Silvertips
LOCATION:Spray Lake Sawmills Family Sports Centre - Totem 1
END:VEVENT
BEGIN:VEVENT
UID:G100085@sportzsoft.com
DTSTART:20190707T183000Z
DTEND:20190707T203000Z
SUMMARY:Game #J1-132 vs J Mounties
LOCATION:Stu Peppard
END:VEVENT
BEGIN:VEVENT
UID:P72888@sportzsoft.com
DTSTART:20190710T020000Z
DTEND:20190710T033000Z
SUMMARY:Practice #PJ1-014 (Shamrocks )
LOCATION:Stu Peppard
END:VEVENT
BEGIN:VEVENT
UID:P72878@sportzsoft.com
DTSTART:20190712T033000Z
DTEND:20190712T050000Z
SUMMARY:Practice #PJ1-013 (Shamrocks )
LOCATION:Stu Peppard
END:VEVENT
BEGIN:VEVENT
UID:G100090@sportzsoft.com
DTSTART:20190713T013000Z
DTEND:20190713T033000Z
SUMMARY:Game #J1-138 vs Chill
LOCATION:Stu Peppard
END:VEVENT
BEGIN:VEVENT
UID:G99984@sportzsoft.com
DTSTART:20190714T210000Z
DTEND:20190714T230000Z
SUMMARY:Game #J1-148 vs Warriors
LOCATION:Stu Peppard
END:VEVENT
BEGIN:VEVENT
UID:P72889@sportzsoft.com
DTSTART:20190717T020000Z
DTEND:20190717T033000Z
SUMMARY:Practice #PJ1-014 (Shamrocks )
LOCATION:Stu Peppard
END:VEVENT
BEGIN:VEVENT
UID:P72892@sportzsoft.com
DTSTART:20190719T030000Z
DTEND:20190719T043000Z
SUMMARY:Practice #PJ1-015 (Shamrocks )
LOCATION:Stu Peppard
END:VEVENT
BEGIN:VEVENT
UID:G104494@sportzsoft.com
DTSTART:20190722T003000Z
DTEND:20190722T023000Z
SUMMARY:Game #T1SR2-01 vs J Mounties
LOCATION:Stu Peppard
END:VEVENT
BEGIN:VEVENT
UID:G104495@sportzsoft.com
DTSTART:20190723T020000Z
DTEND:20190723T040000Z
SUMMARY:Game #T1SR2-02 vs J Mounties
LOCATION:Stu Peppard
END:VEVENT
BEGIN:VEVENT
UID:P72890@sportzsoft.com
DTSTART:20190724T020000Z
DTEND:20190724T033000Z
SUMMARY:Practice #PJ1-014 (Shamrocks )
LOCATION:Stu Peppard
END:VEVENT
BEGIN:VEVENT
UID:P79301@sportzsoft.com
DTSTART:20190725T020000Z
DTEND:20190725T043000Z
SUMMARY:Practice #PJ1-053 (Shamrocks )
LOCATION:Stu Peppard
END:VEVENT
BEGIN:VEVENT
UID:G104496@sportzsoft.com
DTSTART:20190725T020000Z
DTEND:20190725T040000Z
SUMMARY:Game #T1SR2-03 vs J Mounties (cancelled)
LOCATION:Stu Peppard
END:VEVENT
BEGIN:VEVENT
UID:P72893@sportzsoft.com
DTSTART:20190726T030000Z
DTEND:20190726T043000Z
SUMMARY:Practice #PJ1-015 (Shamrocks )
LOCATION:Stu Peppard
END:VEVENT
BEGIN:VEVENT
UID:G104508@sportzsoft.com
DTSTART:20190726T180000Z
DTEND:20190726T200000Z
SUMMARY:Game #J1C-02 vs Rebels
LOCATION:Kinex- Red Deer
END:VEVENT
BEGIN:VEVENT
UID:G104510@sportzsoft.com
DTSTART:20190727T000000Z
DTEND:20190727T020000Z
SUMMARY:Game #J1C-04 vs Rampage
LOCATION:Kinex- Red Deer
END:VEVENT
BEGIN:VEVENT
UID:G104512@sportzsoft.com
DTSTART:20190727T150000Z
DTEND:20190727T170000Z
SUMMARY:Game #J1C-06 vs Silvertips
LOCATION:Kinex- Red Deer
END:VEVENT
BEGIN:VEVENT
UID:G104514@sportzsoft.com
DTSTART:20190727T210000Z
DTEND:20190727T230000Z
SUMMARY:Game #J1C-08 vs Blizz
LOCATION:Kinex- Red Deer
END:VEVENT
BEGIN:VEVENT
UID:G104517@sportzsoft.com
DTSTART:20190728T190000Z
DTEND:20190728T210000Z
SUMMARY:Game #J1C-11 vs Rebels
LOCATION:Kinex- Red Deer
END:VEVENT
BEGIN:VEVENT
UID:P72891@sportzsoft.com
DTSTART:20190731T020000Z
DTEND:20190731T033000Z
SUMMARY:Practice #PJ1-014 (Shamrocks )
LOCATION:Stu Peppard
END:VEVENT
BEGIN:VEVENT
UID:P72894@sportzsoft.com
DTSTART:20190802T030000Z
DTEND:20190802T043000Z
SUMMARY:Practice #PJ1-015 (Shamrocks )
LOCATION:Stu Peppard
END:VEVENT
BEGIN:VEVENT
UID:G104527@sportzsoft.com
DTSTART:20190803T220000Z
DTEND:20190804T000000Z
SUMMARY:Game #J1Pr-01 vs Rebels
LOCATION:Stu Peppard
END:VEVENT
BEGIN:VEVENT
UID:G104528@sportzsoft.com
DTSTART:20190804T180000Z
DTEND:20190804T200000Z
SUMMARY:Game #J1Pr-02 vs Rebels (cancelled)
LOCATION:Stu Peppard
END:VEVENT
BEGIN:VEVENT
UID:P79304@sportzsoft.com
DTSTART:20190807T000000Z
DTEND:20190807T010000Z
SUMMARY:Practice #PJ1-054 (Shamrocks )
LOCATION:Max Bell Centre - Ken Bracko Arena
END:VEVENT
BEGIN:VEVENT
UID:P79305@sportzsoft.com
DTSTART:20190809T030000Z
DTEND:20190809T043000Z
SUMMARY:Practice #PJ1-055 (Shamrocks )
LOCATION:Max Bell Centre - Ken Bracko Arena
END:VEVENT
END:VCALENDAR
