BEGIN:VCALENDAR
VERSION:2.0
PRODID:SportzSoftTeamWeb
TZ:+00
BEGIN:VEVENT
UID:P73139@sportzsoft.com
DTSTART:20190323T190000Z
DTEND:20190323T210000Z
SUMMARY:Practice #73139 (Warriors )
LOCATION:Crestwood Arena
END:VEVENT
BEGIN:VEVENT
UID:P73140@sportzsoft.com
DTSTART:20190327T030000Z
DTEND:20190327T043000Z
SUMMARY:Practice #73140 (Warriors )
LOCATION:Westwood Arena
END:VEVENT
BEGIN:VEVENT
UID:P73141@sportzsoft.com
DTSTART:20190329T030000Z
DTEND:20190329T043000Z
SUMMARY:Practice #73141 (Warriors )
LOCATION:Westwood Arena
END:VEVENT
BEGIN:VEVENT
UID:P73213@sportzsoft.com
DTSTART:20190403T030000Z
DTEND:20190403T043000Z
SUMMARY:Practice #73213 (Warriors )
LOCATION:Coronation Arena (Edmonton)
END:VEVENT
BEGIN:VEVENT
UID:E43104@sportzsoft.com
DTSTART:20190404T030000Z
DTEND:20190404T050000Z
SUMMARY:Event #43104 Exhibition Game Warriors vs Outlaws
LOCATION:Coronation Arena
END:VEVENT
BEGIN:VEVENT
UID:G101215@sportzsoft.com
DTSTART:20190404T030000Z
DTEND:20190404T050000Z
SUMMARY:Game #Ex-04 vs Outlaws
LOCATION:Coronation Arena (Edmonton)
END:VEVENT
BEGIN:VEVENT
UID:E43114@sportzsoft.com
DTSTART:20190405T030000Z
DTEND:20190405T050000Z
SUMMARY:Event #43114 Warriors JrB vs Crude
LOCATION:Coronation Arena
END:VEVENT
BEGIN:VEVENT
UID:G101257@sportzsoft.com
DTSTART:20190405T030000Z
DTEND:20190405T050000Z
SUMMARY:Game #Ex-06 vs Crude
LOCATION:Coronation Arena (Edmonton)
END:VEVENT
BEGIN:VEVENT
UID:P73215@sportzsoft.com
DTSTART:20190410T030000Z
DTEND:20190410T043000Z
SUMMARY:Practice #73215 (Warriors )
LOCATION:Coronation Arena (Edmonton)
END:VEVENT
BEGIN:VEVENT
UID:P73216@sportzsoft.com
DTSTART:20190412T030000Z
DTEND:20190412T043000Z
SUMMARY:Practice #73216 (Warriors )
LOCATION:Coronation Arena (Edmonton)
END:VEVENT
BEGIN:VEVENT
UID:E43197@sportzsoft.com
DTSTART:20190413T161500Z
DTEND:20190413T171500Z
SUMMARY:Event #43197 Rebels vs Warriors
LOCATION:Dow Cetenial Center
END:VEVENT
BEGIN:VEVENT
UID:E43196@sportzsoft.com
DTSTART:20190413T173000Z
DTEND:20190413T184000Z
SUMMARY:Event #43196 Warriors @ Crude
LOCATION:Dow Cetenial Center
END:VEVENT
BEGIN:VEVENT
UID:E43198@sportzsoft.com
DTSTART:20190413T204500Z
DTEND:20190413T215500Z
SUMMARY:Event #43198 Warriors vs Outlaws
LOCATION:Dow Cetenial Center
END:VEVENT
BEGIN:VEVENT
UID:G103778@sportzsoft.com
DTSTART:20190413T161500Z
DTEND:20190413T171500Z
SUMMARY:Game #EX-12 vs Rebels
LOCATION:Dow Centennial Centre
END:VEVENT
BEGIN:VEVENT
UID:G103764@sportzsoft.com
DTSTART:20190413T173000Z
DTEND:20190413T184000Z
SUMMARY:Game #Ex-10 vs Crude
LOCATION:Dow Centennial Centre
END:VEVENT
BEGIN:VEVENT
UID:G103779@sportzsoft.com
DTSTART:20190413T204500Z
DTEND:20190413T215500Z
SUMMARY:Game #EX-13 vs Outlaws
LOCATION:Dow Centennial Centre
END:VEVENT
BEGIN:VEVENT
UID:G103787@sportzsoft.com
DTSTART:20190414T210000Z
DTEND:20190414T230000Z
SUMMARY:Game #EX-21 vs Rebels
LOCATION:Dow Centennial Centre
END:VEVENT
BEGIN:VEVENT
UID:P73218@sportzsoft.com
DTSTART:20190417T020000Z
DTEND:20190417T033000Z
SUMMARY:Practice #73218 (Warriors )
LOCATION:Coronation Arena (Edmonton)
END:VEVENT
BEGIN:VEVENT
UID:E43105@sportzsoft.com
DTSTART:20190419T020000Z
DTEND:20190419T040000Z
SUMMARY:Event #43105 Jr B Warriors vs Sr B Warriors
LOCATION:Coronation Arena
END:VEVENT
BEGIN:VEVENT
UID:G101216@sportzsoft.com
DTSTART:20190419T020000Z
DTEND:20190419T040000Z
SUMMARY:Game #Ex-05 vs Sr. B Warriors
LOCATION:Coronation Arena (Edmonton)
END:VEVENT
BEGIN:VEVENT
UID:P73221@sportzsoft.com
DTSTART:20190425T030000Z
DTEND:20190425T050000Z
SUMMARY:Practice #73221 (Warriors )
LOCATION:Bill Hunter Arena formerly Jasper Place
END:VEVENT
BEGIN:VEVENT
UID:G99948@sportzsoft.com
DTSTART:20190427T220000Z
DTEND:20190428T000000Z
SUMMARY:Game #J1-002 vs Chill
LOCATION:Bill Hunter Arena formerly Jasper Place
END:VEVENT
BEGIN:VEVENT
UID:P73224@sportzsoft.com
DTSTART:20190502T030000Z
DTEND:20190502T050000Z
SUMMARY:Practice #73224 (Warriors )
LOCATION:Bill Hunter Arena formerly Jasper Place
END:VEVENT
BEGIN:VEVENT
UID:G99978@sportzsoft.com
DTSTART:20190503T023000Z
DTEND:20190503T043000Z
SUMMARY:Game #J1-013 vs Crude
LOCATION:Bill Hunter Arena formerly Jasper Place
END:VEVENT
BEGIN:VEVENT
UID:G99975@sportzsoft.com
DTSTART:20190505T203000Z
DTEND:20190505T223000Z
SUMMARY:Game #J1-022 vs Marauders
LOCATION:Bill Hunter Arena formerly Jasper Place
END:VEVENT
BEGIN:VEVENT
UID:P73226@sportzsoft.com
DTSTART:20190509T030000Z
DTEND:20190509T050000Z
SUMMARY:Practice #73226 (Warriors )
LOCATION:Bill Hunter Arena formerly Jasper Place
END:VEVENT
BEGIN:VEVENT
UID:G99928@sportzsoft.com
DTSTART:20190511T203000Z
DTEND:20190511T223000Z
SUMMARY:Game #J1-029 vs Swat
LOCATION:Kinsmen Arena SK
END:VEVENT
BEGIN:VEVENT
UID:G99929@sportzsoft.com
DTSTART:20190512T013000Z
DTEND:20190512T033000Z
SUMMARY:Game #J1-034 vs Swat
LOCATION:Kinsmen Arena SK
END:VEVENT
BEGIN:VEVENT
UID:G99930@sportzsoft.com
DTSTART:20190512T160000Z
DTEND:20190512T180000Z
SUMMARY:Game #J1-036 vs Swat
LOCATION:Kinsmen Arena SK
END:VEVENT
BEGIN:VEVENT
UID:P73229@sportzsoft.com
DTSTART:20190516T030000Z
DTEND:20190516T050000Z
SUMMARY:Practice #73229 (Warriors )
LOCATION:Bill Hunter Arena formerly Jasper Place
END:VEVENT
BEGIN:VEVENT
UID:G99981@sportzsoft.com
DTSTART:20190517T023000Z
DTEND:20190517T043000Z
SUMMARY:Game #J1-041 vs Outlaws
LOCATION:Sherwood Park Arena
END:VEVENT
BEGIN:VEVENT
UID:G99982@sportzsoft.com
DTSTART:20190522T020000Z
DTEND:20190522T040000Z
SUMMARY:Game #J1-046 vs Rebels
LOCATION:Jubilee Recreation Centre
END:VEVENT
BEGIN:VEVENT
UID:P73232@sportzsoft.com
DTSTART:20190523T030000Z
DTEND:20190523T050000Z
SUMMARY:Practice #73232 (Warriors )
LOCATION:Bill Hunter Arena formerly Jasper Place
END:VEVENT
BEGIN:VEVENT
UID:G99983@sportzsoft.com
DTSTART:20190525T020000Z
DTEND:20190525T040000Z
SUMMARY:Game #J1-049 vs Crude
LOCATION:Jarome Iginla Arena
END:VEVENT
BEGIN:VEVENT
UID:P73235@sportzsoft.com
DTSTART:20190530T030000Z
DTEND:20190530T050000Z
SUMMARY:Practice #73235 (Warriors )
LOCATION:Bill Hunter Arena formerly Jasper Place
END:VEVENT
BEGIN:VEVENT
UID:G99979@sportzsoft.com
DTSTART:20190601T023000Z
DTEND:20190601T043000Z
SUMMARY:Game #J1-066 vs Outlaws
LOCATION:Bill Hunter Arena formerly Jasper Place
END:VEVENT
BEGIN:VEVENT
UID:P73239@sportzsoft.com
DTSTART:20190606T030000Z
DTEND:20190606T050000Z
SUMMARY:Practice #73239 (Warriors )
LOCATION:Bill Hunter Arena formerly Jasper Place
END:VEVENT
BEGIN:VEVENT
UID:G100112@sportzsoft.com
DTSTART:20190607T023000Z
DTEND:20190607T043000Z
SUMMARY:Game #J1-081 vs Crude
LOCATION:Bill Hunter Arena formerly Jasper Place
END:VEVENT
BEGIN:VEVENT
UID:P73243@sportzsoft.com
DTSTART:20190613T030000Z
DTEND:20190613T050000Z
SUMMARY:Practice #73243 (Warriors )
LOCATION:Bill Hunter Arena formerly Jasper Place
END:VEVENT
BEGIN:VEVENT
UID:G99980@sportzsoft.com
DTSTART:20190616T003000Z
DTEND:20190616T023000Z
SUMMARY:Game #J1-090 vs Outlaws
LOCATION:Bill Hunter Arena formerly Jasper Place
END:VEVENT
BEGIN:VEVENT
UID:G100105@sportzsoft.com
DTSTART:20190616T233000Z
DTEND:20190617T013000Z
SUMMARY:Game #J1-097 vs Rampage
LOCATION:Kinex- Red Deer
END:VEVENT
BEGIN:VEVENT
UID:P73247@sportzsoft.com
DTSTART:20190620T030000Z
DTEND:20190620T050000Z
SUMMARY:Practice #73247 (Warriors )
LOCATION:Bill Hunter Arena formerly Jasper Place
END:VEVENT
BEGIN:VEVENT
UID:G100000@sportzsoft.com
DTSTART:20190622T023000Z
DTEND:20190622T043000Z
SUMMARY:Game #J1-100 vs Rebels
LOCATION:Bill Hunter Arena formerly Jasper Place
END:VEVENT
BEGIN:VEVENT
UID:G99942@sportzsoft.com
DTSTART:20190623T193000Z
DTEND:20190623T213000Z
SUMMARY:Game #J1-107 vs Silvertips
LOCATION:Bill Hunter Arena formerly Jasper Place
END:VEVENT
BEGIN:VEVENT
UID:P73251@sportzsoft.com
DTSTART:20190627T030000Z
DTEND:20190627T050000Z
SUMMARY:Practice #73251 (Warriors )
LOCATION:Bill Hunter Arena formerly Jasper Place
END:VEVENT
BEGIN:VEVENT
UID:G99920@sportzsoft.com
DTSTART:20190629T023000Z
DTEND:20190629T043000Z
SUMMARY:Game #J1-114 vs Fish
LOCATION:Bill Hunter Arena formerly Jasper Place
END:VEVENT
BEGIN:VEVENT
UID:P73901@sportzsoft.com
DTSTART:20190704T030000Z
DTEND:20190704T050000Z
SUMMARY:Practice #73901 (Warriors )
LOCATION:Bill Hunter Arena formerly Jasper Place
END:VEVENT
BEGIN:VEVENT
UID:G99985@sportzsoft.com
DTSTART:20190707T220000Z
DTEND:20190708T000000Z
SUMMARY:Game #J1-134 vs Leth Cudas
LOCATION:Bill Hunter Arena formerly Jasper Place
END:VEVENT
BEGIN:VEVENT
UID:G100001@sportzsoft.com
DTSTART:20190710T020000Z
DTEND:20190710T040000Z
SUMMARY:Game #J1-136 vs Crude
LOCATION:Jarome Iginla Arena
END:VEVENT
BEGIN:VEVENT
UID:P73258@sportzsoft.com
DTSTART:20190711T030000Z
DTEND:20190711T050000Z
SUMMARY:Practice #73258 (Warriors )
LOCATION:Bill Hunter Arena formerly Jasper Place
END:VEVENT
BEGIN:VEVENT
UID:G100005@sportzsoft.com
DTSTART:20190712T020000Z
DTEND:20190712T040000Z
SUMMARY:Game #J1-137 vs Rebels
LOCATION:Jubilee Recreation Centre
END:VEVENT
BEGIN:VEVENT
UID:G99984@sportzsoft.com
DTSTART:20190714T210000Z
DTEND:20190714T230000Z
SUMMARY:Game #J1-148 vs Shamrocks
LOCATION:Stu Peppard
END:VEVENT
BEGIN:VEVENT
UID:P73260@sportzsoft.com
DTSTART:20190718T030000Z
DTEND:20190718T050000Z
SUMMARY:Practice #73260 (Warriors )
LOCATION:Bill Hunter Arena formerly Jasper Place
END:VEVENT
BEGIN:VEVENT
UID:G104471@sportzsoft.com
DTSTART:20190718T030000Z
DTEND:20190718T050000Z
SUMMARY:Game #T1NR1-01 vs Crude
LOCATION:Bill Hunter Arena formerly Jasper Place
END:VEVENT
BEGIN:VEVENT
UID:G104472@sportzsoft.com
DTSTART:20190719T020000Z
DTEND:20190719T040000Z
SUMMARY:Game #T1NR1-02 vs Crude
LOCATION:Jarome Iginla Arena
END:VEVENT
BEGIN:VEVENT
UID:G104473@sportzsoft.com
DTSTART:20190720T020000Z
DTEND:20190720T040000Z
SUMMARY:Game #T1NR1-03 vs Crude (cancelled)
LOCATION:Jarome Iginla Arena
END:VEVENT
END:VCALENDAR
