BEGIN:VCALENDAR
VERSION:2.0
PRODID:SportzSoftTeamWeb
TZ:+00
BEGIN:VEVENT
UID:E42591@sportzsoft.com
DTSTART:20190303T070000Z
DTEND:20190303T070000Z
SUMMARY:Event #42591 2019 Crude Jr. Tier I Open Tryouts
LOCATION:Servus place
END:VEVENT
BEGIN:VEVENT
UID:E43113@sportzsoft.com
DTSTART:20190405T030000Z
DTEND:20190405T050000Z
SUMMARY:Event #43113 NEW Team Event
LOCATION:Coronation Arena
END:VEVENT
BEGIN:VEVENT
UID:G101257@sportzsoft.com
DTSTART:20190405T030000Z
DTEND:20190405T050000Z
SUMMARY:Game #Ex-06 vs Warriors
LOCATION:Coronation Arena (Edmonton)
END:VEVENT
BEGIN:VEVENT
UID:P72441@sportzsoft.com
DTSTART:20190409T010000Z
DTEND:20190409T030000Z
SUMMARY:Practice #72441 (Crude )
LOCATION:Servus Credit Union Place - Bright Dental North Field
END:VEVENT
BEGIN:VEVENT
UID:P72442@sportzsoft.com
DTSTART:20190411T010000Z
DTEND:20190411T030000Z
SUMMARY:Practice #72442 (Crude )
LOCATION:Servus Credit Union Place - Bright Dental North Field
END:VEVENT
BEGIN:VEVENT
UID:E43183@sportzsoft.com
DTSTART:20190413T150000Z
DTEND:20190413T161000Z
SUMMARY:Event #43183 (EX Game) Crude Vs Outlaws
LOCATION:DCC
END:VEVENT
BEGIN:VEVENT
UID:E43184@sportzsoft.com
DTSTART:20190413T173000Z
DTEND:20190413T184000Z
SUMMARY:Event #43184 (EX Game)Crude Vs Warriors
LOCATION:DCC
END:VEVENT
BEGIN:VEVENT
UID:E43185@sportzsoft.com
DTSTART:20190413T220000Z
DTEND:20190413T231000Z
SUMMARY:Event #43185 (EX Game) Rebels Vs Crude
LOCATION:DCC
END:VEVENT
BEGIN:VEVENT
UID:G103763@sportzsoft.com
DTSTART:20190413T150000Z
DTEND:20190413T161000Z
SUMMARY:Game #Ex-09 vs Outlaws
LOCATION:Dow Centennial Centre
END:VEVENT
BEGIN:VEVENT
UID:G103764@sportzsoft.com
DTSTART:20190413T173000Z
DTEND:20190413T184000Z
SUMMARY:Game #Ex-10 vs Warriors
LOCATION:Dow Centennial Centre
END:VEVENT
BEGIN:VEVENT
UID:G103765@sportzsoft.com
DTSTART:20190413T220000Z
DTEND:20190413T231000Z
SUMMARY:Game #Ex-11 vs Rebels
LOCATION:Dow Centennial Centre
END:VEVENT
BEGIN:VEVENT
UID:P72444@sportzsoft.com
DTSTART:20190416T010000Z
DTEND:20190416T023000Z
SUMMARY:Practice #72444 (Crude )
LOCATION:Jarome Iginla Arena
END:VEVENT
BEGIN:VEVENT
UID:P72410@sportzsoft.com
DTSTART:20190418T010000Z
DTEND:20190418T023000Z
SUMMARY:Practice #72410 (Crude )
LOCATION:Jarome Iginla Arena
END:VEVENT
BEGIN:VEVENT
UID:P72411@sportzsoft.com
DTSTART:20190423T010000Z
DTEND:20190423T023000Z
SUMMARY:Practice #72411 (Crude )
LOCATION:Jarome Iginla Arena
END:VEVENT
BEGIN:VEVENT
UID:P72426@sportzsoft.com
DTSTART:20190425T010000Z
DTEND:20190425T023000Z
SUMMARY:Practice #72426 (Crude )
LOCATION:Jarome Iginla Arena
END:VEVENT
BEGIN:VEVENT
UID:G100114@sportzsoft.com
DTSTART:20190427T233000Z
DTEND:20190428T013000Z
SUMMARY:Game #J1-004 vs Rampage
LOCATION:Kinex- Red Deer
END:VEVENT
BEGIN:VEVENT
UID:P72412@sportzsoft.com
DTSTART:20190430T010000Z
DTEND:20190430T023000Z
SUMMARY:Practice #72412 (Crude )
LOCATION:Jarome Iginla Arena
END:VEVENT
BEGIN:VEVENT
UID:P72427@sportzsoft.com
DTSTART:20190502T010000Z
DTEND:20190502T023000Z
SUMMARY:Practice #72427 (Crude )
LOCATION:Jarome Iginla Arena
END:VEVENT
BEGIN:VEVENT
UID:G99978@sportzsoft.com
DTSTART:20190503T023000Z
DTEND:20190503T043000Z
SUMMARY:Game #J1-013 vs Warriors
LOCATION:Bill Hunter Arena formerly Jasper Place
END:VEVENT
BEGIN:VEVENT
UID:G99976@sportzsoft.com
DTSTART:20190505T003000Z
DTEND:20190505T023000Z
SUMMARY:Game #J1-018 vs Marauders
LOCATION:Jarome Iginla Arena
END:VEVENT
BEGIN:VEVENT
UID:P72413@sportzsoft.com
DTSTART:20190507T010000Z
DTEND:20190507T023000Z
SUMMARY:Practice #72413 (Crude )
LOCATION:Jarome Iginla Arena
END:VEVENT
BEGIN:VEVENT
UID:P72428@sportzsoft.com
DTSTART:20190509T010000Z
DTEND:20190509T023000Z
SUMMARY:Practice #72428 (Crude )
LOCATION:Jarome Iginla Arena
END:VEVENT
BEGIN:VEVENT
UID:G99989@sportzsoft.com
DTSTART:20190513T003000Z
DTEND:20190513T023000Z
SUMMARY:Game #J1-039 vs Rebels
LOCATION:Jarome Iginla Arena
END:VEVENT
BEGIN:VEVENT
UID:P72414@sportzsoft.com
DTSTART:20190514T010000Z
DTEND:20190514T023000Z
SUMMARY:Practice #72414 (Crude )
LOCATION:Jarome Iginla Arena
END:VEVENT
BEGIN:VEVENT
UID:P72429@sportzsoft.com
DTSTART:20190516T010000Z
DTEND:20190516T023000Z
SUMMARY:Practice #72429 (Crude )
LOCATION:Jarome Iginla Arena
END:VEVENT
BEGIN:VEVENT
UID:G99912@sportzsoft.com
DTSTART:20190518T160000Z
DTEND:20190518T180000Z
SUMMARY:Game #J1-043 vs Fish
LOCATION:Al Ritchie Arena
END:VEVENT
BEGIN:VEVENT
UID:G99914@sportzsoft.com
DTSTART:20190519T000000Z
DTEND:20190519T020000Z
SUMMARY:Game #J1-045 vs Fish
LOCATION:Al Ritchie Arena
END:VEVENT
BEGIN:VEVENT
UID:G99913@sportzsoft.com
DTSTART:20190519T160000Z
DTEND:20190519T180000Z
SUMMARY:Game #J1-044 vs Fish
LOCATION:Al Ritchie Arena
END:VEVENT
BEGIN:VEVENT
UID:P72415@sportzsoft.com
DTSTART:20190521T010000Z
DTEND:20190521T023000Z
SUMMARY:Practice #72415 (Crude )
LOCATION:Jarome Iginla Arena
END:VEVENT
BEGIN:VEVENT
UID:P72430@sportzsoft.com
DTSTART:20190523T010000Z
DTEND:20190523T023000Z
SUMMARY:Practice #72430 (Crude )
LOCATION:Jarome Iginla Arena
END:VEVENT
BEGIN:VEVENT
UID:G99983@sportzsoft.com
DTSTART:20190525T020000Z
DTEND:20190525T040000Z
SUMMARY:Game #J1-049 vs Warriors
LOCATION:Jarome Iginla Arena
END:VEVENT
BEGIN:VEVENT
UID:G99967@sportzsoft.com
DTSTART:20190526T230000Z
DTEND:20190527T010000Z
SUMMARY:Game #J1-062 vs Mavericks
LOCATION:Olds Sports Complex Main
END:VEVENT
BEGIN:VEVENT
UID:P72416@sportzsoft.com
DTSTART:20190528T010000Z
DTEND:20190528T023000Z
SUMMARY:Practice #72416 (Crude )
LOCATION:Jarome Iginla Arena
END:VEVENT
BEGIN:VEVENT
UID:P72431@sportzsoft.com
DTSTART:20190530T010000Z
DTEND:20190530T023000Z
SUMMARY:Practice #72431 (Crude )
LOCATION:Jarome Iginla Arena
END:VEVENT
BEGIN:VEVENT
UID:G99935@sportzsoft.com
DTSTART:20190601T233000Z
DTEND:20190602T013000Z
SUMMARY:Game #J1-070 vs Swat
LOCATION:Jarome Iginla Arena
END:VEVENT
BEGIN:VEVENT
UID:P72417@sportzsoft.com
DTSTART:20190604T010000Z
DTEND:20190604T023000Z
SUMMARY:Practice #72417 (Crude )
LOCATION:Jarome Iginla Arena
END:VEVENT
BEGIN:VEVENT
UID:P72432@sportzsoft.com
DTSTART:20190606T010000Z
DTEND:20190606T023000Z
SUMMARY:Practice #72432 (Crude )
LOCATION:Jarome Iginla Arena
END:VEVENT
BEGIN:VEVENT
UID:G100112@sportzsoft.com
DTSTART:20190607T023000Z
DTEND:20190607T043000Z
SUMMARY:Game #J1-081 vs Warriors
LOCATION:Bill Hunter Arena formerly Jasper Place
END:VEVENT
BEGIN:VEVENT
UID:P72418@sportzsoft.com
DTSTART:20190611T010000Z
DTEND:20190611T023000Z
SUMMARY:Practice #72418 (Crude )
LOCATION:Jarome Iginla Arena
END:VEVENT
BEGIN:VEVENT
UID:P72433@sportzsoft.com
DTSTART:20190613T010000Z
DTEND:20190613T023000Z
SUMMARY:Practice #72433 (Crude )
LOCATION:Jarome Iginla Arena
END:VEVENT
BEGIN:VEVENT
UID:G99996@sportzsoft.com
DTSTART:20190614T030000Z
DTEND:20190614T050000Z
SUMMARY:Game #J1-086 vs Outlaws
LOCATION:Jarome Iginla Arena
END:VEVENT
BEGIN:VEVENT
UID:G99950@sportzsoft.com
DTSTART:20190616T003000Z
DTEND:20190616T023000Z
SUMMARY:Game #J1-091 vs Chill
LOCATION:Jarome Iginla Arena
END:VEVENT
BEGIN:VEVENT
UID:P72419@sportzsoft.com
DTSTART:20190618T010000Z
DTEND:20190618T023000Z
SUMMARY:Practice #72419 (Crude )
LOCATION:Jarome Iginla Arena
END:VEVENT
BEGIN:VEVENT
UID:P72434@sportzsoft.com
DTSTART:20190620T010000Z
DTEND:20190620T023000Z
SUMMARY:Practice #72434 (Crude )
LOCATION:Jarome Iginla Arena
END:VEVENT
BEGIN:VEVENT
UID:G99945@sportzsoft.com
DTSTART:20190622T230000Z
DTEND:20190623T010000Z
SUMMARY:Game #J1-102 vs Silvertips
LOCATION:Jarome Iginla Arena
END:VEVENT
BEGIN:VEVENT
UID:G99995@sportzsoft.com
DTSTART:20190623T220000Z
DTEND:20190624T000000Z
SUMMARY:Game #J1-110 vs Outlaws
LOCATION:Sherwood Park Arena
END:VEVENT
BEGIN:VEVENT
UID:P72420@sportzsoft.com
DTSTART:20190625T010000Z
DTEND:20190625T023000Z
SUMMARY:Practice #72420 (Crude )
LOCATION:Jarome Iginla Arena
END:VEVENT
BEGIN:VEVENT
UID:P72435@sportzsoft.com
DTSTART:20190627T010000Z
DTEND:20190627T023000Z
SUMMARY:Practice #72435 (Crude )
LOCATION:Jarome Iginla Arena
END:VEVENT
BEGIN:VEVENT
UID:P72421@sportzsoft.com
DTSTART:20190702T010000Z
DTEND:20190702T023000Z
SUMMARY:Practice #72421 (Crude )
LOCATION:Jarome Iginla Arena
END:VEVENT
BEGIN:VEVENT
UID:G100004@sportzsoft.com
DTSTART:20190703T010000Z
DTEND:20190703T030000Z
SUMMARY:Game #J1-119 vs Rebels
LOCATION:Jarome Iginla Arena
END:VEVENT
BEGIN:VEVENT
UID:P72436@sportzsoft.com
DTSTART:20190704T010000Z
DTEND:20190704T023000Z
SUMMARY:Practice #72436 (Crude )
LOCATION:Jarome Iginla Arena
END:VEVENT
BEGIN:VEVENT
UID:G99997@sportzsoft.com
DTSTART:20190706T230000Z
DTEND:20190707T010000Z
SUMMARY:Game #J1-126 vs Leth Cudas
LOCATION:Jarome Iginla Arena
END:VEVENT
BEGIN:VEVENT
UID:P72422@sportzsoft.com
DTSTART:20190709T010000Z
DTEND:20190709T023000Z
SUMMARY:Practice #72422 (Crude )
LOCATION:Jarome Iginla Arena
END:VEVENT
BEGIN:VEVENT
UID:G100001@sportzsoft.com
DTSTART:20190710T020000Z
DTEND:20190710T040000Z
SUMMARY:Game #J1-136 vs Warriors
LOCATION:Jarome Iginla Arena
END:VEVENT
BEGIN:VEVENT
UID:P72437@sportzsoft.com
DTSTART:20190711T010000Z
DTEND:20190711T023000Z
SUMMARY:Practice #72437 (Crude )
LOCATION:Jarome Iginla Arena
END:VEVENT
BEGIN:VEVENT
UID:G99999@sportzsoft.com
DTSTART:20190713T200000Z
DTEND:20190713T220000Z
SUMMARY:Game #J1-141 vs J Mounties
LOCATION:Acadia Recreation Complex
END:VEVENT
BEGIN:VEVENT
UID:G99990@sportzsoft.com
DTSTART:20190714T200000Z
DTEND:20190714T220000Z
SUMMARY:Game #J1-149 vs Rebels
LOCATION:Jubilee Recreation Centre
END:VEVENT
BEGIN:VEVENT
UID:P72423@sportzsoft.com
DTSTART:20190716T010000Z
DTEND:20190716T023000Z
SUMMARY:Practice #72423 (Crude )
LOCATION:Jarome Iginla Arena
END:VEVENT
BEGIN:VEVENT
UID:G104471@sportzsoft.com
DTSTART:20190718T030000Z
DTEND:20190718T050000Z
SUMMARY:Game #T1NR1-01 vs Warriors
LOCATION:Bill Hunter Arena formerly Jasper Place
END:VEVENT
BEGIN:VEVENT
UID:G104472@sportzsoft.com
DTSTART:20190719T020000Z
DTEND:20190719T040000Z
SUMMARY:Game #T1NR1-02 vs Warriors
LOCATION:Jarome Iginla Arena
END:VEVENT
BEGIN:VEVENT
UID:G104473@sportzsoft.com
DTSTART:20190720T020000Z
DTEND:20190720T040000Z
SUMMARY:Game #T1NR1-03 vs Warriors (cancelled)
LOCATION:Jarome Iginla Arena
END:VEVENT
BEGIN:VEVENT
UID:G104488@sportzsoft.com
DTSTART:20190722T020000Z
DTEND:20190722T040000Z
SUMMARY:Game #T1NR2-01 vs Rebels
LOCATION:Jubilee Recreation Centre
END:VEVENT
BEGIN:VEVENT
UID:G104489@sportzsoft.com
DTSTART:20190723T020000Z
DTEND:20190723T040000Z
SUMMARY:Game #T1NR2-02 vs Rebels
LOCATION:Jarome Iginla Arena
END:VEVENT
BEGIN:VEVENT
UID:G104490@sportzsoft.com
DTSTART:20190724T020000Z
DTEND:20190724T040000Z
SUMMARY:Game #T1NR2-03 vs Rebels
LOCATION:Jubilee Recreation Centre
END:VEVENT
BEGIN:VEVENT
UID:P72439@sportzsoft.com
DTSTART:20190725T010000Z
DTEND:20190725T030000Z
SUMMARY:Practice #72439 (Crude )
LOCATION:Jarome Iginla Arena
END:VEVENT
BEGIN:VEVENT
UID:P72425@sportzsoft.com
DTSTART:20190730T010000Z
DTEND:20190730T030000Z
SUMMARY:Practice #72425 (Crude )
LOCATION:Jarome Iginla Arena
END:VEVENT
BEGIN:VEVENT
UID:P72440@sportzsoft.com
DTSTART:20190801T010000Z
DTEND:20190801T030000Z
SUMMARY:Practice #72440 (Crude )
LOCATION:Jarome Iginla Arena
END:VEVENT
END:VCALENDAR
