BEGIN:VCALENDAR
VERSION:2.0
PRODID:SportzSoftTeamWeb
TZ:+00
BEGIN:VEVENT
UID:G99918@sportzsoft.com
DTSTART:20190505T000000Z
DTEND:20190505T020000Z
SUMMARY:Game #J1-019 vs Swat
LOCATION:Al Ritchie Arena
END:VEVENT
BEGIN:VEVENT
UID:G99925@sportzsoft.com
DTSTART:20190511T013000Z
DTEND:20190511T033000Z
SUMMARY:Game #J1-026 vs Chill
LOCATION:Brentwood Sportsplex
END:VEVENT
BEGIN:VEVENT
UID:G99923@sportzsoft.com
DTSTART:20190511T203000Z
DTEND:20190511T223000Z
SUMMARY:Game #J1-030 vs Mavericks
LOCATION:Olds Sports Complex Main
END:VEVENT
BEGIN:VEVENT
UID:G99924@sportzsoft.com
DTSTART:20190512T190000Z
DTEND:20190512T210000Z
SUMMARY:Game #J1-038 vs Silvertips
LOCATION:Spray Lake Sawmills Family Sports Centre - Totem 1
END:VEVENT
BEGIN:VEVENT
UID:G99912@sportzsoft.com
DTSTART:20190518T160000Z
DTEND:20190518T180000Z
SUMMARY:Game #J1-043 vs Crude
LOCATION:Al Ritchie Arena
END:VEVENT
BEGIN:VEVENT
UID:G99914@sportzsoft.com
DTSTART:20190519T000000Z
DTEND:20190519T020000Z
SUMMARY:Game #J1-045 vs Crude
LOCATION:Al Ritchie Arena
END:VEVENT
BEGIN:VEVENT
UID:G99913@sportzsoft.com
DTSTART:20190519T160000Z
DTEND:20190519T180000Z
SUMMARY:Game #J1-044 vs Crude
LOCATION:Al Ritchie Arena
END:VEVENT
BEGIN:VEVENT
UID:G99915@sportzsoft.com
DTSTART:20190525T160000Z
DTEND:20190525T180000Z
SUMMARY:Game #J1-053 vs Outlaws
LOCATION:Al Ritchie Arena
END:VEVENT
BEGIN:VEVENT
UID:G99916@sportzsoft.com
DTSTART:20190526T000000Z
DTEND:20190526T020000Z
SUMMARY:Game #J1-056 vs Outlaws
LOCATION:Al Ritchie Arena
END:VEVENT
BEGIN:VEVENT
UID:G99917@sportzsoft.com
DTSTART:20190526T160000Z
DTEND:20190526T180000Z
SUMMARY:Game #J1-059 vs Outlaws
LOCATION:Al Ritchie Arena
END:VEVENT
BEGIN:VEVENT
UID:G99900@sportzsoft.com
DTSTART:20190609T010000Z
DTEND:20190609T030000Z
SUMMARY:Game #J1-082 vs Blizz
LOCATION:St Norbert Arena
END:VEVENT
BEGIN:VEVENT
UID:G99901@sportzsoft.com
DTSTART:20190609T173000Z
DTEND:20190609T193000Z
SUMMARY:Game #J1-083 vs Blizz
LOCATION:St Norbert Arena
END:VEVENT
BEGIN:VEVENT
UID:G99927@sportzsoft.com
DTSTART:20190616T000000Z
DTEND:20190616T020000Z
SUMMARY:Game #J1-093 vs Swat
LOCATION:Elgar Peterson Arena
END:VEVENT
BEGIN:VEVENT
UID:G99920@sportzsoft.com
DTSTART:20190629T023000Z
DTEND:20190629T043000Z
SUMMARY:Game #J1-114 vs Warriors
LOCATION:Bill Hunter Arena formerly Jasper Place
END:VEVENT
BEGIN:VEVENT
UID:G99921@sportzsoft.com
DTSTART:20190629T170000Z
DTEND:20190629T190000Z
SUMMARY:Game #J1-116 vs Rebels
LOCATION:Jubilee Recreation Centre
END:VEVENT
BEGIN:VEVENT
UID:G99922@sportzsoft.com
DTSTART:20190630T020000Z
DTEND:20190630T040000Z
SUMMARY:Game #J1-118 vs Rampage
LOCATION:Kinex- Red Deer
END:VEVENT
BEGIN:VEVENT
UID:G99919@sportzsoft.com
DTSTART:20190705T000000Z
DTEND:20190705T020000Z
SUMMARY:Game #J1-120 vs Swat
LOCATION:Al Ritchie Arena
END:VEVENT
BEGIN:VEVENT
UID:G99910@sportzsoft.com
DTSTART:20190707T000000Z
DTEND:20190707T020000Z
SUMMARY:Game #J1-127 vs Blizz
LOCATION:Al Ritchie Arena
END:VEVENT
BEGIN:VEVENT
UID:G99911@sportzsoft.com
DTSTART:20190707T160000Z
DTEND:20190707T180000Z
SUMMARY:Game #J1-131 vs Blizz
LOCATION:Al Ritchie Arena
END:VEVENT
BEGIN:VEVENT
UID:G99926@sportzsoft.com
DTSTART:20190710T000000Z
DTEND:20190710T020000Z
SUMMARY:Game #J1-135 vs Swat
LOCATION:Kinsmen Arena SK
END:VEVENT
END:VCALENDAR
