BEGIN:VCALENDAR
VERSION:2.0
PRODID:SportzSoftTeamWeb
TZ:+00
BEGIN:VEVENT
UID:P72989@sportzsoft.com
DTSTART:20190225T030000Z
DTEND:20190225T041500Z
SUMMARY:Practice #J1-C-PS-01 (Chill )
LOCATION:CSC Annex - Charlie
END:VEVENT
BEGIN:VEVENT
UID:E42653@sportzsoft.com
DTSTART:20190225T030000Z
DTEND:20190225T041500Z
SUMMARY:Event #42653 Pre-Season Floor Time
LOCATION:CSC/Annex Charlie
END:VEVENT
BEGIN:VEVENT
UID:E42654@sportzsoft.com
DTSTART:20190305T041500Z
DTEND:20190305T053000Z
SUMMARY:Event #42654 Pre-Season Floor Time
LOCATION:CSC/Annex Beta
END:VEVENT
BEGIN:VEVENT
UID:P72992@sportzsoft.com
DTSTART:20190305T041500Z
DTEND:20190305T053000Z
SUMMARY:Practice #J1-C-PS-02 (Chill )
LOCATION:CSC Annex - Beta
END:VEVENT
BEGIN:VEVENT
UID:P73001@sportzsoft.com
DTSTART:20190313T030000Z
DTEND:20190313T041500Z
SUMMARY:Practice #J1-C-PS-03 (Chill )
LOCATION:CSC Annex - Alpha
END:VEVENT
BEGIN:VEVENT
UID:E42755@sportzsoft.com
DTSTART:20190319T060000Z
DTEND:20190319T060000Z
SUMMARY:Event #42755 Pre-Season Floor Time
LOCATION:South Soccer Center
END:VEVENT
BEGIN:VEVENT
UID:P73002@sportzsoft.com
DTSTART:20190320T031500Z
DTEND:20190320T043000Z
SUMMARY:Practice #J1-C-PS-04 (Chill )
LOCATION:CSC Annex - Beta
END:VEVENT
BEGIN:VEVENT
UID:P73003@sportzsoft.com
DTSTART:20190327T031500Z
DTEND:20190327T043000Z
SUMMARY:Practice #J1-C-PS-05 (Chill )
LOCATION:CSC Annex - Beta
END:VEVENT
BEGIN:VEVENT
UID:P72994@sportzsoft.com
DTSTART:20190403T030000Z
DTEND:20190403T043000Z
SUMMARY:Practice #J1-C-PS-06 (Chill )
LOCATION:Brentwood Sportsplex
END:VEVENT
BEGIN:VEVENT
UID:P72995@sportzsoft.com
DTSTART:20190405T030000Z
DTEND:20190405T043000Z
SUMMARY:Practice #J1-C-PS-07 (Chill )
LOCATION:Brentwood Sportsplex
END:VEVENT
BEGIN:VEVENT
UID:P72996@sportzsoft.com
DTSTART:20190410T020000Z
DTEND:20190410T033000Z
SUMMARY:Practice #Practice (Chill )
LOCATION:Brentwood Sportsplex
END:VEVENT
BEGIN:VEVENT
UID:P72999@sportzsoft.com
DTSTART:20190412T033000Z
DTEND:20190412T050000Z
SUMMARY:Practice #Practice (Chill )
LOCATION:Brentwood Sportsplex
END:VEVENT
BEGIN:VEVENT
UID:P72998@sportzsoft.com
DTSTART:20190417T020000Z
DTEND:20190417T033000Z
SUMMARY:Practice #Practice (Chill )
LOCATION:Brentwood Sportsplex
END:VEVENT
BEGIN:VEVENT
UID:P73000@sportzsoft.com
DTSTART:20190419T033000Z
DTEND:20190419T050000Z
SUMMARY:Practice #Practice (Chill )
LOCATION:Brentwood Sportsplex
END:VEVENT
BEGIN:VEVENT
UID:P75080@sportzsoft.com
DTSTART:20190424T020000Z
DTEND:20190424T033000Z
SUMMARY:Practice #Practice (Chill )
LOCATION:Brentwood Sportsplex
END:VEVENT
BEGIN:VEVENT
UID:P75082@sportzsoft.com
DTSTART:20190426T033000Z
DTEND:20190426T050000Z
SUMMARY:Practice #Practice (Chill )
LOCATION:Brentwood Sportsplex
END:VEVENT
BEGIN:VEVENT
UID:G99948@sportzsoft.com
DTSTART:20190427T220000Z
DTEND:20190428T000000Z
SUMMARY:Game #J1-002 vs Warriors
LOCATION:Bill Hunter Arena formerly Jasper Place
END:VEVENT
BEGIN:VEVENT
UID:G99951@sportzsoft.com
DTSTART:20190428T193000Z
DTEND:20190428T213000Z
SUMMARY:Game #J1-010 vs Outlaws
LOCATION:Sherwood Park Arena
END:VEVENT
BEGIN:VEVENT
UID:P75081@sportzsoft.com
DTSTART:20190501T020000Z
DTEND:20190501T033000Z
SUMMARY:Practice #Practice (Chill )
LOCATION:Brentwood Sportsplex
END:VEVENT
BEGIN:VEVENT
UID:P75083@sportzsoft.com
DTSTART:20190503T033000Z
DTEND:20190503T050000Z
SUMMARY:Practice #Practice (Chill )
LOCATION:Brentwood Sportsplex
END:VEVENT
BEGIN:VEVENT
UID:G99963@sportzsoft.com
DTSTART:20190504T013000Z
DTEND:20190504T033000Z
SUMMARY:Game #J1-014 vs Rampage
LOCATION:Brentwood Sportsplex
END:VEVENT
BEGIN:VEVENT
UID:P75084@sportzsoft.com
DTSTART:20190507T020000Z
DTEND:20190507T033000Z
SUMMARY:Practice #Practice (Chill )
LOCATION:Brentwood Sportsplex
END:VEVENT
BEGIN:VEVENT
UID:P75085@sportzsoft.com
DTSTART:20190509T033000Z
DTEND:20190509T050000Z
SUMMARY:Practice #Practice (Chill )
LOCATION:Brentwood Sportsplex
END:VEVENT
BEGIN:VEVENT
UID:G99925@sportzsoft.com
DTSTART:20190511T013000Z
DTEND:20190511T033000Z
SUMMARY:Game #J1-026 vs Fish
LOCATION:Brentwood Sportsplex
END:VEVENT
BEGIN:VEVENT
UID:G99970@sportzsoft.com
DTSTART:20190512T020000Z
DTEND:20190512T040000Z
SUMMARY:Game #J1-032 vs Silvertips
LOCATION:Spray Lake Sawmills Family Sports Centre - Totem 1
END:VEVENT
BEGIN:VEVENT
UID:P75086@sportzsoft.com
DTSTART:20190515T020000Z
DTEND:20190515T033000Z
SUMMARY:Practice #Practice (Chill )
LOCATION:Brentwood Sportsplex
END:VEVENT
BEGIN:VEVENT
UID:G100111@sportzsoft.com
DTSTART:20190517T030000Z
DTEND:20190517T050000Z
SUMMARY:Game #J1-042 vs Marauders
LOCATION:Brentwood Sportsplex
END:VEVENT
BEGIN:VEVENT
UID:P75087@sportzsoft.com
DTSTART:20190522T020000Z
DTEND:20190522T033000Z
SUMMARY:Practice #Practice (Chill )
LOCATION:Brentwood Sportsplex
END:VEVENT
BEGIN:VEVENT
UID:P75089@sportzsoft.com
DTSTART:20190524T033000Z
DTEND:20190524T050000Z
SUMMARY:Practice #Practice (Chill )
LOCATION:Brentwood Sportsplex
END:VEVENT
BEGIN:VEVENT
UID:G99902@sportzsoft.com
DTSTART:20190526T000000Z
DTEND:20190526T020000Z
SUMMARY:Game #J1-054 vs Blizz
LOCATION:Brentwood Sportsplex
END:VEVENT
BEGIN:VEVENT
UID:G100110@sportzsoft.com
DTSTART:20190526T210000Z
DTEND:20190526T230000Z
SUMMARY:Game #J1-061 vs Leth Cudas
LOCATION:Brentwood Sportsplex
END:VEVENT
BEGIN:VEVENT
UID:P75088@sportzsoft.com
DTSTART:20190529T020000Z
DTEND:20190529T033000Z
SUMMARY:Practice #Practice (Chill )
LOCATION:Brentwood Sportsplex
END:VEVENT
BEGIN:VEVENT
UID:G99971@sportzsoft.com
DTSTART:20190531T030000Z
DTEND:20190531T050000Z
SUMMARY:Game #J1-064 vs Silvertips
LOCATION:Brentwood Sportsplex
END:VEVENT
BEGIN:VEVENT
UID:G100018@sportzsoft.com
DTSTART:20190601T210000Z
DTEND:20190601T230000Z
SUMMARY:Game #J1-069 vs Mavericks
LOCATION:Brentwood Sportsplex
END:VEVENT
BEGIN:VEVENT
UID:P75090@sportzsoft.com
DTSTART:20190607T033000Z
DTEND:20190607T050000Z
SUMMARY:Practice #Practice (Chill )
LOCATION:Brentwood Sportsplex
END:VEVENT
BEGIN:VEVENT
UID:G100108@sportzsoft.com
DTSTART:20190610T010000Z
DTEND:20190610T030000Z
SUMMARY:Game #J1-085 vs Silvertips
LOCATION:Spray Lake Sawmills Family Sports Centre - Totem 1
END:VEVENT
BEGIN:VEVENT
UID:P75093@sportzsoft.com
DTSTART:20190612T020000Z
DTEND:20190612T033000Z
SUMMARY:Practice #Practice (Chill )
LOCATION:Brentwood Sportsplex
END:VEVENT
BEGIN:VEVENT
UID:P75091@sportzsoft.com
DTSTART:20190614T033000Z
DTEND:20190614T050000Z
SUMMARY:Practice #Practice (Chill )
LOCATION:Brentwood Sportsplex
END:VEVENT
BEGIN:VEVENT
UID:G99950@sportzsoft.com
DTSTART:20190616T003000Z
DTEND:20190616T023000Z
SUMMARY:Game #J1-091 vs Crude
LOCATION:Jarome Iginla Arena
END:VEVENT
BEGIN:VEVENT
UID:G99949@sportzsoft.com
DTSTART:20190616T190000Z
DTEND:20190616T210000Z
SUMMARY:Game #J1-094 vs Rebels
LOCATION:Jubilee Recreation Centre
END:VEVENT
BEGIN:VEVENT
UID:P75094@sportzsoft.com
DTSTART:20190619T020000Z
DTEND:20190619T033000Z
SUMMARY:Practice #Practice (Chill )
LOCATION:Brentwood Sportsplex
END:VEVENT
BEGIN:VEVENT
UID:P75092@sportzsoft.com
DTSTART:20190621T033000Z
DTEND:20190621T050000Z
SUMMARY:Practice #Practice (Chill )
LOCATION:Brentwood Sportsplex
END:VEVENT
BEGIN:VEVENT
UID:G100015@sportzsoft.com
DTSTART:20190622T233000Z
DTEND:20190623T013000Z
SUMMARY:Game #J1-104 vs Rampage
LOCATION:Kinex- Red Deer
END:VEVENT
BEGIN:VEVENT
UID:P75095@sportzsoft.com
DTSTART:20190626T020000Z
DTEND:20190626T033000Z
SUMMARY:Practice #Practice (Chill )
LOCATION:Brentwood Sportsplex
END:VEVENT
BEGIN:VEVENT
UID:G100022@sportzsoft.com
DTSTART:20190628T030000Z
DTEND:20190628T050000Z
SUMMARY:Game #J1-112 vs Mavericks
LOCATION:Brentwood Sportsplex
END:VEVENT
BEGIN:VEVENT
UID:P75096@sportzsoft.com
DTSTART:20190703T033000Z
DTEND:20190703T050000Z
SUMMARY:Practice #Practice (Chill )
LOCATION:Brentwood Sportsplex
END:VEVENT
BEGIN:VEVENT
UID:G100017@sportzsoft.com
DTSTART:20190705T013000Z
DTEND:20190705T033000Z
SUMMARY:Game #J1-121 vs Silvertips
LOCATION:Brentwood Sportsplex
END:VEVENT
BEGIN:VEVENT
UID:G99972@sportzsoft.com
DTSTART:20190706T200000Z
DTEND:20190706T220000Z
SUMMARY:Game #J1-125 vs J Mounties
LOCATION:Acadia Recreation Complex
END:VEVENT
BEGIN:VEVENT
UID:G100020@sportzsoft.com
DTSTART:20190707T203000Z
DTEND:20190707T223000Z
SUMMARY:Game #J1-133 vs Mavericks
LOCATION:Olds Sports Complex Main
END:VEVENT
BEGIN:VEVENT
UID:P75097@sportzsoft.com
DTSTART:20190710T020000Z
DTEND:20190710T033000Z
SUMMARY:Practice #Practice (Chill )
LOCATION:Brentwood Sportsplex
END:VEVENT
BEGIN:VEVENT
UID:P79294@sportzsoft.com
DTSTART:20190712T010000Z
DTEND:20190712T033000Z
SUMMARY:Practice #Practice (Chill )
LOCATION:Brentwood Sportsplex
END:VEVENT
BEGIN:VEVENT
UID:G100090@sportzsoft.com
DTSTART:20190713T013000Z
DTEND:20190713T033000Z
SUMMARY:Game #J1-138 vs Shamrocks
LOCATION:Stu Peppard
END:VEVENT
BEGIN:VEVENT
UID:G100008@sportzsoft.com
DTSTART:20190714T183000Z
DTEND:20190714T203000Z
SUMMARY:Game #J1-147 vs Rampage
LOCATION:Brentwood Sportsplex
END:VEVENT
BEGIN:VEVENT
UID:P79295@sportzsoft.com
DTSTART:20190717T010000Z
DTEND:20190717T023000Z
SUMMARY:Practice #Practice (Chill )
LOCATION:Brentwood Sportsplex
END:VEVENT
BEGIN:VEVENT
UID:G104474@sportzsoft.com
DTSTART:20190718T020000Z
DTEND:20190718T040000Z
SUMMARY:Game #T1CR1-01 vs Silvertips
LOCATION:Brentwood Sportsplex
END:VEVENT
BEGIN:VEVENT
UID:G104475@sportzsoft.com
DTSTART:20190719T024500Z
DTEND:20190719T044500Z
SUMMARY:Game #T1CR1-02 vs Silvertips
LOCATION:Spray Lake Sawmills Family Sports Centre - Totem 1
END:VEVENT
BEGIN:VEVENT
UID:G104476@sportzsoft.com
DTSTART:20190720T020000Z
DTEND:20190720T040000Z
SUMMARY:Game #T1CR1-03 vs Silvertips
LOCATION:Brentwood Sportsplex
END:VEVENT
BEGIN:VEVENT
UID:P79296@sportzsoft.com
DTSTART:20190724T010000Z
DTEND:20190724T023000Z
SUMMARY:Practice #Practice (Chill )
LOCATION:Brentwood Sportsplex
END:VEVENT
BEGIN:VEVENT
UID:P79298@sportzsoft.com
DTSTART:20190726T010000Z
DTEND:20190726T023000Z
SUMMARY:Practice #Practice (Chill )
LOCATION:Brentwood Sportsplex
END:VEVENT
END:VCALENDAR
