BEGIN:VCALENDAR
VERSION:2.0
PRODID:SportzSoftTeamWeb
TZ:+00
BEGIN:VEVENT
UID:P73466@sportzsoft.com
DTSTART:20190331T173000Z
DTEND:20190331T190000Z
SUMMARY:Practice #PJL012 (Ladies Raiders )
LOCATION:Crescent Pointe Regional Fieldhouse
END:VEVENT
BEGIN:VEVENT
UID:P73467@sportzsoft.com
DTSTART:20190409T013000Z
DTEND:20190409T023000Z
SUMMARY:Practice #PJL013 (Ladies Raiders )
LOCATION:Oilfields Regional Arena
END:VEVENT
BEGIN:VEVENT
UID:P73402@sportzsoft.com
DTSTART:20190411T010000Z
DTEND:20190411T023000Z
SUMMARY:Practice #PJL014 (Ladies Raiders )
LOCATION:Okotoks Recreation Centre - Murray Arena
END:VEVENT
BEGIN:VEVENT
UID:P75439@sportzsoft.com
DTSTART:20190412T180000Z
DTEND:20190412T190000Z
SUMMARY:Practice #PJL063 (Ladies Raiders )
LOCATION:Okotoks Recreation Centre - Murray Arena
END:VEVENT
BEGIN:VEVENT
UID:P73403@sportzsoft.com
DTSTART:20190414T193000Z
DTEND:20190414T210000Z
SUMMARY:Practice #PJL015 (Ladies Raiders )
LOCATION:Okotoks Recreation Centre - Murray Arena
END:VEVENT
BEGIN:VEVENT
UID:P73404@sportzsoft.com
DTSTART:20190418T010000Z
DTEND:20190418T023000Z
SUMMARY:Practice #PJL016 (Ladies Raiders )
LOCATION:Okotoks Recreation Centre - Murray Arena
END:VEVENT
BEGIN:VEVENT
UID:P73468@sportzsoft.com
DTSTART:20190423T013000Z
DTEND:20190423T023000Z
SUMMARY:Practice #PJL017 (Ladies Raiders )
LOCATION:Oilfields Regional Arena
END:VEVENT
BEGIN:VEVENT
UID:P73405@sportzsoft.com
DTSTART:20190426T030000Z
DTEND:20190426T043000Z
SUMMARY:Practice #PJL018 (Ladies Raiders )
LOCATION:Okotoks Recreation Centre - Murray Arena
END:VEVENT
BEGIN:VEVENT
UID:P75440@sportzsoft.com
DTSTART:20190428T180000Z
DTEND:20190428T190000Z
SUMMARY:Practice #PJL019 (Ladies Raiders )
LOCATION:Okotoks Recreation Centre - Murray Arena
END:VEVENT
BEGIN:VEVENT
UID:G100896@sportzsoft.com
DTSTART:20190502T010000Z
DTEND:20190502T030000Z
SUMMARY:Game #JL-010 vs Axemen
LOCATION:Stu Peppard
END:VEVENT
BEGIN:VEVENT
UID:G100931@sportzsoft.com
DTSTART:20190505T000000Z
DTEND:20190505T020000Z
SUMMARY:Game #JL-015 vs Drillers
LOCATION:Stu Peppard
END:VEVENT
BEGIN:VEVENT
UID:G100922@sportzsoft.com
DTSTART:20190509T013000Z
DTEND:20190509T033000Z
SUMMARY:Game #JL-020 vs L Tips
LOCATION:Okotoks Recreation Centre - Murray Arena
END:VEVENT
BEGIN:VEVENT
UID:P75441@sportzsoft.com
DTSTART:20190511T023000Z
DTEND:20190511T033000Z
SUMMARY:Practice #PJL020 (Ladies Raiders )
LOCATION:Okotoks Recreation Centre - Murray Arena
END:VEVENT
BEGIN:VEVENT
UID:G100935@sportzsoft.com
DTSTART:20190511T193000Z
DTEND:20190511T213000Z
SUMMARY:Game #JL-022 vs Saints
LOCATION:Okotoks Recreation Centre - Murray Arena
END:VEVENT
BEGIN:VEVENT
UID:P78470@sportzsoft.com
DTSTART:20190516T013000Z
DTEND:20190516T030000Z
SUMMARY:Practice #PJL-020a (Ladies Raiders )
LOCATION: Okotoks Recreation Centre (Murray Arena)
END:VEVENT
BEGIN:VEVENT
UID:G100897@sportzsoft.com
DTSTART:20190516T013000Z
DTEND:20190516T033000Z
SUMMARY:Game #JL-031 vs Axemen (cancelled)
LOCATION:Okotoks Recreation Centre - Murray Arena
END:VEVENT
BEGIN:VEVENT
UID:P75442@sportzsoft.com
DTSTART:20190522T013000Z
DTEND:20190522T023000Z
SUMMARY:Practice #PJL021 (Ladies Raiders )
LOCATION:Okotoks Recreation Centre - Murray Arena
END:VEVENT
BEGIN:VEVENT
UID:G100910@sportzsoft.com
DTSTART:20190523T013000Z
DTEND:20190523T033000Z
SUMMARY:Game #JL-034 vs Cardinals
LOCATION:Okotoks Recreation Centre - Murray Arena
END:VEVENT
BEGIN:VEVENT
UID:G100898@sportzsoft.com
DTSTART:20190525T183000Z
DTEND:20190525T203000Z
SUMMARY:Game #JL-036 vs Drillers
LOCATION:Stu Peppard
END:VEVENT
BEGIN:VEVENT
UID:G100921@sportzsoft.com
DTSTART:20190526T190000Z
DTEND:20190526T210000Z
SUMMARY:Game #JL-039 vs L Tips
LOCATION:Plainsmen Arena
END:VEVENT
BEGIN:VEVENT
UID:P75443@sportzsoft.com
DTSTART:20190531T030000Z
DTEND:20190531T040000Z
SUMMARY:Practice #PJL022 (Ladies Raiders )
LOCATION:Okotoks Recreation Centre - Murray Arena
END:VEVENT
BEGIN:VEVENT
UID:G100932@sportzsoft.com
DTSTART:20190601T203000Z
DTEND:20190601T223000Z
SUMMARY:Game #JL-047 vs Drillers
LOCATION:Jarome Iginla Arena
END:VEVENT
BEGIN:VEVENT
UID:G100936@sportzsoft.com
DTSTART:20190602T193000Z
DTEND:20190602T213000Z
SUMMARY:Game #JL-050 vs Saints
LOCATION:Bill Hunter Arena formerly Jasper Place
END:VEVENT
BEGIN:VEVENT
UID:G100923@sportzsoft.com
DTSTART:20190606T013000Z
DTEND:20190606T033000Z
SUMMARY:Game #JL-055 vs L Tips
LOCATION:Okotoks Recreation Centre - Murray Arena
END:VEVENT
BEGIN:VEVENT
UID:P75444@sportzsoft.com
DTSTART:20190611T013000Z
DTEND:20190611T023000Z
SUMMARY:Practice #PJL023 (Ladies Raiders )
LOCATION:Oilfields Regional Arena
END:VEVENT
BEGIN:VEVENT
UID:G100933@sportzsoft.com
DTSTART:20190616T000000Z
DTEND:20190616T020000Z
SUMMARY:Game #JL-071 vs Jr Titans
LOCATION:Okotoks Recreation Centre - Murray Arena
END:VEVENT
BEGIN:VEVENT
UID:P79240@sportzsoft.com
DTSTART:20190618T010000Z
DTEND:20190618T020000Z
SUMMARY:Practice #PJL024 (Ladies Raiders )
LOCATION:Crescent Pointe Regional Fieldhouse
END:VEVENT
BEGIN:VEVENT
UID:G100920@sportzsoft.com
DTSTART:20190618T020000Z
DTEND:20190618T040000Z
SUMMARY:Game #JL-076 vs Axemen (cancelled)
LOCATION:Stu Peppard
END:VEVENT
BEGIN:VEVENT
UID:G100937@sportzsoft.com
DTSTART:20190620T010000Z
DTEND:20190620T030000Z
SUMMARY:Game #JL-078 vs Cougars
LOCATION:Stu Peppard
END:VEVENT
BEGIN:VEVENT
UID:G100934@sportzsoft.com
DTSTART:20190622T203000Z
DTEND:20190622T223000Z
SUMMARY:Game #JL-083 vs Jr Titans
LOCATION:Sherwood Park Arena
END:VEVENT
BEGIN:VEVENT
UID:G100901@sportzsoft.com
DTSTART:20190623T193000Z
DTEND:20190623T213000Z
SUMMARY:Game #JL-085 vs Jr Titans
LOCATION:Sherwood Park Arena
END:VEVENT
BEGIN:VEVENT
UID:G100909@sportzsoft.com
DTSTART:20190625T030000Z
DTEND:20190625T050000Z
SUMMARY:Game #JL-089 vs Cardinals
LOCATION:Brentwood Sportsplex
END:VEVENT
BEGIN:VEVENT
UID:P79241@sportzsoft.com
DTSTART:20190627T010000Z
DTEND:20190627T020000Z
SUMMARY:Practice #PJL026 (Ladies Raiders )
LOCATION: Okotoks Recreation Centre (Murray Arena)
END:VEVENT
BEGIN:VEVENT
UID:G100911@sportzsoft.com
DTSTART:20190628T013000Z
DTEND:20190628T033000Z
SUMMARY:Game #JL-066 vs Cardinals
LOCATION:SFC Cardel Ice 1
END:VEVENT
BEGIN:VEVENT
UID:P75445@sportzsoft.com
DTSTART:20190704T010000Z
DTEND:20190704T020000Z
SUMMARY:Practice #PJL025 (Ladies Raiders )
LOCATION:Okotoks Recreation Centre - Murray Arena
END:VEVENT
BEGIN:VEVENT
UID:G104444@sportzsoft.com
DTSTART:20190706T030000Z
DTEND:20190706T050000Z
SUMMARY:Game #JLPr-02 vs Cardinals
LOCATION:Bill Hunter Arena formerly Jasper Place
END:VEVENT
BEGIN:VEVENT
UID:G104445@sportzsoft.com
DTSTART:20190706T170000Z
DTEND:20190706T190000Z
SUMMARY:Game #JLPr-03 vs Jr Titans
LOCATION:Bill Hunter Arena formerly Jasper Place
END:VEVENT
BEGIN:VEVENT
UID:G104447@sportzsoft.com
DTSTART:20190707T003000Z
DTEND:20190707T023000Z
SUMMARY:Game #JLPr-05 vs Saints
LOCATION:Bill Hunter Arena formerly Jasper Place
END:VEVENT
BEGIN:VEVENT
UID:G104449@sportzsoft.com
DTSTART:20190707T163000Z
DTEND:20190707T183000Z
SUMMARY:Game #JLPr-07 vs Saints
LOCATION:Bill Hunter Arena formerly Jasper Place
END:VEVENT
END:VCALENDAR
