BEGIN:VCALENDAR
VERSION:2.0
PRODID:SportzSoftTeamWeb
TZ:+00
BEGIN:VEVENT
UID:P73433@sportzsoft.com
DTSTART:20190308T030000Z
DTEND:20190308T043000Z
SUMMARY:Practice #PJL018 (Drillers )
LOCATION:Servus Credit Union Place - Bright Dental North Field
END:VEVENT
BEGIN:VEVENT
UID:P73434@sportzsoft.com
DTSTART:20190322T020000Z
DTEND:20190322T033000Z
SUMMARY:Practice #PJL019 (Drillers )
LOCATION:Servus Credit Union Place - Bright Dental North Field
END:VEVENT
BEGIN:VEVENT
UID:P74560@sportzsoft.com
DTSTART:20190417T003000Z
DTEND:20190417T020000Z
SUMMARY:Practice #PJL045 (Drillers )
LOCATION:Jarome Iginla Arena
END:VEVENT
BEGIN:VEVENT
UID:P73435@sportzsoft.com
DTSTART:20190419T003000Z
DTEND:20190419T020000Z
SUMMARY:Practice #PJL020 (Drillers )
LOCATION:Jarome Iginla Arena
END:VEVENT
BEGIN:VEVENT
UID:P73440@sportzsoft.com
DTSTART:20190424T003000Z
DTEND:20190424T020000Z
SUMMARY:Practice #PJL021 (Drillers )
LOCATION:Jarome Iginla Arena
END:VEVENT
BEGIN:VEVENT
UID:P73436@sportzsoft.com
DTSTART:20190426T003000Z
DTEND:20190426T020000Z
SUMMARY:Practice #PJL020 (Drillers )
LOCATION:Jarome Iginla Arena
END:VEVENT
BEGIN:VEVENT
UID:G100939@sportzsoft.com
DTSTART:20190430T023000Z
DTEND:20190430T043000Z
SUMMARY:Game #JL-007 vs Jr Titans
LOCATION:Sherwood Park Arena
END:VEVENT
BEGIN:VEVENT
UID:P73441@sportzsoft.com
DTSTART:20190501T003000Z
DTEND:20190501T020000Z
SUMMARY:Practice #PJL021 (Drillers )
LOCATION:Jarome Iginla Arena
END:VEVENT
BEGIN:VEVENT
UID:P73437@sportzsoft.com
DTSTART:20190503T003000Z
DTEND:20190503T020000Z
SUMMARY:Practice #PJL020 (Drillers )
LOCATION:Jarome Iginla Arena
END:VEVENT
BEGIN:VEVENT
UID:G100931@sportzsoft.com
DTSTART:20190505T000000Z
DTEND:20190505T020000Z
SUMMARY:Game #JL-015 vs Ladies Raiders
LOCATION:Stu Peppard
END:VEVENT
BEGIN:VEVENT
UID:G100924@sportzsoft.com
DTSTART:20190505T190000Z
DTEND:20190505T210000Z
SUMMARY:Game #JL-016 vs L Tips
LOCATION:Plainsmen Arena
END:VEVENT
BEGIN:VEVENT
UID:P73442@sportzsoft.com
DTSTART:20190508T003000Z
DTEND:20190508T020000Z
SUMMARY:Practice #PJL021 (Drillers )
LOCATION:Jarome Iginla Arena
END:VEVENT
BEGIN:VEVENT
UID:G100941@sportzsoft.com
DTSTART:20190509T030000Z
DTEND:20190509T050000Z
SUMMARY:Game #JL-021 vs Saints
LOCATION:Jarome Iginla Arena
END:VEVENT
BEGIN:VEVENT
UID:P73438@sportzsoft.com
DTSTART:20190510T003000Z
DTEND:20190510T020000Z
SUMMARY:Practice #PJL020 (Drillers )
LOCATION:Jarome Iginla Arena
END:VEVENT
BEGIN:VEVENT
UID:G100925@sportzsoft.com
DTSTART:20190512T163000Z
DTEND:20190512T183000Z
SUMMARY:Game #JL-026 vs L Tips
LOCATION:Jarome Iginla Arena
END:VEVENT
BEGIN:VEVENT
UID:P73443@sportzsoft.com
DTSTART:20190515T003000Z
DTEND:20190515T020000Z
SUMMARY:Practice #PJL021 (Drillers )
LOCATION:Jarome Iginla Arena
END:VEVENT
BEGIN:VEVENT
UID:G100944@sportzsoft.com
DTSTART:20190516T030000Z
DTEND:20190516T050000Z
SUMMARY:Game #JL-032 vs Bandits
LOCATION:Jarome Iginla Arena
END:VEVENT
BEGIN:VEVENT
UID:P73439@sportzsoft.com
DTSTART:20190517T003000Z
DTEND:20190517T020000Z
SUMMARY:Practice #PJL020 (Drillers )
LOCATION:Jarome Iginla Arena
END:VEVENT
BEGIN:VEVENT
UID:P74562@sportzsoft.com
DTSTART:20190522T003000Z
DTEND:20190522T020000Z
SUMMARY:Practice #PJL047 (Drillers )
LOCATION:Jarome Iginla Arena
END:VEVENT
BEGIN:VEVENT
UID:P74563@sportzsoft.com
DTSTART:20190524T003000Z
DTEND:20190524T020000Z
SUMMARY:Practice #PJL048 (Drillers )
LOCATION:Jarome Iginla Arena
END:VEVENT
BEGIN:VEVENT
UID:G100898@sportzsoft.com
DTSTART:20190525T183000Z
DTEND:20190525T203000Z
SUMMARY:Game #JL-036 vs Ladies Raiders
LOCATION:Stu Peppard
END:VEVENT
BEGIN:VEVENT
UID:G100912@sportzsoft.com
DTSTART:20190526T180000Z
DTEND:20190526T200000Z
SUMMARY:Game #JL-040 vs Cardinals
LOCATION:Brentwood Sportsplex
END:VEVENT
BEGIN:VEVENT
UID:P74564@sportzsoft.com
DTSTART:20190529T003000Z
DTEND:20190529T020000Z
SUMMARY:Practice #PJL049 (Drillers )
LOCATION:Jarome Iginla Arena
END:VEVENT
BEGIN:VEVENT
UID:G100940@sportzsoft.com
DTSTART:20190530T023000Z
DTEND:20190530T043000Z
SUMMARY:Game #JL-044 vs Jr Titans
LOCATION:Sherwood Park Arena
END:VEVENT
BEGIN:VEVENT
UID:P74561@sportzsoft.com
DTSTART:20190531T003000Z
DTEND:20190531T020000Z
SUMMARY:Practice #PJL046 (Drillers )
LOCATION:Kinex Arena (St. Albert)
END:VEVENT
BEGIN:VEVENT
UID:G100932@sportzsoft.com
DTSTART:20190601T203000Z
DTEND:20190601T223000Z
SUMMARY:Game #JL-047 vs Ladies Raiders
LOCATION:Jarome Iginla Arena
END:VEVENT
BEGIN:VEVENT
UID:G100945@sportzsoft.com
DTSTART:20190602T203000Z
DTEND:20190602T223000Z
SUMMARY:Game #JL-052 vs Rage
LOCATION:Kinex- Red Deer
END:VEVENT
BEGIN:VEVENT
UID:P74565@sportzsoft.com
DTSTART:20190605T003000Z
DTEND:20190605T020000Z
SUMMARY:Practice #PJL050 (Drillers )
LOCATION:Jarome Iginla Arena
END:VEVENT
BEGIN:VEVENT
UID:P74566@sportzsoft.com
DTSTART:20190607T003000Z
DTEND:20190607T020000Z
SUMMARY:Practice #PJL051 (Drillers )
LOCATION:Kinex Arena (St. Albert)
END:VEVENT
BEGIN:VEVENT
UID:G100943@sportzsoft.com
DTSTART:20190611T023000Z
DTEND:20190611T043000Z
SUMMARY:Game #JL-064 vs Saints
LOCATION:Bill Hunter Arena formerly Jasper Place
END:VEVENT
BEGIN:VEVENT
UID:P74567@sportzsoft.com
DTSTART:20190612T003000Z
DTEND:20190612T020000Z
SUMMARY:Practice #PJL052 (Drillers )
LOCATION:Jarome Iginla Arena
END:VEVENT
BEGIN:VEVENT
UID:G100913@sportzsoft.com
DTSTART:20190615T190000Z
DTEND:20190615T210000Z
SUMMARY:Game #JL-068 vs Cardinals
LOCATION:Jarome Iginla Arena
END:VEVENT
BEGIN:VEVENT
UID:P74568@sportzsoft.com
DTSTART:20190619T003000Z
DTEND:20190619T020000Z
SUMMARY:Practice #PJL052 (Drillers )
LOCATION:Jarome Iginla Arena
END:VEVENT
BEGIN:VEVENT
UID:G100942@sportzsoft.com
DTSTART:20190620T030000Z
DTEND:20190620T050000Z
SUMMARY:Game #JL-079 vs Saints
LOCATION:Jarome Iginla Arena
END:VEVENT
BEGIN:VEVENT
UID:P79251@sportzsoft.com
DTSTART:20190621T003000Z
DTEND:20190621T020000Z
SUMMARY:Practice #PJL108 (Drillers )
LOCATION:
END:VEVENT
BEGIN:VEVENT
UID:G100899@sportzsoft.com
DTSTART:20190622T200000Z
DTEND:20190622T220000Z
SUMMARY:Game #JL-082 vs Saints
LOCATION:Jarome Iginla Arena
END:VEVENT
BEGIN:VEVENT
UID:P74569@sportzsoft.com
DTSTART:20190626T003000Z
DTEND:20190626T020000Z
SUMMARY:Practice #PJL052 (Drillers )
LOCATION:Jarome Iginla Arena
END:VEVENT
BEGIN:VEVENT
UID:G100938@sportzsoft.com
DTSTART:20190627T030000Z
DTEND:20190627T050000Z
SUMMARY:Game #JL-091 vs Jr Titans
LOCATION:Jarome Iginla Arena
END:VEVENT
END:VCALENDAR
