BEGIN:VCALENDAR
VERSION:2.0
PRODID:SportzSoftTeamWeb
TZ:+00
BEGIN:VEVENT
UID:P73352@sportzsoft.com
DTSTART:20190331T200000Z
DTEND:20190331T220000Z
SUMMARY:Practice #PJL013 (Cardinals )
LOCATION:Calgary Genesis Centre - 1
END:VEVENT
BEGIN:VEVENT
UID:E43030@sportzsoft.com
DTSTART:20190331T200000Z
DTEND:20190331T220000Z
SUMMARY:Event #43030 Pre-season Floor Session
LOCATION:NE Genesis Centre, FieldHouse #1
END:VEVENT
BEGIN:VEVENT
UID:P74904@sportzsoft.com
DTSTART:20190410T003000Z
DTEND:20190410T020000Z
SUMMARY:Practice #PJL054 (Cardinals )
LOCATION:Brentwood Sportsplex
END:VEVENT
BEGIN:VEVENT
UID:E43142@sportzsoft.com
DTSTART:20190410T003000Z
DTEND:20190410T020000Z
SUMMARY:Event #43142 Pre-season Floor Session
LOCATION:Brentwood Sportsplex
END:VEVENT
BEGIN:VEVENT
UID:E43143@sportzsoft.com
DTSTART:20190412T010000Z
DTEND:20190412T020000Z
SUMMARY:Event #43143 Pre-season Floor Session
LOCATION:Brentwood Sportsplex
END:VEVENT
BEGIN:VEVENT
UID:P74905@sportzsoft.com
DTSTART:20190412T010000Z
DTEND:20190412T020000Z
SUMMARY:Practice #PJL055 (Cardinals )
LOCATION:Brentwood Sportsplex
END:VEVENT
BEGIN:VEVENT
UID:P74906@sportzsoft.com
DTSTART:20190417T003000Z
DTEND:20190417T020000Z
SUMMARY:Practice #PJL056 (Cardinals )
LOCATION:Brentwood Sportsplex
END:VEVENT
BEGIN:VEVENT
UID:E43144@sportzsoft.com
DTSTART:20190417T003000Z
DTEND:20190417T020000Z
SUMMARY:Event #43144 Pre-season Floor Session
LOCATION:Brentwood Sportsplex
END:VEVENT
BEGIN:VEVENT
UID:P74907@sportzsoft.com
DTSTART:20190419T003000Z
DTEND:20190419T020000Z
SUMMARY:Practice #PJL057 (Cardinals )
LOCATION:Brentwood Sportsplex
END:VEVENT
BEGIN:VEVENT
UID:E43145@sportzsoft.com
DTSTART:20190419T003000Z
DTEND:20190419T020000Z
SUMMARY:Event #43145 Pre-season Floor Session
LOCATION:Brentwood Sportsplex
END:VEVENT
BEGIN:VEVENT
UID:P74282@sportzsoft.com
DTSTART:20190424T003000Z
DTEND:20190424T020000Z
SUMMARY:Practice #PJL043 (Cardinals )
LOCATION:Brentwood Sportsplex
END:VEVENT
BEGIN:VEVENT
UID:E43146@sportzsoft.com
DTSTART:20190424T003000Z
DTEND:20190424T020000Z
SUMMARY:Event #43146 Pre-season Floor Session
LOCATION:Brentwood Sportsplex
END:VEVENT
BEGIN:VEVENT
UID:P74285@sportzsoft.com
DTSTART:20190426T003000Z
DTEND:20190426T020000Z
SUMMARY:Practice #PJL044 (Cardinals )
LOCATION:Brentwood Sportsplex
END:VEVENT
BEGIN:VEVENT
UID:E43147@sportzsoft.com
DTSTART:20190426T003000Z
DTEND:20190426T020000Z
SUMMARY:Event #43147 Pre-season Floor Session
LOCATION:Brentwood Sportsplex
END:VEVENT
BEGIN:VEVENT
UID:G100893@sportzsoft.com
DTSTART:20190427T213000Z
DTEND:20190427T233000Z
SUMMARY:Game #JL-001 vs Axemen
LOCATION:Stu Peppard
END:VEVENT
BEGIN:VEVENT
UID:G100907@sportzsoft.com
DTSTART:20190430T030000Z
DTEND:20190430T050000Z
SUMMARY:Game #JL-008 vs L Tips
LOCATION:Brentwood Sportsplex
END:VEVENT
BEGIN:VEVENT
UID:P78283@sportzsoft.com
DTSTART:20190501T010000Z
DTEND:20190501T020000Z
SUMMARY:Practice #PJL083 (Cardinals )
LOCATION:Brentwood Sportsplex
END:VEVENT
BEGIN:VEVENT
UID:P78284@sportzsoft.com
DTSTART:20190503T010000Z
DTEND:20190503T020000Z
SUMMARY:Practice #PJL084 (Cardinals )
LOCATION:Brentwood Sportsplex
END:VEVENT
BEGIN:VEVENT
UID:G100915@sportzsoft.com
DTSTART:20190504T230000Z
DTEND:20190505T010000Z
SUMMARY:Game #JL-014 vs Jr Titans
LOCATION:Sherwood Park Arena
END:VEVENT
BEGIN:VEVENT
UID:G100917@sportzsoft.com
DTSTART:20190505T180000Z
DTEND:20190505T200000Z
SUMMARY:Game #JL-017 vs Saints
LOCATION:Bill Hunter Arena formerly Jasper Place
END:VEVENT
BEGIN:VEVENT
UID:P78285@sportzsoft.com
DTSTART:20190508T020000Z
DTEND:20190508T033000Z
SUMMARY:Practice #PJL085 (Cardinals )
LOCATION:Brentwood Sportsplex
END:VEVENT
BEGIN:VEVENT
UID:P78286@sportzsoft.com
DTSTART:20190510T023000Z
DTEND:20190510T040000Z
SUMMARY:Practice #PJL086 (Cardinals )
LOCATION:Brentwood Sportsplex
END:VEVENT
BEGIN:VEVENT
UID:G100916@sportzsoft.com
DTSTART:20190512T020000Z
DTEND:20190512T040000Z
SUMMARY:Game #JL-025 vs Saints
LOCATION:Brentwood Sportsplex
END:VEVENT
BEGIN:VEVENT
UID:G100892@sportzsoft.com
DTSTART:20190514T030000Z
DTEND:20190514T050000Z
SUMMARY:Game #JL-028 vs Axemen (cancelled)
LOCATION:Brentwood Sportsplex
END:VEVENT
BEGIN:VEVENT
UID:P78287@sportzsoft.com
DTSTART:20190515T010000Z
DTEND:20190515T020000Z
SUMMARY:Practice #PJL087 (Cardinals )
LOCATION:Brentwood Sportsplex
END:VEVENT
BEGIN:VEVENT
UID:P78288@sportzsoft.com
DTSTART:20190517T003000Z
DTEND:20190517T013000Z
SUMMARY:Practice #PJL088 (Cardinals )
LOCATION:
END:VEVENT
BEGIN:VEVENT
UID:P78289@sportzsoft.com
DTSTART:20190522T003000Z
DTEND:20190522T020000Z
SUMMARY:Practice #PJL089 (Cardinals )
LOCATION:Brentwood Sportsplex
END:VEVENT
BEGIN:VEVENT
UID:G100910@sportzsoft.com
DTSTART:20190523T013000Z
DTEND:20190523T033000Z
SUMMARY:Game #JL-034 vs Ladies Raiders
LOCATION:Okotoks Recreation Centre - Murray Arena
END:VEVENT
BEGIN:VEVENT
UID:P78290@sportzsoft.com
DTSTART:20190524T003000Z
DTEND:20190524T020000Z
SUMMARY:Practice #PJL090 (Cardinals )
LOCATION:Brentwood Sportsplex
END:VEVENT
BEGIN:VEVENT
UID:G100919@sportzsoft.com
DTSTART:20190525T020000Z
DTEND:20190525T040000Z
SUMMARY:Game #JL-035 vs L Tips
LOCATION:Plainsmen Arena
END:VEVENT
BEGIN:VEVENT
UID:G100912@sportzsoft.com
DTSTART:20190526T180000Z
DTEND:20190526T200000Z
SUMMARY:Game #JL-040 vs Drillers
LOCATION:Brentwood Sportsplex
END:VEVENT
BEGIN:VEVENT
UID:P78291@sportzsoft.com
DTSTART:20190529T003000Z
DTEND:20190529T020000Z
SUMMARY:Practice #PJL091 (Cardinals )
LOCATION:Brentwood Sportsplex
END:VEVENT
BEGIN:VEVENT
UID:P78292@sportzsoft.com
DTSTART:20190531T003000Z
DTEND:20190531T013000Z
SUMMARY:Practice #PJL092 (Cardinals )
LOCATION:Brentwood Sportsplex
END:VEVENT
BEGIN:VEVENT
UID:G100914@sportzsoft.com
DTSTART:20190601T233000Z
DTEND:20190602T013000Z
SUMMARY:Game #JL-049 vs Jr Titans
LOCATION:Brentwood Sportsplex
END:VEVENT
BEGIN:VEVENT
UID:G100906@sportzsoft.com
DTSTART:20190604T030000Z
DTEND:20190604T050000Z
SUMMARY:Game #JL-054 vs L Tips (cancelled)
LOCATION:Brentwood Sportsplex
END:VEVENT
BEGIN:VEVENT
UID:P78293@sportzsoft.com
DTSTART:20190605T020000Z
DTEND:20190605T033000Z
SUMMARY:Practice #PJL093 (Cardinals )
LOCATION:Brentwood Sportsplex
END:VEVENT
BEGIN:VEVENT
UID:G100905@sportzsoft.com
DTSTART:20190606T030000Z
DTEND:20190606T050000Z
SUMMARY:Game #JL-057 vs Axemen (cancelled)
LOCATION:Brentwood Sportsplex
END:VEVENT
BEGIN:VEVENT
UID:P78294@sportzsoft.com
DTSTART:20190607T003000Z
DTEND:20190607T020000Z
SUMMARY:Practice #PJL094 (Cardinals )
LOCATION:Brentwood Sportsplex
END:VEVENT
BEGIN:VEVENT
UID:G100894@sportzsoft.com
DTSTART:20190611T020000Z
DTEND:20190611T040000Z
SUMMARY:Game #JL-063 vs L Tips
LOCATION:Stu Peppard
END:VEVENT
BEGIN:VEVENT
UID:P78295@sportzsoft.com
DTSTART:20190612T003000Z
DTEND:20190612T020000Z
SUMMARY:Practice #PJL095 (Cardinals )
LOCATION:Brentwood Sportsplex
END:VEVENT
BEGIN:VEVENT
UID:P78296@sportzsoft.com
DTSTART:20190614T013000Z
DTEND:20190614T023000Z
SUMMARY:Practice #PJL096 (Cardinals )
LOCATION:Brentwood Sportsplex
END:VEVENT
BEGIN:VEVENT
UID:G100913@sportzsoft.com
DTSTART:20190615T190000Z
DTEND:20190615T210000Z
SUMMARY:Game #JL-068 vs Drillers
LOCATION:Jarome Iginla Arena
END:VEVENT
BEGIN:VEVENT
UID:G100918@sportzsoft.com
DTSTART:20190618T020000Z
DTEND:20190618T040000Z
SUMMARY:Game #JL-075 vs Attack
LOCATION:Plainsmen Arena
END:VEVENT
BEGIN:VEVENT
UID:P78297@sportzsoft.com
DTSTART:20190619T003000Z
DTEND:20190619T020000Z
SUMMARY:Practice #PJL097 (Cardinals )
LOCATION:Brentwood Sportsplex
END:VEVENT
BEGIN:VEVENT
UID:P78298@sportzsoft.com
DTSTART:20190621T003000Z
DTEND:20190621T020000Z
SUMMARY:Practice #PJL098 (Cardinals )
LOCATION:Brentwood Sportsplex
END:VEVENT
BEGIN:VEVENT
UID:G100908@sportzsoft.com
DTSTART:20190622T020000Z
DTEND:20190622T040000Z
SUMMARY:Game #JL-080 vs L Tips
LOCATION:Plainsmen Arena
END:VEVENT
BEGIN:VEVENT
UID:G100909@sportzsoft.com
DTSTART:20190625T030000Z
DTEND:20190625T050000Z
SUMMARY:Game #JL-089 vs Ladies Raiders
LOCATION:Brentwood Sportsplex
END:VEVENT
BEGIN:VEVENT
UID:P78299@sportzsoft.com
DTSTART:20190626T003000Z
DTEND:20190626T020000Z
SUMMARY:Practice #PJL099 (Cardinals )
LOCATION:Brentwood Sportsplex
END:VEVENT
BEGIN:VEVENT
UID:G100904@sportzsoft.com
DTSTART:20190627T010000Z
DTEND:20190627T030000Z
SUMMARY:Game #JL-090 vs Cougars
LOCATION:Stu Peppard
END:VEVENT
BEGIN:VEVENT
UID:P78300@sportzsoft.com
DTSTART:20190628T003000Z
DTEND:20190628T013000Z
SUMMARY:Practice #PJL100 (Cardinals )
LOCATION:Brentwood Sportsplex
END:VEVENT
BEGIN:VEVENT
UID:G100911@sportzsoft.com
DTSTART:20190628T013000Z
DTEND:20190628T033000Z
SUMMARY:Game #JL-066 vs Ladies Raiders
LOCATION:SFC Cardel Ice 1
END:VEVENT
BEGIN:VEVENT
UID:P79290@sportzsoft.com
DTSTART:20190703T220000Z
DTEND:20190703T230000Z
SUMMARY:Practice #PJL110 (Cardinals )
LOCATION:Brentwood Sportsplex
END:VEVENT
BEGIN:VEVENT
UID:P79291@sportzsoft.com
DTSTART:20190703T223000Z
DTEND:20190704T000000Z
SUMMARY:Practice #PJL111 (Cardinals )
LOCATION:Brentwood Sportsplex
END:VEVENT
BEGIN:VEVENT
UID:G104444@sportzsoft.com
DTSTART:20190706T030000Z
DTEND:20190706T050000Z
SUMMARY:Game #JLPr-02 vs Ladies Raiders
LOCATION:Bill Hunter Arena formerly Jasper Place
END:VEVENT
BEGIN:VEVENT
UID:G104446@sportzsoft.com
DTSTART:20190706T193000Z
DTEND:20190706T213000Z
SUMMARY:Game #JLPr-04 vs Saints
LOCATION:Bill Hunter Arena formerly Jasper Place
END:VEVENT
BEGIN:VEVENT
UID:G104448@sportzsoft.com
DTSTART:20190707T030000Z
DTEND:20190707T050000Z
SUMMARY:Game #JLPr-06 vs Jr Titans
LOCATION:Bill Hunter Arena formerly Jasper Place
END:VEVENT
BEGIN:VEVENT
UID:G104450@sportzsoft.com
DTSTART:20190707T190000Z
DTEND:20190707T210000Z
SUMMARY:Game #JLPr-08 vs Jr Titans
LOCATION:Bill Hunter Arena formerly Jasper Place
END:VEVENT
END:VCALENDAR
