BEGIN:VCALENDAR
VERSION:2.0
PRODID:SportzSoftTeamWeb
TZ:+00
BEGIN:VEVENT
UID:G101915@sportzsoft.com
DTSTART:20190512T023000Z
DTEND:20190512T043000Z
SUMMARY:Game #JA-001 vs Jr Miners
LOCATION:Jarome Iginla Arena
END:VEVENT
BEGIN:VEVENT
UID:G101916@sportzsoft.com
DTSTART:20190512T193000Z
DTEND:20190512T213000Z
SUMMARY:Game #JA-002 vs Jr Miners
LOCATION:Jarome Iginla Arena
END:VEVENT
BEGIN:VEVENT
UID:G101899@sportzsoft.com
DTSTART:20190526T000000Z
DTEND:20190526T020000Z
SUMMARY:Game #JA-003 vs JrA Mounties
LOCATION:Stu Peppard
END:VEVENT
BEGIN:VEVENT
UID:G101909@sportzsoft.com
DTSTART:20190526T200000Z
DTEND:20190526T220000Z
SUMMARY:Game #JA-005 vs JrA Raiders
LOCATION:Max Bell Centre - Ken Bracko Arena
END:VEVENT
BEGIN:VEVENT
UID:G101922@sportzsoft.com
DTSTART:20190601T010000Z
DTEND:20190601T030000Z
SUMMARY:Game #JA-007 vs Jr Miners
LOCATION:Kinsmen Arena SK
END:VEVENT
BEGIN:VEVENT
UID:G101923@sportzsoft.com
DTSTART:20190602T000000Z
DTEND:20190602T020000Z
SUMMARY:Game #JA-008 vs Jr Miners
LOCATION:Kinsmen Arena SK
END:VEVENT
BEGIN:VEVENT
UID:G101924@sportzsoft.com
DTSTART:20190602T190000Z
DTEND:20190602T210000Z
SUMMARY:Game #JA-009 vs Jr Miners
LOCATION:Kinsmen Arena SK
END:VEVENT
BEGIN:VEVENT
UID:G101910@sportzsoft.com
DTSTART:20190609T010000Z
DTEND:20190609T030000Z
SUMMARY:Game #JA-012 vs JrA Raiders
LOCATION:Max Bell Centre - Ken Bracko Arena
END:VEVENT
BEGIN:VEVENT
UID:G101900@sportzsoft.com
DTSTART:20190609T190000Z
DTEND:20190609T210000Z
SUMMARY:Game #JA-013 vs JrA Mounties
LOCATION:Stu Peppard
END:VEVENT
BEGIN:VEVENT
UID:G101925@sportzsoft.com
DTSTART:20190616T000000Z
DTEND:20190616T020000Z
SUMMARY:Game #JA-016 vs JrA Mounties
LOCATION:Kinsmen Arena SK
END:VEVENT
BEGIN:VEVENT
UID:G101926@sportzsoft.com
DTSTART:20190616T180000Z
DTEND:20190616T200000Z
SUMMARY:Game #JA-018 vs JrA Mounties
LOCATION:Kinsmen Arena SK
END:VEVENT
BEGIN:VEVENT
UID:G101901@sportzsoft.com
DTSTART:20190629T003000Z
DTEND:20190629T023000Z
SUMMARY:Game #JA-022 vs JrA Mounties
LOCATION:Stu Peppard
END:VEVENT
BEGIN:VEVENT
UID:G101911@sportzsoft.com
DTSTART:20190630T010000Z
DTEND:20190630T030000Z
SUMMARY:Game #JA-025 vs JrA Raiders
LOCATION:Max Bell Centre - Ken Bracko Arena
END:VEVENT
BEGIN:VEVENT
UID:G101927@sportzsoft.com
DTSTART:20190707T000000Z
DTEND:20190707T020000Z
SUMMARY:Game #JA-028 vs JrA Raiders
LOCATION:Kinsmen Arena SK
END:VEVENT
BEGIN:VEVENT
UID:G101928@sportzsoft.com
DTSTART:20190707T190000Z
DTEND:20190707T210000Z
SUMMARY:Game #JA-029 vs JrA Raiders
LOCATION:Kinsmen Arena SK
END:VEVENT
BEGIN:VEVENT
UID:G104451@sportzsoft.com
DTSTART:20190714T010000Z
DTEND:20190714T030000Z
SUMMARY:Game #JAPL-01 vs JrA Raiders
LOCATION:Max Bell Centre - Ken Bracko Arena
END:VEVENT
BEGIN:VEVENT
UID:G104452@sportzsoft.com
DTSTART:20190714T200000Z
DTEND:20190714T220000Z
SUMMARY:Game #JAPL-02 vs JrA Raiders
LOCATION:Max Bell Centre - Ken Bracko Arena
END:VEVENT
BEGIN:VEVENT
UID:G104453@sportzsoft.com
DTSTART:20190720T000000Z
DTEND:20190720T020000Z
SUMMARY:Game #JAPL-03 vs JrA Raiders
LOCATION:Kinsmen Arena SK
END:VEVENT
BEGIN:VEVENT
UID:G104454@sportzsoft.com
DTSTART:20190721T000000Z
DTEND:20190721T020000Z
SUMMARY:Game #JAPL-04 vs JrA Raiders (cancelled)
LOCATION:Kinsmen Arena SK
END:VEVENT
BEGIN:VEVENT
UID:G104455@sportzsoft.com
DTSTART:20190722T000000Z
DTEND:20190722T020000Z
SUMMARY:Game #JAPL-05 vs JrA Raiders (cancelled)
LOCATION:Max Bell Centre - Ken Bracko Arena
END:VEVENT
END:VCALENDAR
