BEGIN:VCALENDAR
VERSION:2.0
PRODID:SportzSoftTeamWeb
TZ:+00
BEGIN:VEVENT
UID:P70120@sportzsoft.com
DTSTART:20181222T010000Z
DTEND:20181222T023000Z
SUMMARY:Practice #PJA-001 (JrA Raiders )
LOCATION:Calgary Soccer Centre
END:VEVENT
BEGIN:VEVENT
UID:P70121@sportzsoft.com
DTSTART:20181229T190000Z
DTEND:20181229T203000Z
SUMMARY:Practice #PJA-002 (JrA Raiders )
LOCATION:Calgary Soccer Centre
END:VEVENT
BEGIN:VEVENT
UID:P71194@sportzsoft.com
DTSTART:20190119T150000Z
DTEND:20190119T180000Z
SUMMARY:Practice #PJA-003 (JrA Raiders )
LOCATION:Calgary Soccer Centre
END:VEVENT
BEGIN:VEVENT
UID:P71196@sportzsoft.com
DTSTART:20190120T000000Z
DTEND:20190120T020000Z
SUMMARY:Practice #PJA-004 (JrA Raiders )
LOCATION:Calgary Soccer Centre
END:VEVENT
BEGIN:VEVENT
UID:P71197@sportzsoft.com
DTSTART:20190120T150000Z
DTEND:20190120T170000Z
SUMMARY:Practice #PJA-005 (JrA Raiders )
LOCATION:Calgary Soccer Centre
END:VEVENT
BEGIN:VEVENT
UID:P71710@sportzsoft.com
DTSTART:20190122T043000Z
DTEND:20190122T060000Z
SUMMARY:Practice #PJA-006 (JrA Raiders )
LOCATION:Calgary Soccer Centre
END:VEVENT
BEGIN:VEVENT
UID:P71711@sportzsoft.com
DTSTART:20190128T030000Z
DTEND:20190128T043000Z
SUMMARY:Practice #PJA-007 (JrA Raiders )
LOCATION:Calgary Soccer Centre
END:VEVENT
BEGIN:VEVENT
UID:P71712@sportzsoft.com
DTSTART:20190131T041500Z
DTEND:20190131T061500Z
SUMMARY:Practice #PJA-008 (JrA Raiders )
LOCATION:Calgary Soccer Centre
END:VEVENT
BEGIN:VEVENT
UID:P74665@sportzsoft.com
DTSTART:20190325T060000Z
DTEND:20190325T060000Z
SUMMARY:Practice #PJA-036 (JrA Raiders )
LOCATION:
END:VEVENT
BEGIN:VEVENT
UID:P74666@sportzsoft.com
DTSTART:20190409T010000Z
DTEND:20190409T023000Z
SUMMARY:Practice #PJA-037 (JrA Raiders )
LOCATION:Max Bell Centre - Ken Bracko Arena
END:VEVENT
BEGIN:VEVENT
UID:P74669@sportzsoft.com
DTSTART:20190411T010000Z
DTEND:20190411T023000Z
SUMMARY:Practice #PJA-038 (JrA Raiders )
LOCATION:Max Bell Centre - Ken Bracko Arena
END:VEVENT
BEGIN:VEVENT
UID:G103780@sportzsoft.com
DTSTART:20190416T020000Z
DTEND:20190416T040000Z
SUMMARY:Game #EX-14 vs JrA Mounties
LOCATION:Stu Peppard
END:VEVENT
BEGIN:VEVENT
UID:E43413@sportzsoft.com
DTSTART:20190418T010000Z
DTEND:20190418T020000Z
SUMMARY:Event #43413 Raiders Parent Meeting/Orientation for new parents
LOCATION:Max Bell Arena -Raiders dressing room
END:VEVENT
BEGIN:VEVENT
UID:P74670@sportzsoft.com
DTSTART:20190418T010000Z
DTEND:20190418T023000Z
SUMMARY:Practice #PJA-038 (JrA Raiders )
LOCATION:Max Bell Centre - Ken Bracko Arena
END:VEVENT
BEGIN:VEVENT
UID:P74668@sportzsoft.com
DTSTART:20190423T010000Z
DTEND:20190423T023000Z
SUMMARY:Practice #PJA-037 (JrA Raiders )
LOCATION:Max Bell Centre - Ken Bracko Arena
END:VEVENT
BEGIN:VEVENT
UID:P74671@sportzsoft.com
DTSTART:20190425T010000Z
DTEND:20190425T023000Z
SUMMARY:Practice #PJA-038 (JrA Raiders )
LOCATION:Max Bell Centre - Ken Bracko Arena
END:VEVENT
BEGIN:VEVENT
UID:P73667@sportzsoft.com
DTSTART:20190430T020000Z
DTEND:20190430T040000Z
SUMMARY:Practice #PJA-013 (JrA Raiders )
LOCATION:Max Bell Centre - Ken Bracko Arena
END:VEVENT
BEGIN:VEVENT
UID:P74418@sportzsoft.com
DTSTART:20190502T020000Z
DTEND:20190502T040000Z
SUMMARY:Practice #PJA-031 (JrA Raiders )
LOCATION:Max Bell Centre - Ken Bracko Arena
END:VEVENT
BEGIN:VEVENT
UID:P73669@sportzsoft.com
DTSTART:20190508T020000Z
DTEND:20190508T040000Z
SUMMARY:Practice #PJA-015 (JrA Raiders )
LOCATION:Max Bell Centre - Ken Bracko Arena
END:VEVENT
BEGIN:VEVENT
UID:P73670@sportzsoft.com
DTSTART:20190510T020000Z
DTEND:20190510T040000Z
SUMMARY:Practice #PJA-016 (JrA Raiders )
LOCATION:Max Bell Centre - Ken Bracko Arena
END:VEVENT
BEGIN:VEVENT
UID:P73671@sportzsoft.com
DTSTART:20190515T020000Z
DTEND:20190515T040000Z
SUMMARY:Practice #PJA-017 (JrA Raiders )
LOCATION:Max Bell Centre - Ken Bracko Arena
END:VEVENT
BEGIN:VEVENT
UID:P73672@sportzsoft.com
DTSTART:20190517T020000Z
DTEND:20190517T040000Z
SUMMARY:Practice #PJA-018 (JrA Raiders )
LOCATION:Max Bell Centre - Ken Bracko Arena
END:VEVENT
BEGIN:VEVENT
UID:P73673@sportzsoft.com
DTSTART:20190522T020000Z
DTEND:20190522T040000Z
SUMMARY:Practice #PJA-019 (JrA Raiders )
LOCATION:Max Bell Centre - Ken Bracko Arena
END:VEVENT
BEGIN:VEVENT
UID:P73674@sportzsoft.com
DTSTART:20190524T020000Z
DTEND:20190524T040000Z
SUMMARY:Practice #PJA-020 (JrA Raiders )
LOCATION:Max Bell Centre - Ken Bracko Arena
END:VEVENT
BEGIN:VEVENT
UID:G101907@sportzsoft.com
DTSTART:20190526T010000Z
DTEND:20190526T030000Z
SUMMARY:Game #JA-004 vs Jr Miners
LOCATION:Max Bell Centre - Ken Bracko Arena
END:VEVENT
BEGIN:VEVENT
UID:G101909@sportzsoft.com
DTSTART:20190526T200000Z
DTEND:20190526T220000Z
SUMMARY:Game #JA-005 vs Jr A SWAT
LOCATION:Max Bell Centre - Ken Bracko Arena
END:VEVENT
BEGIN:VEVENT
UID:P73675@sportzsoft.com
DTSTART:20190529T020000Z
DTEND:20190529T040000Z
SUMMARY:Practice #PJA-021 (JrA Raiders )
LOCATION:Max Bell Centre - Ken Bracko Arena
END:VEVENT
BEGIN:VEVENT
UID:P73676@sportzsoft.com
DTSTART:20190531T020000Z
DTEND:20190531T040000Z
SUMMARY:Practice #PJA-022 (JrA Raiders )
LOCATION:Max Bell Centre - Ken Bracko Arena
END:VEVENT
BEGIN:VEVENT
UID:E43736@sportzsoft.com
DTSTART:20190602T000000Z
DTEND:20190602T040000Z
SUMMARY:Event #43736 Silent Auction at the Pub Night
LOCATION:The Hose and Hound Neighbourhood Pub 1030 9 Ave SE
END:VEVENT
BEGIN:VEVENT
UID:P73677@sportzsoft.com
DTSTART:20190605T020000Z
DTEND:20190605T040000Z
SUMMARY:Practice #PJA-023 (JrA Raiders )
LOCATION:Max Bell Centre - Ken Bracko Arena
END:VEVENT
BEGIN:VEVENT
UID:G101905@sportzsoft.com
DTSTART:20190606T010000Z
DTEND:20190606T030000Z
SUMMARY:Game #JA-010 vs JrA Mounties
LOCATION:Stu Peppard
END:VEVENT
BEGIN:VEVENT
UID:P73678@sportzsoft.com
DTSTART:20190607T020000Z
DTEND:20190607T040000Z
SUMMARY:Practice #PJA-024 (JrA Raiders )
LOCATION:Max Bell Centre - Ken Bracko Arena
END:VEVENT
BEGIN:VEVENT
UID:G101910@sportzsoft.com
DTSTART:20190609T010000Z
DTEND:20190609T030000Z
SUMMARY:Game #JA-012 vs Jr A SWAT
LOCATION:Max Bell Centre - Ken Bracko Arena
END:VEVENT
BEGIN:VEVENT
UID:G101908@sportzsoft.com
DTSTART:20190609T200000Z
DTEND:20190609T220000Z
SUMMARY:Game #JA-014 vs Jr Miners
LOCATION:Max Bell Centre - Ken Bracko Arena
END:VEVENT
BEGIN:VEVENT
UID:P73679@sportzsoft.com
DTSTART:20190612T020000Z
DTEND:20190612T040000Z
SUMMARY:Practice #PJA-025 (JrA Raiders )
LOCATION:Max Bell Centre - Ken Bracko Arena
END:VEVENT
BEGIN:VEVENT
UID:G101912@sportzsoft.com
DTSTART:20190613T010000Z
DTEND:20190613T030000Z
SUMMARY:Game #JA-015 vs JrA Mounties
LOCATION:Max Bell Centre - Ken Bracko Arena
END:VEVENT
BEGIN:VEVENT
UID:P73680@sportzsoft.com
DTSTART:20190614T020000Z
DTEND:20190614T040000Z
SUMMARY:Practice #PJA-026 (JrA Raiders )
LOCATION:Max Bell Centre - Ken Bracko Arena
END:VEVENT
BEGIN:VEVENT
UID:G101919@sportzsoft.com
DTSTART:20190616T020000Z
DTEND:20190616T040000Z
SUMMARY:Game #JA-017 vs Jr Miners
LOCATION:Go Auto Arena (formerly Northstar Hyundai Arena)
END:VEVENT
BEGIN:VEVENT
UID:G101918@sportzsoft.com
DTSTART:20190616T200000Z
DTEND:20190616T220000Z
SUMMARY:Game #JA-019 vs Jr Miners
LOCATION:Go Auto Arena (formerly Northstar Hyundai Arena)
END:VEVENT
BEGIN:VEVENT
UID:P73681@sportzsoft.com
DTSTART:20190619T020000Z
DTEND:20190619T040000Z
SUMMARY:Practice #PJA-027 (JrA Raiders )
LOCATION:Max Bell Centre - Ken Bracko Arena
END:VEVENT
BEGIN:VEVENT
UID:P73682@sportzsoft.com
DTSTART:20190621T020000Z
DTEND:20190621T040000Z
SUMMARY:Practice #PJA-028 (JrA Raiders )
LOCATION:Max Bell Centre - Ken Bracko Arena
END:VEVENT
BEGIN:VEVENT
UID:G101906@sportzsoft.com
DTSTART:20190622T013000Z
DTEND:20190622T033000Z
SUMMARY:Game #JA-020 vs JrA Mounties
LOCATION:Stu Peppard
END:VEVENT
BEGIN:VEVENT
UID:G101913@sportzsoft.com
DTSTART:20190623T200000Z
DTEND:20190623T220000Z
SUMMARY:Game #JA-021 vs JrA Mounties
LOCATION:Max Bell Centre - Ken Bracko Arena
END:VEVENT
BEGIN:VEVENT
UID:P73683@sportzsoft.com
DTSTART:20190626T020000Z
DTEND:20190626T040000Z
SUMMARY:Practice #PJA-029 (JrA Raiders )
LOCATION:Max Bell Centre - Ken Bracko Arena
END:VEVENT
BEGIN:VEVENT
UID:P73684@sportzsoft.com
DTSTART:20190628T020000Z
DTEND:20190628T040000Z
SUMMARY:Practice #PJA-030 (JrA Raiders )
LOCATION:Max Bell Centre - Ken Bracko Arena
END:VEVENT
BEGIN:VEVENT
UID:G101917@sportzsoft.com
DTSTART:20190629T020000Z
DTEND:20190629T040000Z
SUMMARY:Game #JA-023 vs Jr Miners
LOCATION:Jarome Iginla Arena
END:VEVENT
BEGIN:VEVENT
UID:G101911@sportzsoft.com
DTSTART:20190630T010000Z
DTEND:20190630T030000Z
SUMMARY:Game #JA-025 vs Jr A SWAT
LOCATION:Max Bell Centre - Ken Bracko Arena
END:VEVENT
BEGIN:VEVENT
UID:P74673@sportzsoft.com
DTSTART:20190703T010000Z
DTEND:20190703T023000Z
SUMMARY:Practice #PJA-040 (JrA Raiders )
LOCATION:Max Bell Centre - Ken Bracko Arena
END:VEVENT
BEGIN:VEVENT
UID:G101914@sportzsoft.com
DTSTART:20190704T010000Z
DTEND:20190704T030000Z
SUMMARY:Game #JA-026 vs JrA Mounties
LOCATION:Max Bell Centre - Ken Bracko Arena
END:VEVENT
BEGIN:VEVENT
UID:P74677@sportzsoft.com
DTSTART:20190705T010000Z
DTEND:20190705T023000Z
SUMMARY:Practice #PJA-041 (JrA Raiders )
LOCATION:Max Bell Centre - Ken Bracko Arena
END:VEVENT
BEGIN:VEVENT
UID:G101927@sportzsoft.com
DTSTART:20190707T000000Z
DTEND:20190707T020000Z
SUMMARY:Game #JA-028 vs Jr A SWAT
LOCATION:Kinsmen Arena SK
END:VEVENT
BEGIN:VEVENT
UID:G101928@sportzsoft.com
DTSTART:20190707T190000Z
DTEND:20190707T210000Z
SUMMARY:Game #JA-029 vs Jr A SWAT
LOCATION:Kinsmen Arena SK
END:VEVENT
BEGIN:VEVENT
UID:P74674@sportzsoft.com
DTSTART:20190710T010000Z
DTEND:20190710T023000Z
SUMMARY:Practice #PJA-040 (JrA Raiders )
LOCATION:Max Bell Centre - Ken Bracko Arena
END:VEVENT
BEGIN:VEVENT
UID:P74678@sportzsoft.com
DTSTART:20190712T010000Z
DTEND:20190712T023000Z
SUMMARY:Practice #PJA-041 (JrA Raiders )
LOCATION:Max Bell Centre - Ken Bracko Arena
END:VEVENT
BEGIN:VEVENT
UID:G104451@sportzsoft.com
DTSTART:20190714T010000Z
DTEND:20190714T030000Z
SUMMARY:Game #JAPL-01 vs Jr A SWAT
LOCATION:Max Bell Centre - Ken Bracko Arena
END:VEVENT
BEGIN:VEVENT
UID:G104452@sportzsoft.com
DTSTART:20190714T200000Z
DTEND:20190714T220000Z
SUMMARY:Game #JAPL-02 vs Jr A SWAT
LOCATION:Max Bell Centre - Ken Bracko Arena
END:VEVENT
BEGIN:VEVENT
UID:P74675@sportzsoft.com
DTSTART:20190717T010000Z
DTEND:20190717T023000Z
SUMMARY:Practice #PJA-040 (JrA Raiders )
LOCATION:Max Bell Centre - Ken Bracko Arena
END:VEVENT
BEGIN:VEVENT
UID:P74681@sportzsoft.com
DTSTART:20190718T010000Z
DTEND:20190718T023000Z
SUMMARY:Practice #PJA-042 (JrA Raiders )
LOCATION:Max Bell Centre - Ken Bracko Arena
END:VEVENT
BEGIN:VEVENT
UID:P74679@sportzsoft.com
DTSTART:20190719T010000Z
DTEND:20190719T023000Z
SUMMARY:Practice #PJA-041 (JrA Raiders )
LOCATION:Max Bell Centre - Ken Bracko Arena
END:VEVENT
BEGIN:VEVENT
UID:G104453@sportzsoft.com
DTSTART:20190720T000000Z
DTEND:20190720T020000Z
SUMMARY:Game #JAPL-03 vs Jr A SWAT
LOCATION:Kinsmen Arena SK
END:VEVENT
BEGIN:VEVENT
UID:G104454@sportzsoft.com
DTSTART:20190721T000000Z
DTEND:20190721T020000Z
SUMMARY:Game #JAPL-04 vs Jr A SWAT (cancelled)
LOCATION:Kinsmen Arena SK
END:VEVENT
BEGIN:VEVENT
UID:G104455@sportzsoft.com
DTSTART:20190722T000000Z
DTEND:20190722T020000Z
SUMMARY:Game #JAPL-05 vs Jr A SWAT (cancelled)
LOCATION:Max Bell Centre - Ken Bracko Arena
END:VEVENT
BEGIN:VEVENT
UID:P74676@sportzsoft.com
DTSTART:20190724T010000Z
DTEND:20190724T023000Z
SUMMARY:Practice #PJA-040 (JrA Raiders )
LOCATION:Max Bell Centre - Ken Bracko Arena
END:VEVENT
BEGIN:VEVENT
UID:P74682@sportzsoft.com
DTSTART:20190725T010000Z
DTEND:20190725T023000Z
SUMMARY:Practice #PJA-042 (JrA Raiders )
LOCATION:Max Bell Centre - Ken Bracko Arena
END:VEVENT
BEGIN:VEVENT
UID:P74680@sportzsoft.com
DTSTART:20190726T010000Z
DTEND:20190726T023000Z
SUMMARY:Practice #PJA-041 (JrA Raiders )
LOCATION:Max Bell Centre - Ken Bracko Arena
END:VEVENT
BEGIN:VEVENT
UID:G104520@sportzsoft.com
DTSTART:20190727T013000Z
DTEND:20190727T033000Z
SUMMARY:Game #JAPr-01 vs JrA Mounties
LOCATION:Stu Peppard
END:VEVENT
BEGIN:VEVENT
UID:G104521@sportzsoft.com
DTSTART:20190728T210000Z
DTEND:20190728T230000Z
SUMMARY:Game #JAPr-02 vs JrA Mounties
LOCATION:Stu Peppard
END:VEVENT
BEGIN:VEVENT
UID:P79302@sportzsoft.com
DTSTART:20190731T010000Z
DTEND:20190731T023000Z
SUMMARY:Practice #PJA-075 (JrA Raiders )
LOCATION:Brentwood Sportsplex
END:VEVENT
BEGIN:VEVENT
UID:G104522@sportzsoft.com
DTSTART:20190801T020000Z
DTEND:20190801T040000Z
SUMMARY:Game #JAPr-03 vs JrA Mounties
LOCATION:Brentwood Sportsplex
END:VEVENT
BEGIN:VEVENT
UID:P79303@sportzsoft.com
DTSTART:20190802T010000Z
DTEND:20190802T020000Z
SUMMARY:Practice #PJA-076 (JrA Raiders )
LOCATION:Brentwood Sportsplex
END:VEVENT
BEGIN:VEVENT
UID:G104523@sportzsoft.com
DTSTART:20190803T020000Z
DTEND:20190803T040000Z
SUMMARY:Game #JAPr-04 vs JrA Mounties
LOCATION:Brentwood Sportsplex
END:VEVENT
BEGIN:VEVENT
UID:G104524@sportzsoft.com
DTSTART:20190804T220000Z
DTEND:20190805T000000Z
SUMMARY:Game #JAPr-05 vs JrA Mounties
LOCATION:Stu Peppard
END:VEVENT
BEGIN:VEVENT
UID:G104525@sportzsoft.com
DTSTART:20190807T020000Z
DTEND:20190807T040000Z
SUMMARY:Game #JAPr-06 vs JrA Mounties
LOCATION:Max Bell Centre - Ken Bracko Arena
END:VEVENT
BEGIN:VEVENT
UID:G104526@sportzsoft.com
DTSTART:20190809T013000Z
DTEND:20190809T033000Z
SUMMARY:Game #JAPr-07 vs JrA Mounties
LOCATION:Brentwood Sportsplex
END:VEVENT
BEGIN:VEVENT
UID:E44199@sportzsoft.com
DTSTART:20190811T220000Z
DTEND:20190812T013000Z
SUMMARY:Event #44199 Team BBQ
LOCATION:Arbour Lake Community Centre
END:VEVENT
BEGIN:VEVENT
UID:P79307@sportzsoft.com
DTSTART:20190813T020000Z
DTEND:20190813T033000Z
SUMMARY:Practice #PJA-077 (JrA Raiders )
LOCATION:South Calgary Subway Soccer Center
END:VEVENT
BEGIN:VEVENT
UID:P79308@sportzsoft.com
DTSTART:20190814T020000Z
DTEND:20190814T033000Z
SUMMARY:Practice #PJA-078 (JrA Raiders )
LOCATION:South Calgary Subway Soccer Center
END:VEVENT
BEGIN:VEVENT
UID:P79309@sportzsoft.com
DTSTART:20190815T020000Z
DTEND:20190815T033000Z
SUMMARY:Practice #PJA-079 (JrA Raiders )
LOCATION:South Calgary Subway Soccer Center
END:VEVENT
BEGIN:VEVENT
UID:P84079@sportzsoft.com
DTSTART:20191231T010000Z
DTEND:20191231T023000Z
SUMMARY:Practice #PJA-084 (JrA Raiders )
LOCATION:Calgary Soccer Centre
END:VEVENT
BEGIN:VEVENT
UID:P84075@sportzsoft.com
DTSTART:20200116T033000Z
DTEND:20200116T050000Z
SUMMARY:Practice #PJA-080 (JrA Raiders )
LOCATION:Calgary Soccer Centre
END:VEVENT
BEGIN:VEVENT
UID:P84076@sportzsoft.com
DTSTART:20200130T033000Z
DTEND:20200130T050000Z
SUMMARY:Practice #PJA-081 (JrA Raiders )
LOCATION:Calgary Soccer Centre
END:VEVENT
BEGIN:VEVENT
UID:P84077@sportzsoft.com
DTSTART:20200204T041500Z
DTEND:20200204T054500Z
SUMMARY:Practice #PJA-082 (JrA Raiders )
LOCATION:Calgary Soccer Centre
END:VEVENT
BEGIN:VEVENT
UID:P84078@sportzsoft.com
DTSTART:20200206T041500Z
DTEND:20200206T054500Z
SUMMARY:Practice #PJA-083 (JrA Raiders )
LOCATION:Calgary Soccer Centre
END:VEVENT
END:VCALENDAR
