BEGIN:VCALENDAR
VERSION:2.0
PRODID:SportzSoftTeamWeb
TZ:+00
BEGIN:VEVENT
UID:E43220@sportzsoft.com
DTSTART:20190409T013000Z
DTEND:20190409T040000Z
SUMMARY:Event #43220 NEW Team Event
LOCATION:Stu Peppard Arena Calgary
END:VEVENT
BEGIN:VEVENT
UID:G103781@sportzsoft.com
DTSTART:20190409T020000Z
DTEND:20190409T040000Z
SUMMARY:Game #EX-15 vs Rampage
LOCATION:Stu Peppard
END:VEVENT
BEGIN:VEVENT
UID:P72733@sportzsoft.com
DTSTART:20190411T000000Z
DTEND:20190411T020000Z
SUMMARY:Practice #PJA-010 (JrA Mounties )
LOCATION:Stu Peppard
END:VEVENT
BEGIN:VEVENT
UID:G103782@sportzsoft.com
DTSTART:20190413T203000Z
DTEND:20190413T220000Z
SUMMARY:Game #EX-16 vs Jr Miners
LOCATION:Kinsmen Community Arenas A
END:VEVENT
BEGIN:VEVENT
UID:G103783@sportzsoft.com
DTSTART:20190413T223000Z
DTEND:20190414T000000Z
SUMMARY:Game #EX-17 vs Jr Miners (cancelled)
LOCATION:Kinsmen Community Arenas A
END:VEVENT
BEGIN:VEVENT
UID:E43221@sportzsoft.com
DTSTART:20190416T013000Z
DTEND:20190416T040000Z
SUMMARY:Event #43221 NEW Team Event
LOCATION:
END:VEVENT
BEGIN:VEVENT
UID:G103780@sportzsoft.com
DTSTART:20190416T020000Z
DTEND:20190416T040000Z
SUMMARY:Game #EX-14 vs JrA Raiders
LOCATION:Stu Peppard
END:VEVENT
BEGIN:VEVENT
UID:P72747@sportzsoft.com
DTSTART:20190418T000000Z
DTEND:20190418T020000Z
SUMMARY:Practice #PJA-010 (JrA Mounties )
LOCATION:Stu Peppard
END:VEVENT
BEGIN:VEVENT
UID:P72731@sportzsoft.com
DTSTART:20190423T013000Z
DTEND:20190423T040000Z
SUMMARY:Practice #PJA-009 (JrA Mounties )
LOCATION:Stu Peppard
END:VEVENT
BEGIN:VEVENT
UID:P72748@sportzsoft.com
DTSTART:20190425T000000Z
DTEND:20190425T020000Z
SUMMARY:Practice #PJA-010 (JrA Mounties )
LOCATION:Stu Peppard
END:VEVENT
BEGIN:VEVENT
UID:P72732@sportzsoft.com
DTSTART:20190430T013000Z
DTEND:20190430T040000Z
SUMMARY:Practice #PJA-009 (JrA Mounties )
LOCATION:Stu Peppard
END:VEVENT
BEGIN:VEVENT
UID:P72749@sportzsoft.com
DTSTART:20190503T000000Z
DTEND:20190503T020000Z
SUMMARY:Practice #PJA-011 (JrA Mounties )
LOCATION:Stu Peppard
END:VEVENT
BEGIN:VEVENT
UID:P72764@sportzsoft.com
DTSTART:20190508T000000Z
DTEND:20190508T020000Z
SUMMARY:Practice #PJA-012 (JrA Mounties )
LOCATION:Stu Peppard
END:VEVENT
BEGIN:VEVENT
UID:P72751@sportzsoft.com
DTSTART:20190510T000000Z
DTEND:20190510T020000Z
SUMMARY:Practice #PJA-011 (JrA Mounties )
LOCATION:Stu Peppard
END:VEVENT
BEGIN:VEVENT
UID:P72767@sportzsoft.com
DTSTART:20190515T000000Z
DTEND:20190515T020000Z
SUMMARY:Practice #PJA-012 (JrA Mounties )
LOCATION:Stu Peppard
END:VEVENT
BEGIN:VEVENT
UID:P72752@sportzsoft.com
DTSTART:20190517T000000Z
DTEND:20190517T020000Z
SUMMARY:Practice #PJA-011 (JrA Mounties )
LOCATION:Stu Peppard
END:VEVENT
BEGIN:VEVENT
UID:P72768@sportzsoft.com
DTSTART:20190522T000000Z
DTEND:20190522T020000Z
SUMMARY:Practice #PJA-012 (JrA Mounties )
LOCATION:Stu Peppard
END:VEVENT
BEGIN:VEVENT
UID:P72753@sportzsoft.com
DTSTART:20190524T000000Z
DTEND:20190524T020000Z
SUMMARY:Practice #PJA-011 (JrA Mounties )
LOCATION:Stu Peppard
END:VEVENT
BEGIN:VEVENT
UID:G101899@sportzsoft.com
DTSTART:20190526T000000Z
DTEND:20190526T020000Z
SUMMARY:Game #JA-003 vs Jr A SWAT
LOCATION:Stu Peppard
END:VEVENT
BEGIN:VEVENT
UID:G101902@sportzsoft.com
DTSTART:20190526T213000Z
DTEND:20190526T233000Z
SUMMARY:Game #JA-006 vs Jr Miners
LOCATION:Stu Peppard
END:VEVENT
BEGIN:VEVENT
UID:P72769@sportzsoft.com
DTSTART:20190529T000000Z
DTEND:20190529T020000Z
SUMMARY:Practice #PJA-012 (JrA Mounties )
LOCATION:Stu Peppard
END:VEVENT
BEGIN:VEVENT
UID:P72754@sportzsoft.com
DTSTART:20190531T000000Z
DTEND:20190531T020000Z
SUMMARY:Practice #PJA-011 (JrA Mounties )
LOCATION:Stu Peppard
END:VEVENT
BEGIN:VEVENT
UID:P72770@sportzsoft.com
DTSTART:20190605T000000Z
DTEND:20190605T020000Z
SUMMARY:Practice #PJA-012 (JrA Mounties )
LOCATION:Stu Peppard
END:VEVENT
BEGIN:VEVENT
UID:G101905@sportzsoft.com
DTSTART:20190606T010000Z
DTEND:20190606T030000Z
SUMMARY:Game #JA-010 vs JrA Raiders
LOCATION:Stu Peppard
END:VEVENT
BEGIN:VEVENT
UID:P72755@sportzsoft.com
DTSTART:20190607T000000Z
DTEND:20190607T020000Z
SUMMARY:Practice #PJA-011 (JrA Mounties )
LOCATION:Stu Peppard
END:VEVENT
BEGIN:VEVENT
UID:G101903@sportzsoft.com
DTSTART:20190608T213000Z
DTEND:20190608T233000Z
SUMMARY:Game #JA-011 vs Jr Miners
LOCATION:Stu Peppard
END:VEVENT
BEGIN:VEVENT
UID:G101900@sportzsoft.com
DTSTART:20190609T190000Z
DTEND:20190609T210000Z
SUMMARY:Game #JA-013 vs Jr A SWAT
LOCATION:Stu Peppard
END:VEVENT
BEGIN:VEVENT
UID:P72771@sportzsoft.com
DTSTART:20190612T000000Z
DTEND:20190612T020000Z
SUMMARY:Practice #PJA-012 (JrA Mounties )
LOCATION:Stu Peppard
END:VEVENT
BEGIN:VEVENT
UID:G101912@sportzsoft.com
DTSTART:20190613T010000Z
DTEND:20190613T030000Z
SUMMARY:Game #JA-015 vs JrA Raiders
LOCATION:Max Bell Centre - Ken Bracko Arena
END:VEVENT
BEGIN:VEVENT
UID:P72756@sportzsoft.com
DTSTART:20190614T000000Z
DTEND:20190614T020000Z
SUMMARY:Practice #PJA-011 (JrA Mounties )
LOCATION:Stu Peppard
END:VEVENT
BEGIN:VEVENT
UID:G101925@sportzsoft.com
DTSTART:20190616T000000Z
DTEND:20190616T020000Z
SUMMARY:Game #JA-016 vs Jr A SWAT
LOCATION:Kinsmen Arena SK
END:VEVENT
BEGIN:VEVENT
UID:G101926@sportzsoft.com
DTSTART:20190616T180000Z
DTEND:20190616T200000Z
SUMMARY:Game #JA-018 vs Jr A SWAT
LOCATION:Kinsmen Arena SK
END:VEVENT
BEGIN:VEVENT
UID:P72772@sportzsoft.com
DTSTART:20190619T000000Z
DTEND:20190619T020000Z
SUMMARY:Practice #PJA-012 (JrA Mounties )
LOCATION:Stu Peppard
END:VEVENT
BEGIN:VEVENT
UID:P72757@sportzsoft.com
DTSTART:20190621T000000Z
DTEND:20190621T020000Z
SUMMARY:Practice #PJA-011 (JrA Mounties )
LOCATION:Stu Peppard
END:VEVENT
BEGIN:VEVENT
UID:G101906@sportzsoft.com
DTSTART:20190622T013000Z
DTEND:20190622T033000Z
SUMMARY:Game #JA-020 vs JrA Raiders
LOCATION:Stu Peppard
END:VEVENT
BEGIN:VEVENT
UID:G101913@sportzsoft.com
DTSTART:20190623T200000Z
DTEND:20190623T220000Z
SUMMARY:Game #JA-021 vs JrA Raiders
LOCATION:Max Bell Centre - Ken Bracko Arena
END:VEVENT
BEGIN:VEVENT
UID:P72773@sportzsoft.com
DTSTART:20190626T000000Z
DTEND:20190626T020000Z
SUMMARY:Practice #PJA-012 (JrA Mounties )
LOCATION:Stu Peppard
END:VEVENT
BEGIN:VEVENT
UID:P72758@sportzsoft.com
DTSTART:20190628T000000Z
DTEND:20190628T020000Z
SUMMARY:Practice #PJA-011 (JrA Mounties )
LOCATION:Stu Peppard
END:VEVENT
BEGIN:VEVENT
UID:G101901@sportzsoft.com
DTSTART:20190629T003000Z
DTEND:20190629T023000Z
SUMMARY:Game #JA-022 vs Jr A SWAT
LOCATION:Stu Peppard
END:VEVENT
BEGIN:VEVENT
UID:G101904@sportzsoft.com
DTSTART:20190630T000000Z
DTEND:20190630T020000Z
SUMMARY:Game #JA-024 vs Jr Miners
LOCATION:Stu Peppard
END:VEVENT
BEGIN:VEVENT
UID:P72774@sportzsoft.com
DTSTART:20190703T000000Z
DTEND:20190703T020000Z
SUMMARY:Practice #PJA-012 (JrA Mounties )
LOCATION:Stu Peppard
END:VEVENT
BEGIN:VEVENT
UID:G101914@sportzsoft.com
DTSTART:20190704T010000Z
DTEND:20190704T030000Z
SUMMARY:Game #JA-026 vs JrA Raiders
LOCATION:Max Bell Centre - Ken Bracko Arena
END:VEVENT
BEGIN:VEVENT
UID:P72759@sportzsoft.com
DTSTART:20190705T000000Z
DTEND:20190705T020000Z
SUMMARY:Practice #PJA-011 (JrA Mounties )
LOCATION:Stu Peppard
END:VEVENT
BEGIN:VEVENT
UID:G101920@sportzsoft.com
DTSTART:20190707T000000Z
DTEND:20190707T020000Z
SUMMARY:Game #JA-027 vs Jr Miners
LOCATION:Go Auto Arena (formerly Northstar Hyundai Arena)
END:VEVENT
BEGIN:VEVENT
UID:G101921@sportzsoft.com
DTSTART:20190707T210000Z
DTEND:20190707T230000Z
SUMMARY:Game #JA-030 vs Jr Miners
LOCATION:Go Auto Arena (formerly Northstar Hyundai Arena)
END:VEVENT
BEGIN:VEVENT
UID:P72775@sportzsoft.com
DTSTART:20190710T000000Z
DTEND:20190710T020000Z
SUMMARY:Practice #PJA-012 (JrA Mounties )
LOCATION:Stu Peppard
END:VEVENT
BEGIN:VEVENT
UID:P72760@sportzsoft.com
DTSTART:20190712T000000Z
DTEND:20190712T020000Z
SUMMARY:Practice #PJA-011 (JrA Mounties )
LOCATION:Stu Peppard
END:VEVENT
BEGIN:VEVENT
UID:G104464@sportzsoft.com
DTSTART:20190714T000000Z
DTEND:20190714T020000Z
SUMMARY:Game #JAPL-06 vs Jr Miners
LOCATION:Stu Peppard
END:VEVENT
BEGIN:VEVENT
UID:G104465@sportzsoft.com
DTSTART:20190714T183000Z
DTEND:20190714T203000Z
SUMMARY:Game #JAPL-07 vs Jr Miners
LOCATION:Stu Peppard
END:VEVENT
BEGIN:VEVENT
UID:P72776@sportzsoft.com
DTSTART:20190717T000000Z
DTEND:20190717T020000Z
SUMMARY:Practice #PJA-012 (JrA Mounties )
LOCATION:Stu Peppard
END:VEVENT
BEGIN:VEVENT
UID:P72761@sportzsoft.com
DTSTART:20190719T000000Z
DTEND:20190719T020000Z
SUMMARY:Practice #PJA-011 (JrA Mounties )
LOCATION:Stu Peppard
END:VEVENT
BEGIN:VEVENT
UID:G104466@sportzsoft.com
DTSTART:20190720T010000Z
DTEND:20190720T030000Z
SUMMARY:Game #JAPL-08 vs Jr Miners
LOCATION:Go Auto Arena (formerly Northstar Hyundai Arena)
END:VEVENT
BEGIN:VEVENT
UID:G104467@sportzsoft.com
DTSTART:20190720T190000Z
DTEND:20190720T210000Z
SUMMARY:Game #JAPL-09 vs Jr Miners
LOCATION:Go Auto Arena (formerly Northstar Hyundai Arena)
END:VEVENT
BEGIN:VEVENT
UID:G104468@sportzsoft.com
DTSTART:20190721T190000Z
DTEND:20190721T210000Z
SUMMARY:Game #JAPL-10 vs Jr Miners (cancelled)
LOCATION:Stu Peppard
END:VEVENT
BEGIN:VEVENT
UID:P72777@sportzsoft.com
DTSTART:20190724T000000Z
DTEND:20190724T020000Z
SUMMARY:Practice #PJA-012 (JrA Mounties )
LOCATION:Stu Peppard
END:VEVENT
BEGIN:VEVENT
UID:P72762@sportzsoft.com
DTSTART:20190726T000000Z
DTEND:20190726T020000Z
SUMMARY:Practice #PJA-011 (JrA Mounties )
LOCATION:Stu Peppard
END:VEVENT
BEGIN:VEVENT
UID:G104520@sportzsoft.com
DTSTART:20190727T013000Z
DTEND:20190727T033000Z
SUMMARY:Game #JAPr-01 vs JrA Raiders
LOCATION:Stu Peppard
END:VEVENT
BEGIN:VEVENT
UID:G104521@sportzsoft.com
DTSTART:20190728T210000Z
DTEND:20190728T230000Z
SUMMARY:Game #JAPr-02 vs JrA Raiders
LOCATION:Stu Peppard
END:VEVENT
BEGIN:VEVENT
UID:P72778@sportzsoft.com
DTSTART:20190731T000000Z
DTEND:20190731T020000Z
SUMMARY:Practice #PJA-012 (JrA Mounties )
LOCATION:Stu Peppard
END:VEVENT
BEGIN:VEVENT
UID:G104522@sportzsoft.com
DTSTART:20190801T020000Z
DTEND:20190801T040000Z
SUMMARY:Game #JAPr-03 vs JrA Raiders
LOCATION:Brentwood Sportsplex
END:VEVENT
BEGIN:VEVENT
UID:P72763@sportzsoft.com
DTSTART:20190802T000000Z
DTEND:20190802T020000Z
SUMMARY:Practice #PJA-011 (JrA Mounties )
LOCATION:Stu Peppard
END:VEVENT
BEGIN:VEVENT
UID:G104523@sportzsoft.com
DTSTART:20190803T020000Z
DTEND:20190803T040000Z
SUMMARY:Game #JAPr-04 vs JrA Raiders
LOCATION:Brentwood Sportsplex
END:VEVENT
BEGIN:VEVENT
UID:G104524@sportzsoft.com
DTSTART:20190804T220000Z
DTEND:20190805T000000Z
SUMMARY:Game #JAPr-05 vs JrA Raiders
LOCATION:Stu Peppard
END:VEVENT
BEGIN:VEVENT
UID:G104525@sportzsoft.com
DTSTART:20190807T020000Z
DTEND:20190807T040000Z
SUMMARY:Game #JAPr-06 vs JrA Raiders
LOCATION:Max Bell Centre - Ken Bracko Arena
END:VEVENT
BEGIN:VEVENT
UID:G104526@sportzsoft.com
DTSTART:20190809T013000Z
DTEND:20190809T033000Z
SUMMARY:Game #JAPr-07 vs JrA Raiders
LOCATION:Brentwood Sportsplex
END:VEVENT
END:VCALENDAR
