BEGIN:VCALENDAR
VERSION:2.0
PRODID:SportzSoftTeamWeb
TZ:+00
BEGIN:VEVENT
UID:E73867@sportzsoft.com
DTSTART:20260329T210000Z
DTEND:20260329T230000Z
SUMMARY:Event #73867 Marauders vs Chill
LOCATION:MaxWell Soccer Centre: Annex - Charlie Field
END:VEVENT
BEGIN:VEVENT
UID:G135295@sportzsoft.com
DTSTART:20260329T210000Z
DTEND:20260329T230000Z
SUMMARY:Game #EX-003 vs Chill
LOCATION:CSC Annex - Charlie
END:VEVENT
BEGIN:VEVENT
UID:P141519@sportzsoft.com
DTSTART:20260408T010000Z
DTEND:20260408T023000Z
SUMMARY:Practice #PJ1-023 (Marauders )
LOCATION:Okotoks Recreation Centre - Murray Arena
END:VEVENT
BEGIN:VEVENT
UID:P141536@sportzsoft.com
DTSTART:20260410T010000Z
DTEND:20260410T023000Z
SUMMARY:Practice #PJ1-024 (Marauders )
LOCATION:Okotoks Recreation Centre - Murray Arena
END:VEVENT
BEGIN:VEVENT
UID:E74143@sportzsoft.com
DTSTART:20260410T013000Z
DTEND:20260410T033000Z
SUMMARY:Event #74143 Marauders vs Silvertips
LOCATION:Okotoks Murray Arena
END:VEVENT
BEGIN:VEVENT
UID:G135696@sportzsoft.com
DTSTART:20260410T013000Z
DTEND:20260410T033000Z
SUMMARY:Game #EX-009 vs Silvertips
LOCATION:Okotoks Recreation Centre - Murray Arena
END:VEVENT
BEGIN:VEVENT
UID:E74864@sportzsoft.com
DTSTART:20260412T003000Z
DTEND:20260412T023000Z
SUMMARY:Event #74864 Marauders vs Shamrocks Ex Game for Super Clinic
LOCATION:Okotoks Recreation Centre - Murray Arena
END:VEVENT
BEGIN:VEVENT
UID:G137250@sportzsoft.com
DTSTART:20260412T003000Z
DTEND:20260412T023000Z
SUMMARY:Game #EX-010 vs Shamrocks
LOCATION:Okotoks Recreation Centre - Murray Arena
END:VEVENT
BEGIN:VEVENT
UID:P141520@sportzsoft.com
DTSTART:20260415T010000Z
DTEND:20260415T023000Z
SUMMARY:Practice #PJ1-023 (Marauders )
LOCATION:Okotoks Recreation Centre - Murray Arena
END:VEVENT
BEGIN:VEVENT
UID:G135412@sportzsoft.com
DTSTART:20260415T023000Z
DTEND:20260415T043000Z
SUMMARY:Game #EX-004 vs Mounties
LOCATION:Acadia Recreation Centre
END:VEVENT
BEGIN:VEVENT
UID:P141537@sportzsoft.com
DTSTART:20260417T010000Z
DTEND:20260417T023000Z
SUMMARY:Practice #PJ1-024 (Marauders )
LOCATION:Okotoks Recreation Centre - Murray Arena
END:VEVENT
BEGIN:VEVENT
UID:P141521@sportzsoft.com
DTSTART:20260422T010000Z
DTEND:20260422T023000Z
SUMMARY:Practice #PJ1-023 (Marauders )
LOCATION:Okotoks Recreation Centre - Murray Arena
END:VEVENT
BEGIN:VEVENT
UID:P141538@sportzsoft.com
DTSTART:20260424T010000Z
DTEND:20260424T023000Z
SUMMARY:Practice #PJ1-024 (Marauders )
LOCATION:Okotoks Recreation Centre - Murray Arena
END:VEVENT
BEGIN:VEVENT
UID:G135459@sportzsoft.com
DTSTART:20260426T020000Z
DTEND:20260426T040000Z
SUMMARY:Game #J1-005 vs Silvertips
LOCATION:Genesis Place - Shane Homes Arena
END:VEVENT
BEGIN:VEVENT
UID:P141522@sportzsoft.com
DTSTART:20260429T010000Z
DTEND:20260429T023000Z
SUMMARY:Practice #PJ1-023 (Marauders )
LOCATION:Okotoks Recreation Centre - Murray Arena
END:VEVENT
BEGIN:VEVENT
UID:G135422@sportzsoft.com
DTSTART:20260501T020000Z
DTEND:20260501T040000Z
SUMMARY:Game #J1-009 vs Mounties
LOCATION:Acadia Recreation Centre
END:VEVENT
BEGIN:VEVENT
UID:G135468@sportzsoft.com
DTSTART:20260503T203000Z
DTEND:20260503T223000Z
SUMMARY:Game #J1-014 vs Mavericks
LOCATION:Innisfail Arena - Blue Rink
END:VEVENT
BEGIN:VEVENT
UID:P141523@sportzsoft.com
DTSTART:20260506T010000Z
DTEND:20260506T023000Z
SUMMARY:Practice #PJ1-023 (Marauders )
LOCATION:Okotoks Recreation Centre - Murray Arena
END:VEVENT
BEGIN:VEVENT
UID:P141539@sportzsoft.com
DTSTART:20260508T010000Z
DTEND:20260508T023000Z
SUMMARY:Practice #PJ1-025 (Marauders )
LOCATION:Okotoks Recreation Centre - Murray Arena
END:VEVENT
BEGIN:VEVENT
UID:G135441@sportzsoft.com
DTSTART:20260509T020000Z
DTEND:20260509T040000Z
SUMMARY:Game #J1-019 vs Chill
LOCATION:Okotoks Recreation Centre - Murray Arena
END:VEVENT
BEGIN:VEVENT
UID:G135447@sportzsoft.com
DTSTART:20260510T010000Z
DTEND:20260510T030000Z
SUMMARY:Game #J1-021 vs Rebels
LOCATION:Okotoks Recreation Centre - Murray Arena
END:VEVENT
BEGIN:VEVENT
UID:P141524@sportzsoft.com
DTSTART:20260513T010000Z
DTEND:20260513T023000Z
SUMMARY:Practice #PJ1-023 (Marauders )
LOCATION:Okotoks Recreation Centre - Murray Arena
END:VEVENT
BEGIN:VEVENT
UID:P141540@sportzsoft.com
DTSTART:20260515T010000Z
DTEND:20260515T023000Z
SUMMARY:Practice #PJ1-025 (Marauders )
LOCATION:Okotoks Recreation Centre - Murray Arena
END:VEVENT
BEGIN:VEVENT
UID:P141525@sportzsoft.com
DTSTART:20260520T010000Z
DTEND:20260520T023000Z
SUMMARY:Practice #PJ1-023 (Marauders )
LOCATION:Okotoks Recreation Centre - Murray Arena
END:VEVENT
BEGIN:VEVENT
UID:P141541@sportzsoft.com
DTSTART:20260522T010000Z
DTEND:20260522T023000Z
SUMMARY:Practice #PJ1-025 (Marauders )
LOCATION:Okotoks Recreation Centre - Murray Arena
END:VEVENT
BEGIN:VEVENT
UID:G135476@sportzsoft.com
DTSTART:20260524T000000Z
DTEND:20260524T020000Z
SUMMARY:Game #J1-039 vs Kings
LOCATION:Al Ritchie Arena
END:VEVENT
BEGIN:VEVENT
UID:G135475@sportzsoft.com
DTSTART:20260524T170000Z
DTEND:20260524T190000Z
SUMMARY:Game #J1-044 vs Kings
LOCATION:Al Ritchie Arena
END:VEVENT
BEGIN:VEVENT
UID:P141526@sportzsoft.com
DTSTART:20260527T010000Z
DTEND:20260527T023000Z
SUMMARY:Practice #PJ1-023 (Marauders )
LOCATION:Okotoks Recreation Centre - Murray Arena
END:VEVENT
BEGIN:VEVENT
UID:P141542@sportzsoft.com
DTSTART:20260529T010000Z
DTEND:20260529T023000Z
SUMMARY:Practice #PJ1-025 (Marauders )
LOCATION:Okotoks Recreation Centre - Murray Arena
END:VEVENT
BEGIN:VEVENT
UID:G135446@sportzsoft.com
DTSTART:20260531T010000Z
DTEND:20260531T030000Z
SUMMARY:Game #J1-050 vs Warriors
LOCATION:Okotoks Recreation Centre - Murray Arena
END:VEVENT
BEGIN:VEVENT
UID:G135431@sportzsoft.com
DTSTART:20260531T210000Z
DTEND:20260531T230000Z
SUMMARY:Game #J1-051 vs Shamrocks
LOCATION:Stu Peppard Arena
END:VEVENT
BEGIN:VEVENT
UID:P141527@sportzsoft.com
DTSTART:20260603T010000Z
DTEND:20260603T023000Z
SUMMARY:Practice #PJ1-023 (Marauders )
LOCATION:Okotoks Recreation Centre - Murray Arena
END:VEVENT
BEGIN:VEVENT
UID:P141543@sportzsoft.com
DTSTART:20260605T010000Z
DTEND:20260605T023000Z
SUMMARY:Practice #PJ1-025 (Marauders )
LOCATION:Okotoks Recreation Centre - Murray Arena
END:VEVENT
BEGIN:VEVENT
UID:G135442@sportzsoft.com
DTSTART:20260606T020000Z
DTEND:20260606T040000Z
SUMMARY:Game #J1-059 vs Silvertips
LOCATION:Okotoks Recreation Centre - Murray Arena
END:VEVENT
BEGIN:VEVENT
UID:G135530@sportzsoft.com
DTSTART:20260607T190000Z
DTEND:20260607T210000Z
SUMMARY:Game #J1-065 vs Outlaws
LOCATION:Ken Nichol Regional Recreation Centre Arena 1
END:VEVENT
BEGIN:VEVENT
UID:P141528@sportzsoft.com
DTSTART:20260610T010000Z
DTEND:20260610T023000Z
SUMMARY:Practice #PJ1-023 (Marauders )
LOCATION:Okotoks Recreation Centre - Murray Arena
END:VEVENT
BEGIN:VEVENT
UID:P141544@sportzsoft.com
DTSTART:20260612T010000Z
DTEND:20260612T023000Z
SUMMARY:Practice #PJ1-025 (Marauders )
LOCATION:Okotoks Recreation Centre - Murray Arena
END:VEVENT
BEGIN:VEVENT
UID:G135444@sportzsoft.com
DTSTART:20260613T020000Z
DTEND:20260613T040000Z
SUMMARY:Game #J1-069 vs Swat
LOCATION:Okotoks Recreation Centre - Murray Arena
END:VEVENT
BEGIN:VEVENT
UID:G135443@sportzsoft.com
DTSTART:20260614T233000Z
DTEND:20260615T013000Z
SUMMARY:Game #J1-077 vs Mavericks
LOCATION:Okotoks Recreation Centre - Murray Arena
END:VEVENT
BEGIN:VEVENT
UID:P141529@sportzsoft.com
DTSTART:20260617T010000Z
DTEND:20260617T023000Z
SUMMARY:Practice #PJ1-023 (Marauders )
LOCATION:Okotoks Recreation Centre - Murray Arena
END:VEVENT
BEGIN:VEVENT
UID:G135503@sportzsoft.com
DTSTART:20260620T210000Z
DTEND:20260620T230000Z
SUMMARY:Game #J1-090 vs Crude
LOCATION:Jarome Iginla/Kinex - Jarome Iginla Arena
END:VEVENT
BEGIN:VEVENT
UID:P141530@sportzsoft.com
DTSTART:20260624T010000Z
DTEND:20260624T023000Z
SUMMARY:Practice #PJ1-023 (Marauders )
LOCATION:Okotoks Recreation Centre - Murray Arena
END:VEVENT
BEGIN:VEVENT
UID:P141545@sportzsoft.com
DTSTART:20260626T010000Z
DTEND:20260626T023000Z
SUMMARY:Practice #PJ1-026 (Marauders )
LOCATION:Okotoks Recreation Centre - Murray Arena
END:VEVENT
BEGIN:VEVENT
UID:G135445@sportzsoft.com
DTSTART:20260627T020000Z
DTEND:20260627T040000Z
SUMMARY:Game #J1-096 vs Rampage
LOCATION:Okotoks Recreation Centre - Murray Arena
END:VEVENT
BEGIN:VEVENT
UID:G135450@sportzsoft.com
DTSTART:20260628T230000Z
DTEND:20260629T010000Z
SUMMARY:Game #J1-102 vs Chill
LOCATION:Brentwood Sportsplex
END:VEVENT
BEGIN:VEVENT
UID:P141531@sportzsoft.com
DTSTART:20260701T010000Z
DTEND:20260701T023000Z
SUMMARY:Practice #PJ1-023 (Marauders )
LOCATION:Okotoks Recreation Centre - Murray Arena
END:VEVENT
BEGIN:VEVENT
UID:P141546@sportzsoft.com
DTSTART:20260703T010000Z
DTEND:20260703T023000Z
SUMMARY:Practice #PJ1-026 (Marauders )
LOCATION:Okotoks Recreation Centre - Murray Arena
END:VEVENT
BEGIN:VEVENT
UID:G135440@sportzsoft.com
DTSTART:20260704T020000Z
DTEND:20260704T040000Z
SUMMARY:Game #J1-108 vs Shamrocks
LOCATION:Okotoks Recreation Centre - Murray Arena
END:VEVENT
BEGIN:VEVENT
UID:G135439@sportzsoft.com
DTSTART:20260706T000000Z
DTEND:20260706T020000Z
SUMMARY:Game #J1-116 vs Mounties
LOCATION:Okotoks Recreation Centre - Murray Arena
END:VEVENT
BEGIN:VEVENT
UID:P141532@sportzsoft.com
DTSTART:20260708T010000Z
DTEND:20260708T023000Z
SUMMARY:Practice #PJ1-023 (Marauders )
LOCATION:Okotoks Recreation Centre - Murray Arena
END:VEVENT
BEGIN:VEVENT
UID:P141547@sportzsoft.com
DTSTART:20260710T010000Z
DTEND:20260710T023000Z
SUMMARY:Practice #PJ1-026 (Marauders )
LOCATION:Okotoks Recreation Centre - Murray Arena
END:VEVENT
BEGIN:VEVENT
UID:P141533@sportzsoft.com
DTSTART:20260715T010000Z
DTEND:20260715T023000Z
SUMMARY:Practice #PJ1-023 (Marauders )
LOCATION:Okotoks Recreation Centre - Murray Arena
END:VEVENT
BEGIN:VEVENT
UID:P141548@sportzsoft.com
DTSTART:20260717T010000Z
DTEND:20260717T023000Z
SUMMARY:Practice #PJ1-026 (Marauders )
LOCATION:Okotoks Recreation Centre - Murray Arena
END:VEVENT
BEGIN:VEVENT
UID:P141534@sportzsoft.com
DTSTART:20260722T010000Z
DTEND:20260722T023000Z
SUMMARY:Practice #PJ1-023 (Marauders )
LOCATION:Okotoks Recreation Centre - Murray Arena
END:VEVENT
BEGIN:VEVENT
UID:P141549@sportzsoft.com
DTSTART:20260724T010000Z
DTEND:20260724T023000Z
SUMMARY:Practice #PJ1-026 (Marauders )
LOCATION:Okotoks Recreation Centre - Murray Arena
END:VEVENT
BEGIN:VEVENT
UID:P141535@sportzsoft.com
DTSTART:20260729T010000Z
DTEND:20260729T023000Z
SUMMARY:Practice #PJ1-023 (Marauders )
LOCATION:Okotoks Recreation Centre - Murray Arena
END:VEVENT
END:VCALENDAR
