BEGIN:VCALENDAR
VERSION:2.0
PRODID:SportzSoftTeamWeb
TZ:+00
BEGIN:VEVENT
UID:G131334@sportzsoft.com
DTSTART:20250524T210000Z
DTEND:20250524T230000Z
SUMMARY:Game #SB-004 vs Mounties
LOCATION:Dow Centennial Centre
END:VEVENT
BEGIN:VEVENT
UID:G131343@sportzsoft.com
DTSTART:20250525T213000Z
DTEND:20250525T233000Z
SUMMARY:Game #SB-006 vs Knights
LOCATION:Dow Centennial Centre
END:VEVENT
BEGIN:VEVENT
UID:G131355@sportzsoft.com
DTSTART:20250601T023000Z
DTEND:20250601T043000Z
SUMMARY:Game #SB-009 vs Outlaws
LOCATION:Ken Nichol Regional Recreation Centre Arena 1
END:VEVENT
BEGIN:VEVENT
UID:G131350@sportzsoft.com
DTSTART:20250601T230000Z
DTEND:20250602T010000Z
SUMMARY:Game #SB-011 vs Sr. Miners
LOCATION:Dow Centennial Centre
END:VEVENT
BEGIN:VEVENT
UID:G131342@sportzsoft.com
DTSTART:20250608T010000Z
DTEND:20250608T030000Z
SUMMARY:Game #SB-014 vs Knights
LOCATION:Dow Centennial Centre
END:VEVENT
BEGIN:VEVENT
UID:G131351@sportzsoft.com
DTSTART:20250608T230000Z
DTEND:20250609T010000Z
SUMMARY:Game #SB-016 vs Sr. Miners
LOCATION:Dow Centennial Centre
END:VEVENT
BEGIN:VEVENT
UID:G131349@sportzsoft.com
DTSTART:20250615T010000Z
DTEND:20250615T030000Z
SUMMARY:Game #SB-018 vs Sr. Miners
LOCATION:Bill Hunter Arena formerly Jasper Place
END:VEVENT
BEGIN:VEVENT
UID:G131332@sportzsoft.com
DTSTART:20250615T220000Z
DTEND:20250616T000000Z
SUMMARY:Game #SB-020 vs Mounties
LOCATION:Stu Peppard
END:VEVENT
BEGIN:VEVENT
UID:G131353@sportzsoft.com
DTSTART:20250622T010000Z
DTEND:20250622T030000Z
SUMMARY:Game #SB-023 vs Outlaws
LOCATION:Dow Centennial Centre
END:VEVENT
BEGIN:VEVENT
UID:G131352@sportzsoft.com
DTSTART:20250622T230000Z
DTEND:20250623T010000Z
SUMMARY:Game #SB-025 vs Outlaws
LOCATION:Dow Centennial Centre
END:VEVENT
BEGIN:VEVENT
UID:G131348@sportzsoft.com
DTSTART:20250703T023000Z
DTEND:20250703T043000Z
SUMMARY:Game #SB-026 vs Sr. Miners
LOCATION:Bill Hunter Arena formerly Jasper Place
END:VEVENT
BEGIN:VEVENT
UID:G131333@sportzsoft.com
DTSTART:20250705T213000Z
DTEND:20250705T233000Z
SUMMARY:Game #SB-027 vs Mounties
LOCATION:Stu Peppard
END:VEVENT
BEGIN:VEVENT
UID:G131341@sportzsoft.com
DTSTART:20250706T190000Z
DTEND:20250706T210000Z
SUMMARY:Game #SB-029 vs Knights
LOCATION:Pete Knight Memorial Arena
END:VEVENT
BEGIN:VEVENT
UID:G131354@sportzsoft.com
DTSTART:20250713T003000Z
DTEND:20250713T023000Z
SUMMARY:Game #SB-034 vs Outlaws
LOCATION:Ken Nichol Regional Recreation Centre Arena 1
END:VEVENT
END:VCALENDAR
