BEGIN:VCALENDAR
VERSION:2.0
PRODID:SportzSoftTeamWeb
TZ:+00
BEGIN:VEVENT
UID:P121321@sportzsoft.com
DTSTART:20240315T023000Z
DTEND:20240315T040000Z
SUMMARY:Practice #PJ2N-003 (Posse )
LOCATION:TransAlta Tri-Leisure Centre South
END:VEVENT
BEGIN:VEVENT
UID:P121323@sportzsoft.com
DTSTART:20240322T023000Z
DTEND:20240322T040000Z
SUMMARY:Practice #PJ2N-003 (Posse )
LOCATION:TransAlta Tri-Leisure Centre South
END:VEVENT
BEGIN:VEVENT
UID:P121324@sportzsoft.com
DTSTART:20240326T023000Z
DTEND:20240326T040000Z
SUMMARY:Practice #PJ2N-004 (Posse )
LOCATION:TransAlta Tri-Leisure Centre South
END:VEVENT
BEGIN:VEVENT
UID:P121327@sportzsoft.com
DTSTART:20240327T023000Z
DTEND:20240327T040000Z
SUMMARY:Practice #PJ2N-005 (Posse )
LOCATION:TransAlta Tri-Leisure Centre South
END:VEVENT
BEGIN:VEVENT
UID:P121328@sportzsoft.com
DTSTART:20240328T020000Z
DTEND:20240328T040000Z
SUMMARY:Practice #PJ2N-006 (Posse )
LOCATION:TransAlta Tri-Leisure Centre South
END:VEVENT
BEGIN:VEVENT
UID:P121344@sportzsoft.com
DTSTART:20240329T023000Z
DTEND:20240329T040000Z
SUMMARY:Practice #PJ2N-007 (Posse )
LOCATION:TransAlta Tri-Leisure Centre South
END:VEVENT
BEGIN:VEVENT
UID:G121489@sportzsoft.com
DTSTART:20240504T160000Z
DTEND:20240504T180000Z
SUMMARY:Game #J2-014 vs Stingers
LOCATION:Innisfail Arena Blue Rink
END:VEVENT
BEGIN:VEVENT
UID:G121501@sportzsoft.com
DTSTART:20240505T210000Z
DTEND:20240505T230000Z
SUMMARY:Game #J2-026 vs HR-Heat
LOCATION:Innisfail Arena Blue Rink
END:VEVENT
BEGIN:VEVENT
UID:G120794@sportzsoft.com
DTSTART:20240511T013000Z
DTEND:20240511T033000Z
SUMMARY:Game #J2-030 vs Warriors Tier 2
LOCATION:Bill Hunter Arena formerly Jasper Place
END:VEVENT
BEGIN:VEVENT
UID:G120827@sportzsoft.com
DTSTART:20240512T013000Z
DTEND:20240512T033000Z
SUMMARY:Game #J2-037 vs Titans Tier II
LOCATION:Ardrossan Recreation Complex East
END:VEVENT
BEGIN:VEVENT
UID:G120825@sportzsoft.com
DTSTART:20240525T210000Z
DTEND:20240525T230000Z
SUMMARY:Game #J2-046 vs Renegades
LOCATION:Dawe Community Centre - North Arena
END:VEVENT
BEGIN:VEVENT
UID:G120806@sportzsoft.com
DTSTART:20240602T013000Z
DTEND:20240602T033000Z
SUMMARY:Game #J2-059 vs L-Heat
LOCATION:Cold Lake Energy Center - Imperial Oil Place
END:VEVENT
BEGIN:VEVENT
UID:G120816@sportzsoft.com
DTSTART:20240602T190000Z
DTEND:20240602T210000Z
SUMMARY:Game #J2-061 vs Xtreme
LOCATION:Hillmond Redden Arena
END:VEVENT
BEGIN:VEVENT
UID:G120828@sportzsoft.com
DTSTART:20240608T013000Z
DTEND:20240608T033000Z
SUMMARY:Game #J2-067 vs Titans Tier II
LOCATION:Grant Fuhr West Arena
END:VEVENT
BEGIN:VEVENT
UID:G120793@sportzsoft.com
DTSTART:20240615T013000Z
DTEND:20240615T033000Z
SUMMARY:Game #J2-078 vs Warriors Tier 2
LOCATION:Grant Fuhr West Arena
END:VEVENT
BEGIN:VEVENT
UID:G120780@sportzsoft.com
DTSTART:20240616T223000Z
DTEND:20240617T003000Z
SUMMARY:Game #J2-088 vs Crude T2
LOCATION:Jarome Iginla Arena
END:VEVENT
BEGIN:VEVENT
UID:G120826@sportzsoft.com
DTSTART:20240622T013000Z
DTEND:20240622T033000Z
SUMMARY:Game #J2-092 vs Renegades
LOCATION:Grant Fuhr West Arena
END:VEVENT
BEGIN:VEVENT
UID:G120805@sportzsoft.com
DTSTART:20240623T013000Z
DTEND:20240623T033000Z
SUMMARY:Game #J2-099 vs L-Heat
LOCATION:Grant Fuhr West Arena
END:VEVENT
BEGIN:VEVENT
UID:G120815@sportzsoft.com
DTSTART:20240707T013000Z
DTEND:20240707T033000Z
SUMMARY:Game #J2-110 vs Xtreme
LOCATION:Grant Fuhr West Arena
END:VEVENT
BEGIN:VEVENT
UID:G120829@sportzsoft.com
DTSTART:20240707T200000Z
DTEND:20240707T220000Z
SUMMARY:Game #J2-115 vs Yetti
LOCATION:Nexsource Centre- Rink 2
END:VEVENT
BEGIN:VEVENT
UID:G120779@sportzsoft.com
DTSTART:20240713T013000Z
DTEND:20240713T033000Z
SUMMARY:Game #J2-117 vs Crude T2
LOCATION:Grant Fuhr West Arena
END:VEVENT
BEGIN:VEVENT
UID:G120830@sportzsoft.com
DTSTART:20240714T013000Z
DTEND:20240714T033000Z
SUMMARY:Game #J2-124 vs Yetti
LOCATION:Grant Fuhr West Arena
END:VEVENT
BEGIN:VEVENT
UID:G124860@sportzsoft.com
DTSTART:20240720T030000Z
DTEND:20240720T050000Z
SUMMARY:Game #J2NPL-01 vs Yetti
LOCATION:Nexsource Centre- Rink 2
END:VEVENT
BEGIN:VEVENT
UID:G124861@sportzsoft.com
DTSTART:20240720T220000Z
DTEND:20240721T000000Z
SUMMARY:Game #J2NPL-02 vs Yetti
LOCATION:Nexsource Centre- Rink 2
END:VEVENT
BEGIN:VEVENT
UID:G124862@sportzsoft.com
DTSTART:20240721T200000Z
DTEND:20240721T220000Z
SUMMARY:Game #J2NPL-03 vs Yetti (cancelled)
LOCATION:Nexsource Centre- Rink 2
END:VEVENT
END:VCALENDAR
