BEGIN:VCALENDAR
VERSION:2.0
PRODID:SportzSoftTeamWeb
TZ:+00
BEGIN:VEVENT
UID:E51917@sportzsoft.com
DTSTART:20230209T030000Z
DTEND:20230209T040000Z
SUMMARY:Event #51917 NEW Team Event
LOCATION:Penhold Multiplex
END:VEVENT
BEGIN:VEVENT
UID:G118487@sportzsoft.com
DTSTART:20230424T010000Z
DTEND:20230424T030000Z
SUMMARY:Game #EX-031 vs Rage T2
LOCATION:Spray Lakes - Turf
END:VEVENT
BEGIN:VEVENT
UID:G118097@sportzsoft.com
DTSTART:20230429T223000Z
DTEND:20230430T003000Z
SUMMARY:Game #J2S-004 vs Chaos
LOCATION:Taber Ice Arena
END:VEVENT
BEGIN:VEVENT
UID:G118110@sportzsoft.com
DTSTART:20230506T203000Z
DTEND:20230506T223000Z
SUMMARY:Game #J2S-007 vs Wranglers
LOCATION:Didsbury
END:VEVENT
BEGIN:VEVENT
UID:G118086@sportzsoft.com
DTSTART:20230507T203000Z
DTEND:20230507T223000Z
SUMMARY:Game #J2S-012 vs HR-Heat
LOCATION:Didsbury
END:VEVENT
BEGIN:VEVENT
UID:G118096@sportzsoft.com
DTSTART:20230514T203000Z
DTEND:20230514T223000Z
SUMMARY:Game #J2S-018 vs Chaos
LOCATION:Didsbury
END:VEVENT
BEGIN:VEVENT
UID:G118119@sportzsoft.com
DTSTART:20230527T020000Z
DTEND:20230527T040000Z
SUMMARY:Game #J2S-023 vs Rage T2
LOCATION:Didsbury
END:VEVENT
BEGIN:VEVENT
UID:G118060@sportzsoft.com
DTSTART:20230528T010000Z
DTEND:20230528T030000Z
SUMMARY:Game #J2S-025 vs Bandits
LOCATION:Olds Sports Complex Main
END:VEVENT
BEGIN:VEVENT
UID:G118087@sportzsoft.com
DTSTART:20230603T203000Z
DTEND:20230603T223000Z
SUMMARY:Game #J2S-030 vs HR-Heat
LOCATION:Bob Snodgrass Recreation Centre - Main
END:VEVENT
BEGIN:VEVENT
UID:G118061@sportzsoft.com
DTSTART:20230604T190000Z
DTEND:20230604T210000Z
SUMMARY:Game #J2S-033 vs Bandits
LOCATION:Stu Peppard
END:VEVENT
BEGIN:VEVENT
UID:G118075@sportzsoft.com
DTSTART:20230610T210000Z
DTEND:20230610T230000Z
SUMMARY:Game #J2S-039 vs Axemen T2
LOCATION:Stu Peppard
END:VEVENT
BEGIN:VEVENT
UID:G118104@sportzsoft.com
DTSTART:20230611T203000Z
DTEND:20230611T223000Z
SUMMARY:Game #J2S-042 vs Venom
LOCATION:Didsbury
END:VEVENT
BEGIN:VEVENT
UID:G118118@sportzsoft.com
DTSTART:20230618T010000Z
DTEND:20230618T030000Z
SUMMARY:Game #J2S-047 vs Rage T2
LOCATION:Spray Lake Sawmills Family Sports Centre - Totem 1
END:VEVENT
BEGIN:VEVENT
UID:G118115@sportzsoft.com
DTSTART:20230624T223000Z
DTEND:20230625T003000Z
SUMMARY:Game #J2S-053 vs Blackwolves
LOCATION:Memorial - Cranbrook
END:VEVENT
BEGIN:VEVENT
UID:G118111@sportzsoft.com
DTSTART:20230708T210000Z
DTEND:20230708T230000Z
SUMMARY:Game #J2S-060 vs Wranglers
LOCATION:Brentwood Sportsplex
END:VEVENT
BEGIN:VEVENT
UID:G118074@sportzsoft.com
DTSTART:20230709T203000Z
DTEND:20230709T223000Z
SUMMARY:Game #J2S-063 vs Axemen T2
LOCATION:Didsbury
END:VEVENT
BEGIN:VEVENT
UID:G118114@sportzsoft.com
DTSTART:20230716T010000Z
DTEND:20230716T030000Z
SUMMARY:Game #J2S-069 vs Blackwolves
LOCATION:Didsbury
END:VEVENT
BEGIN:VEVENT
UID:G118105@sportzsoft.com
DTSTART:20230716T210000Z
DTEND:20230716T230000Z
SUMMARY:Game #J2S-072 vs Venom
LOCATION:Strathmore Family Centre - Gold
END:VEVENT
END:VCALENDAR
